BEGIN:VCALENDAR
VERSION:2.0
PRODID:-//Visit Chomutov - ECPv5.14.2.1//NONSGML v1.0//EN
CALSCALE:GREGORIAN
METHOD:PUBLISH
X-WR-CALNAME:Visit Chomutov
X-ORIGINAL-URL:https://visit.chomutov.cz
X-WR-CALDESC:Akce na Visit Chomutov
REFRESH-INTERVAL;VALUE=DURATION:PT1H
X-Robots-Tag:noindex
X-PUBLISHED-TTL:PT1H
BEGIN:VTIMEZONE
TZID:Europe/Prague
BEGIN:DAYLIGHT
TZOFFSETFROM:+0100
TZOFFSETTO:+0200
TZNAME:CEST
DTSTART:20250330T010000
END:DAYLIGHT
BEGIN:STANDARD
TZOFFSETFROM:+0200
TZOFFSETTO:+0100
TZNAME:CET
DTSTART:20251026T010000
END:STANDARD
BEGIN:DAYLIGHT
TZOFFSETFROM:+0100
TZOFFSETTO:+0200
TZNAME:CEST
DTSTART:20260329T010000
END:DAYLIGHT
BEGIN:STANDARD
TZOFFSETFROM:+0200
TZOFFSETTO:+0100
TZNAME:CET
DTSTART:20261025T010000
END:STANDARD
END:VTIMEZONE
BEGIN:VEVENT
DTSTART;TZID=Europe/Prague:20260308T150000
DTEND;TZID=Europe/Prague:20260308T170000
DTSTAMP:20260421T115752
CREATED:20260303T080455Z
LAST-MODIFIED:20260303T080455Z
UID:12066-1772982000-1772989200@visit.chomutov.cz
SUMMARY:Florbal Chomutov x FBC KAMAT Dobruška
DESCRIPTION:florbal ČEZ EXTRALIGA ženy A
URL:https://visit.chomutov.cz/kalendar/florbal-chomutov-x-fbc-kamat-dobruska/
LOCATION:Městská sportovní hala\, Mánesova 4980\, Chomutov
CATEGORIES:sportovní akce
ATTACH;FMTTYPE=image/jpeg:https://visit.chomutov.cz/wp-content/uploads/2025/08/Florbal-Chomutov.jpg
END:VEVENT
BEGIN:VEVENT
DTSTART;TZID=Europe/Prague:20260307T090000
DTEND;TZID=Europe/Prague:20260307T090000
DTSTAMP:20260421T115752
CREATED:20260303T075451Z
LAST-MODIFIED:20260303T075451Z
UID:12053-1772874000-1772874000@visit.chomutov.cz
SUMMARY:Přebor ústeckého kraje
DESCRIPTION:VzPi\, VzPu + finále muži
URL:https://visit.chomutov.cz/kalendar/prebor-usteckeho-kraje/
LOCATION:Střelnice SSK Chomutov\, Blatenská 804\, Chomutov
CATEGORIES:sportovní akce
ATTACH;FMTTYPE=image/jpeg:https://visit.chomutov.cz/wp-content/uploads/2024/09/pexels-karolina-grabowska-5202384.jpg
END:VEVENT
BEGIN:VEVENT
DTSTART;TZID=Europe/Prague:20260306T200000
DTEND;TZID=Europe/Prague:20260306T220000
DTSTAMP:20260421T115752
CREATED:20260303T075349Z
LAST-MODIFIED:20260303T075349Z
UID:12051-1772827200-1772834400@visit.chomutov.cz
SUMMARY:FC Baník Chomutov x FTZS Liberec
DESCRIPTION:1. futsal liga muži A
URL:https://visit.chomutov.cz/kalendar/fc-banik-chomutov-x-ftzs-liberec/
LOCATION:Městská sportovní hala\, Mánesova 4980\, Chomutov
CATEGORIES:sportovní akce
ATTACH;FMTTYPE=image/jpeg:https://visit.chomutov.cz/wp-content/uploads/2023/12/IMG_1966.jpg
END:VEVENT
BEGIN:VEVENT
DTSTART;TZID=Europe/Prague:20260228T173000
DTEND;TZID=Europe/Prague:20260228T173000
DTSTAMP:20260421T115752
CREATED:20260203T144833Z
LAST-MODIFIED:20260203T144833Z
UID:12013-1772299800-1772299800@visit.chomutov.cz
SUMMARY:Piráti Chomutov x HC Dukla Jihlava
DESCRIPTION:
URL:https://visit.chomutov.cz/kalendar/pirati-chomutov-x-hc-dukla-jihlava-2/
LOCATION:Rocknet Aréna – zimní stadion\, Mostecká 5773\, Chomutov
CATEGORIES:sportovní akce
ATTACH;FMTTYPE=image/jpeg:https://visit.chomutov.cz/wp-content/uploads/2024/12/piratichomutov.jpg
END:VEVENT
BEGIN:VEVENT
DTSTART;TZID=Europe/Prague:20260228T080000
DTEND;TZID=Europe/Prague:20260228T080000
DTSTAMP:20260421T115752
CREATED:20260203T145548Z
LAST-MODIFIED:20260203T145548Z
UID:12029-1772265600-1772265600@visit.chomutov.cz
SUMMARY:Chomutovská extraliga 2025-2026 VIII. kolo
DESCRIPTION:VzPi 40\,60\, VzPu 30\,40\,60 + finále muži a dorost
URL:https://visit.chomutov.cz/kalendar/chomutovska-extraliga-2025-2026-viii-kolo/
LOCATION:Střelnice SSK Chomutov\, Blatenská 804\, Chomutov
CATEGORIES:sportovní akce
ATTACH;FMTTYPE=image/jpeg:https://visit.chomutov.cz/wp-content/uploads/2024/09/pexels-karolina-grabowska-5202384.jpg
END:VEVENT
BEGIN:VEVENT
DTSTART;TZID=Europe/Prague:20260222T180000
DTEND;TZID=Europe/Prague:20260222T200000
DTSTAMP:20260421T115752
CREATED:20260203T145440Z
LAST-MODIFIED:20260203T145440Z
UID:12027-1771783200-1771790400@visit.chomutov.cz
SUMMARY:FC Baník Chomutov x SK Slavia Praha
DESCRIPTION:1. futsal liga muži A
URL:https://visit.chomutov.cz/kalendar/fc-banik-chomutov-x-sk-slavia-praha/
LOCATION:Městská sportovní hala\, Mánesova 4980\, Chomutov
CATEGORIES:sportovní akce
ATTACH;FMTTYPE=image/jpeg:https://visit.chomutov.cz/wp-content/uploads/2023/12/IMG_1966.jpg
END:VEVENT
BEGIN:VEVENT
DTSTART;TZID=Europe/Prague:20260221T180000
DTEND;TZID=Europe/Prague:20260221T200000
DTSTAMP:20260421T115752
CREATED:20260203T145344Z
LAST-MODIFIED:20260203T145344Z
UID:12025-1771696800-1771704000@visit.chomutov.cz
SUMMARY:Florbal Chomutov x FBS Olomouc
DESCRIPTION:florbal muži A
URL:https://visit.chomutov.cz/kalendar/florbal-chomutov-x-fbs-olomouc/
LOCATION:Městská sportovní hala\, Mánesova 4980\, Chomutov
CATEGORIES:sportovní akce
ATTACH;FMTTYPE=image/jpeg:https://visit.chomutov.cz/wp-content/uploads/2025/08/Florbal-Chomutov.jpg
END:VEVENT
BEGIN:VEVENT
DTSTART;TZID=Europe/Prague:20260221T150000
DTEND;TZID=Europe/Prague:20260221T170000
DTSTAMP:20260421T115752
CREATED:20260203T145254Z
LAST-MODIFIED:20260203T145254Z
UID:12023-1771686000-1771693200@visit.chomutov.cz
SUMMARY:Florbal Chomutov x Logisteed Tatran Střešovice
DESCRIPTION:florbal ČEZ EXTRALIGA ženy A
URL:https://visit.chomutov.cz/kalendar/florbal-chomutov-x-logisteed-tatran-stresovice/
LOCATION:Městská sportovní hala\, Mánesova 4980\, Chomutov
CATEGORIES:sportovní akce
ATTACH;FMTTYPE=image/jpeg:https://visit.chomutov.cz/wp-content/uploads/2025/08/Florbal-Chomutov.jpg
END:VEVENT
BEGIN:VEVENT
DTSTART;TZID=Europe/Prague:20260215T153000
DTEND;TZID=Europe/Prague:20260215T173000
DTSTAMP:20260421T115752
CREATED:20260203T145203Z
LAST-MODIFIED:20260203T145203Z
UID:12021-1771169400-1771176600@visit.chomutov.cz
SUMMARY:Florbal Chomutov x Olymp Florbal
DESCRIPTION:junioři
URL:https://visit.chomutov.cz/kalendar/florbal-chomutov-x-olymp-florbal/
LOCATION:Městská sportovní hala\, Mánesova 4980\, Chomutov
CATEGORIES:sportovní akce
ATTACH;FMTTYPE=image/jpeg:https://visit.chomutov.cz/wp-content/uploads/2025/08/Florbal-Chomutov.jpg
END:VEVENT
BEGIN:VEVENT
DTSTART;TZID=Europe/Prague:20260214T183000
DTEND;TZID=Europe/Prague:20260214T203000
DTSTAMP:20260421T115752
CREATED:20260203T145106Z
LAST-MODIFIED:20260203T145106Z
UID:12019-1771093800-1771101000@visit.chomutov.cz
SUMMARY:Florbal Chomutov x FBC Štíři České Budějovice
DESCRIPTION:junioři
URL:https://visit.chomutov.cz/kalendar/florbal-chomutov-x-fbc-stiri-ceske-budejovice/
LOCATION:Městská sportovní hala\, Mánesova 4980\, Chomutov
CATEGORIES:sportovní akce
ATTACH;FMTTYPE=image/jpeg:https://visit.chomutov.cz/wp-content/uploads/2025/08/Florbal-Chomutov.jpg
END:VEVENT
BEGIN:VEVENT
DTSTART;TZID=Europe/Prague:20260214T173000
DTEND;TZID=Europe/Prague:20260214T173000
DTSTAMP:20260421T115752
CREATED:20260203T145012Z
LAST-MODIFIED:20260203T145012Z
UID:12017-1771090200-1771090200@visit.chomutov.cz
SUMMARY:Piráti Chomutov x RI Okna Berani Zlín
DESCRIPTION:
URL:https://visit.chomutov.cz/kalendar/pirati-chomutov-x-ri-okna-berani-zlin/
LOCATION:Rocknet Aréna – zimní stadion\, Mostecká 5773\, Chomutov
CATEGORIES:sportovní akce
ATTACH;FMTTYPE=image/jpeg:https://visit.chomutov.cz/wp-content/uploads/2024/12/piratichomutov.jpg
END:VEVENT
BEGIN:VEVENT
DTSTART;TZID=Europe/Prague:20260213T190000
DTEND;TZID=Europe/Prague:20260213T210000
DTSTAMP:20260421T115752
CREATED:20260203T144932Z
LAST-MODIFIED:20260203T144932Z
UID:12015-1771009200-1771016400@visit.chomutov.cz
SUMMARY:BK Levhartice x DSK Baskatball Brandýs nad Labem
DESCRIPTION:ŽBL
URL:https://visit.chomutov.cz/kalendar/bk-levhartice-x-dsk-baskatball-brandys-nad-labem/
LOCATION:Městská sportovní hala\, Mánesova 4980\, Chomutov
CATEGORIES:sportovní akce
ATTACH;FMTTYPE=image/png:https://visit.chomutov.cz/wp-content/uploads/2022/10/bk-levharti.png
END:VEVENT
BEGIN:VEVENT
DTSTART;TZID=Europe/Prague:20260209T180000
DTEND;TZID=Europe/Prague:20260209T180000
DTSTAMP:20260421T115752
CREATED:20260203T130641Z
LAST-MODIFIED:20260203T130641Z
UID:11911-1770660000-1770660000@visit.chomutov.cz
SUMMARY:Nejúspěšnější sportovec roku okresu Chomutov
DESCRIPTION:slavnostní vyhlášení
URL:https://visit.chomutov.cz/kalendar/nejuspesnejsi-sportovec-roku-okresu-chomutov/
LOCATION:Městské divadlo\, Boženy Němcové 552/32\, Chomutov
CATEGORIES:sportovní akce,zábavní pořady
ATTACH;FMTTYPE=image/png:https://visit.chomutov.cz/wp-content/uploads/2026/02/sportovec-roku.png
END:VEVENT
BEGIN:VEVENT
DTSTART;TZID=Europe/Prague:20260208T093000
DTEND;TZID=Europe/Prague:20260208T170000
DTSTAMP:20260421T115752
CREATED:20260203T134605Z
LAST-MODIFIED:20260203T134605Z
UID:11935-1770543000-1770570000@visit.chomutov.cz
SUMMARY:Lounská Sportka
DESCRIPTION:SPVzPi 30+30
URL:https://visit.chomutov.cz/kalendar/lounska-sportka/
LOCATION:Střelnice SSK Chomutov\, Blatenská 804\, Chomutov
CATEGORIES:sportovní akce
ATTACH;FMTTYPE=image/jpeg:https://visit.chomutov.cz/wp-content/uploads/2024/09/pexels-karolina-grabowska-5202384.jpg
END:VEVENT
BEGIN:VEVENT
DTSTART;TZID=Europe/Prague:20260207T140000
DTEND;TZID=Europe/Prague:20260207T160000
DTSTAMP:20260421T115752
CREATED:20260203T134402Z
LAST-MODIFIED:20260203T134402Z
UID:11933-1770472800-1770480000@visit.chomutov.cz
SUMMARY:Florbal Chomutov x ASK ORKA Stará Boleslav
DESCRIPTION:florbal muži A
URL:https://visit.chomutov.cz/kalendar/florbal-chomutov-x-ask-orka-stara-boleslav/
LOCATION:Městská sportovní hala\, Mánesova 4980\, Chomutov
CATEGORIES:sportovní akce
ATTACH;FMTTYPE=image/jpeg:https://visit.chomutov.cz/wp-content/uploads/2025/08/Florbal-Chomutov.jpg
END:VEVENT
BEGIN:VEVENT
DTSTART;TZID=Europe/Prague:20260207T080000
DTEND;TZID=Europe/Prague:20260207T170000
DTSTAMP:20260421T115752
CREATED:20260203T132300Z
LAST-MODIFIED:20260203T132300Z
UID:11931-1770451200-1770483600@visit.chomutov.cz
SUMMARY:Chomutovská extraliga 2025-2026 VII. kolo
DESCRIPTION:VzPi 40\,60\, VzPu 30\,40\,60
URL:https://visit.chomutov.cz/kalendar/chomutovska-extraliga-2025-2026-vii-kolo/
LOCATION:Střelnice SSK Chomutov\, Blatenská 804\, Chomutov
CATEGORIES:sportovní akce
ATTACH;FMTTYPE=image/jpeg:https://visit.chomutov.cz/wp-content/uploads/2024/09/pexels-karolina-grabowska-5202384.jpg
END:VEVENT
BEGIN:VEVENT
DTSTART;VALUE=DATE:20260202
DTEND;VALUE=DATE:20260209
DTSTAMP:20260421T115752
CREATED:20260203T132026Z
LAST-MODIFIED:20260203T132026Z
UID:11928-1769990400-1770595199@visit.chomutov.cz
SUMMARY:Veřejné bruslení o jarních prázdninách
DESCRIPTION:
URL:https://visit.chomutov.cz/kalendar/verejne-brusleni-o-jarnich-prazdninach-3/
LOCATION:Rocknet Aréna – zimní stadion\, Mostecká 5773\, Chomutov
CATEGORIES:pro děti,sportovní akce
ATTACH;FMTTYPE=image/jpeg:https://visit.chomutov.cz/wp-content/uploads/2026/02/verejne-brusleni-jarni-prazdniny-2025-2026-1-page-001-scaled.jpg
END:VEVENT
BEGIN:VEVENT
DTSTART;TZID=Europe/Prague:20251231T130000
DTEND;TZID=Europe/Prague:20251231T150000
DTSTAMP:20260421T115752
CREATED:20251201T073606Z
LAST-MODIFIED:20251201T073637Z
UID:11741-1767186000-1767193200@visit.chomutov.cz
SUMMARY:Silvestr na ledě
DESCRIPTION:
URL:https://visit.chomutov.cz/kalendar/silvestr-na-lede-3/
LOCATION:Rocknet Aréna – zimní stadion\, Mostecká 5773\, Chomutov
CATEGORIES:sportovní akce,Vánoce
ATTACH;FMTTYPE=image/jpeg:https://visit.chomutov.cz/wp-content/uploads/2022/09/brusleni.jpg
END:VEVENT
BEGIN:VEVENT
DTSTART;TZID=Europe/Prague:20251229T173000
DTEND;TZID=Europe/Prague:20251229T173000
DTSTAMP:20260421T115752
CREATED:20251201T085235Z
LAST-MODIFIED:20251201T085235Z
UID:11780-1767029400-1767029400@visit.chomutov.cz
SUMMARY:Piráti Chomutov - SK Horácká Slavia Třebíč
DESCRIPTION:
URL:https://visit.chomutov.cz/kalendar/pirati-chomutov-sk-horacka-slavia-trebic/
LOCATION:Rocknet Aréna – zimní stadion\, Mostecká 5773\, Chomutov
CATEGORIES:sportovní akce
ATTACH;FMTTYPE=image/jpeg:https://visit.chomutov.cz/wp-content/uploads/2024/12/piratichomutov.jpg
END:VEVENT
BEGIN:VEVENT
DTSTART;TZID=Europe/Prague:20251225T100000
DTEND;TZID=Europe/Prague:20251225T100000
DTSTAMP:20260421T115752
CREATED:20251201T085308Z
LAST-MODIFIED:20251201T085308Z
UID:11782-1766656800-1766656800@visit.chomutov.cz
SUMMARY:Čokoládový běh
DESCRIPTION:
URL:https://visit.chomutov.cz/kalendar/cokoladovy-beh-2/
LOCATION:Kamencové jezero\, Tomáše ze Štítného 5971\, Chomutov
CATEGORIES:sportovní akce
ATTACH;FMTTYPE=image/jpeg:https://visit.chomutov.cz/wp-content/uploads/2023/11/DJI_0614-1.jpg
END:VEVENT
BEGIN:VEVENT
DTSTART;TZID=Europe/Prague:20251221T153000
DTEND;TZID=Europe/Prague:20251221T173000
DTSTAMP:20260421T115752
CREATED:20251201T085548Z
LAST-MODIFIED:20251201T085548Z
UID:11786-1766331000-1766338200@visit.chomutov.cz
SUMMARY:Levhartice Chomutov - SLUNETA Ústí nad Labem
DESCRIPTION:basketbal juniorky U19
URL:https://visit.chomutov.cz/kalendar/levhartice-chomutov-sluneta/
LOCATION:Městská sportovní hala\, Mánesova 4980\, Chomutov
CATEGORIES:sportovní akce
ATTACH;FMTTYPE=image/png:https://visit.chomutov.cz/wp-content/uploads/2022/10/bk-levharti.png
END:VEVENT
BEGIN:VEVENT
DTSTART;TZID=Europe/Prague:20251221T153000
DTEND;TZID=Europe/Prague:20251221T153000
DTSTAMP:20260421T115752
CREATED:20251201T085358Z
LAST-MODIFIED:20251201T085358Z
UID:11784-1766331000-1766331000@visit.chomutov.cz
SUMMARY:Piráti Chomutov - HC Tábor
DESCRIPTION:
URL:https://visit.chomutov.cz/kalendar/pirati-chomutov-hc-tabor/
LOCATION:Rocknet Aréna – zimní stadion\, Mostecká 5773\, Chomutov
CATEGORIES:sportovní akce
ATTACH;FMTTYPE=image/jpeg:https://visit.chomutov.cz/wp-content/uploads/2024/12/piratichomutov.jpg
END:VEVENT
BEGIN:VEVENT
DTSTART;TZID=Europe/Prague:20251220T173000
DTEND;TZID=Europe/Prague:20251220T173000
DTSTAMP:20260421T115752
CREATED:20251201T090315Z
LAST-MODIFIED:20251201T090315Z
UID:11797-1766251800-1766251800@visit.chomutov.cz
SUMMARY:Piráti Chomutov - HC Frýdek-Místek
DESCRIPTION:
URL:https://visit.chomutov.cz/kalendar/pirati-chomutov-hc-frydek-mistek/
LOCATION:Rocknet Aréna – zimní stadion\, Mostecká 5773\, Chomutov
CATEGORIES:sportovní akce
ATTACH;FMTTYPE=image/jpeg:https://visit.chomutov.cz/wp-content/uploads/2024/12/piratichomutov.jpg
END:VEVENT
BEGIN:VEVENT
DTSTART;TZID=Europe/Prague:20251220T150000
DTEND;TZID=Europe/Prague:20251220T170000
DTSTAMP:20260421T115752
CREATED:20251201T090426Z
LAST-MODIFIED:20251201T090426Z
UID:11799-1766242800-1766250000@visit.chomutov.cz
SUMMARY:Florbal Chomutov - Gullivers Brno
DESCRIPTION:florbal muži A
URL:https://visit.chomutov.cz/kalendar/florbal-chomutov-gullivers-brno/
LOCATION:Městská sportovní hala\, Mánesova 4980\, Chomutov
CATEGORIES:sportovní akce
ATTACH;FMTTYPE=image/jpeg:https://visit.chomutov.cz/wp-content/uploads/2025/08/Florbal-Chomutov.jpg
END:VEVENT
BEGIN:VEVENT
DTSTART;TZID=Europe/Prague:20251220T080000
DTEND;TZID=Europe/Prague:20251220T080000
DTSTAMP:20260421T115752
CREATED:20251201T090509Z
LAST-MODIFIED:20251201T090523Z
UID:11801-1766217600-1766217600@visit.chomutov.cz
SUMMARY:Chomutovská extraliga 2025-2026
DESCRIPTION:V. kolo – VzPi 40\,60\, VzPu 30\,40\,60
URL:https://visit.chomutov.cz/kalendar/chomutovska-extraliga-2025-2026-5/
LOCATION:Střelnice SSK Chomutov\, Blatenská 804\, Chomutov
CATEGORIES:sportovní akce
ATTACH;FMTTYPE=image/jpeg:https://visit.chomutov.cz/wp-content/uploads/2024/09/pexels-karolina-grabowska-5202384.jpg
END:VEVENT
BEGIN:VEVENT
DTSTART;TZID=Europe/Prague:20251214T180000
DTEND;TZID=Europe/Prague:20251214T200000
DTSTAMP:20260421T115752
CREATED:20251201T090616Z
LAST-MODIFIED:20251201T090616Z
UID:11803-1765735200-1765742400@visit.chomutov.cz
SUMMARY:FC Baník Chomutov - 1.FC Nejzbach Vysoké Mýto
DESCRIPTION:1. futsal liga muži A
URL:https://visit.chomutov.cz/kalendar/fc-banik-chomutov-1-fc-nejzbach-vysoke-myto/
LOCATION:Městská sportovní hala\, Mánesova 4980\, Chomutov
CATEGORIES:sportovní akce
ATTACH;FMTTYPE=image/jpeg:https://visit.chomutov.cz/wp-content/uploads/2023/12/IMG_1966.jpg
END:VEVENT
BEGIN:VEVENT
DTSTART;TZID=Europe/Prague:20251214T150000
DTEND;TZID=Europe/Prague:20251214T170000
DTSTAMP:20260421T115752
CREATED:20251201T090133Z
LAST-MODIFIED:20251201T090133Z
UID:11793-1765724400-1765731600@visit.chomutov.cz
SUMMARY:Levharti Chomutov - CZ.ACADEMY
DESCRIPTION:1. liga muži
URL:https://visit.chomutov.cz/kalendar/levharti-chomutov-cz-academy/
LOCATION:Městská sportovní hala\, Mánesova 4980\, Chomutov
CATEGORIES:sportovní akce
END:VEVENT
BEGIN:VEVENT
DTSTART;TZID=Europe/Prague:20251214T120000
DTEND;TZID=Europe/Prague:20251214T140000
DTSTAMP:20260421T115752
CREATED:20251201T090015Z
LAST-MODIFIED:20251201T090015Z
UID:11791-1765713600-1765720800@visit.chomutov.cz
SUMMARY:Levhartice Chomutov - DBaK
DESCRIPTION:1\, liga ženy
URL:https://visit.chomutov.cz/kalendar/levhartice-chomutov-dbak/
LOCATION:Městská sportovní hala\, Mánesova 4980\, Chomutov
CATEGORIES:sportovní akce
ATTACH;FMTTYPE=image/png:https://visit.chomutov.cz/wp-content/uploads/2022/10/bk-levharti.png
END:VEVENT
BEGIN:VEVENT
DTSTART;VALUE=DATE:20251213
DTEND;VALUE=DATE:20251215
DTSTAMP:20260421T115752
CREATED:20251201T073431Z
LAST-MODIFIED:20251201T073431Z
UID:11739-1765584000-1765756799@visit.chomutov.cz
SUMMARY:Zimní Mistrovství ČR - mladší žactvo
DESCRIPTION:plavecké závody (sobota – 7.30-21\, neděle 7.30-14.00\nOmezená kapacita relaxační části.
URL:https://visit.chomutov.cz/kalendar/zimni-mistrovstvi-cr-mladsi-zactvo/
LOCATION:Aquasvět\, Mostecká 5887\, Chomutov
CATEGORIES:sportovní akce
ATTACH;FMTTYPE=image/jpeg:https://visit.chomutov.cz/wp-content/uploads/2022/11/plavani.jpg
ORGANIZER;CN="TJ%20Sl%C3%A1vie%20Chomutov":MAILTO:slcho@slaviechomutov.cz
END:VEVENT
BEGIN:VEVENT
DTSTART;TZID=Europe/Prague:20251212T190000
DTEND;TZID=Europe/Prague:20251212T210000
DTSTAMP:20260421T115752
CREATED:20251201T085856Z
LAST-MODIFIED:20251201T085856Z
UID:11789-1765566000-1765573200@visit.chomutov.cz
SUMMARY:Levhartice Chomutov - Slovanka
DESCRIPTION:ženská basketbalová liga
URL:https://visit.chomutov.cz/kalendar/levhartice-chomutov-slovanka/
LOCATION:Městská sportovní hala\, Mánesova 4980\, Chomutov
CATEGORIES:sportovní akce
ATTACH;FMTTYPE=image/png:https://visit.chomutov.cz/wp-content/uploads/2022/10/bk-levharti.png
END:VEVENT
END:VCALENDAR