BEGIN:VCALENDAR
VERSION:2.0
PRODID:-//Visit Chomutov - ECPv5.14.2.1//NONSGML v1.0//EN
CALSCALE:GREGORIAN
METHOD:PUBLISH
X-WR-CALNAME:Visit Chomutov
X-ORIGINAL-URL:https://visit.chomutov.cz
X-WR-CALDESC:Akce na Visit Chomutov
REFRESH-INTERVAL;VALUE=DURATION:PT1H
X-Robots-Tag:noindex
X-PUBLISHED-TTL:PT1H
BEGIN:VTIMEZONE
TZID:Europe/Prague
BEGIN:DAYLIGHT
TZOFFSETFROM:+0100
TZOFFSETTO:+0200
TZNAME:CEST
DTSTART:20240331T010000
END:DAYLIGHT
BEGIN:STANDARD
TZOFFSETFROM:+0200
TZOFFSETTO:+0100
TZNAME:CET
DTSTART:20241027T010000
END:STANDARD
BEGIN:DAYLIGHT
TZOFFSETFROM:+0100
TZOFFSETTO:+0200
TZNAME:CEST
DTSTART:20250330T010000
END:DAYLIGHT
BEGIN:STANDARD
TZOFFSETFROM:+0200
TZOFFSETTO:+0100
TZNAME:CET
DTSTART:20251026T010000
END:STANDARD
END:VTIMEZONE
BEGIN:VEVENT
DTSTART;VALUE=DATE:20250412
DTEND;VALUE=DATE:20250414
DTSTAMP:20260422T085144
CREATED:20250326T141440Z
LAST-MODIFIED:20250326T141440Z
UID:9552-1744416000-1744588799@visit.chomutov.cz
SUMMARY:Mezinárodní hokejový turnaj mládeže
DESCRIPTION:
URL:https://visit.chomutov.cz/kalendar/mezinarodni-hokejovy-turnaj-mladeze/
LOCATION:Rocknet Aréna – zimní stadion\, Mostecká 5773\, Chomutov
CATEGORIES:sportovní akce
ATTACH;FMTTYPE=image/jpeg:https://visit.chomutov.cz/wp-content/uploads/2025/03/pexels-tony-schnagl-6468938.jpg
END:VEVENT
BEGIN:VEVENT
DTSTART;TZID=Europe/Prague:20250410T171500
DTEND;TZID=Europe/Prague:20250410T171500
DTSTAMP:20260422T085144
CREATED:20250326T081825Z
LAST-MODIFIED:20250326T081825Z
UID:9474-1744305300-1744305300@visit.chomutov.cz
SUMMARY:Házená: Česko x Ukrajina
DESCRIPTION:Play-off o MS 2025
URL:https://visit.chomutov.cz/kalendar/hazena-cesko-x-ukrajina/
LOCATION:Rocknet Aréna – zimní stadion\, Mostecká 5773\, Chomutov
CATEGORIES:sportovní akce
ATTACH;FMTTYPE=image/jpeg:https://visit.chomutov.cz/wp-content/uploads/2025/03/Hazena-playoff.jpg
END:VEVENT
BEGIN:VEVENT
DTSTART;TZID=Europe/Prague:20250408T081500
DTEND;TZID=Europe/Prague:20250408T081500
DTSTAMP:20260422T085144
CREATED:20250326T092354Z
LAST-MODIFIED:20250326T092354Z
UID:9491-1744100100-1744100100@visit.chomutov.cz
SUMMARY:Nordic walking Strupčice–Chomutov
DESCRIPTION:sraz na autobusovém nádraží v Chomutově
URL:https://visit.chomutov.cz/kalendar/nordic-walking-strupcice-chomutov/
CATEGORIES:sportovní akce
ATTACH;FMTTYPE=image/jpeg:https://visit.chomutov.cz/wp-content/uploads/2025/03/nordic-walking-e1742980985150.jpg
END:VEVENT
BEGIN:VEVENT
DTSTART;TZID=Europe/Prague:20250406T090000
DTEND;TZID=Europe/Prague:20250406T090000
DTSTAMP:20260422T085144
CREATED:20250326T083101Z
LAST-MODIFIED:20250326T083101Z
UID:9489-1743930000-1743930000@visit.chomutov.cz
SUMMARY:Dorostenecká Sportka
DESCRIPTION:SP 30+30
URL:https://visit.chomutov.cz/kalendar/dorostenecka-sportka/
LOCATION:Střelnice SSK Chomutov\, Blatenská 804\, Chomutov
CATEGORIES:sportovní akce
ATTACH;FMTTYPE=image/jpeg:https://visit.chomutov.cz/wp-content/uploads/2024/09/pexels-karolina-grabowska-5202384.jpg
END:VEVENT
BEGIN:VEVENT
DTSTART;TZID=Europe/Prague:20250405T150000
DTEND;TZID=Europe/Prague:20250405T170000
DTSTAMP:20260422T085144
CREATED:20250326T082940Z
LAST-MODIFIED:20250326T082940Z
UID:9487-1743865200-1743872400@visit.chomutov.cz
SUMMARY:Florbal Chomutov - ženy A semifinále
DESCRIPTION:
URL:https://visit.chomutov.cz/kalendar/florbal-chomutov-zeny-a-semifinale/
LOCATION:Městská sportovní hala\, Mánesova 4980\, Chomutov
CATEGORIES:sportovní akce
ATTACH;FMTTYPE=image/jpeg:https://visit.chomutov.cz/wp-content/uploads/2023/09/florbal.jpg
END:VEVENT
BEGIN:VEVENT
DTSTART;TZID=Europe/Prague:20250405T100000
DTEND;TZID=Europe/Prague:20250405T100000
DTSTAMP:20260422T085144
CREATED:20250326T074049Z
LAST-MODIFIED:20250326T074049Z
UID:9443-1743847200-1743847200@visit.chomutov.cz
SUMMARY:Fyzičky na(ne)čisto
DESCRIPTION:CO VZÍT S SEBOU:\nSportovní oblečení\, obuv do tělocvičny a zvláště obuv na venkovní běžecký okruh (běh na 1 km probíhá na běžeckém oválu)\, pití.\nCO MŮŽEŠ ZÍSKAT:\nPři úspěšném splnění fyzických testů obdržíš osvědčení s dobou platnosti 1\,5 roku\, které využiješ třeba po maturitě v rámci přijímacího řízení k Policii ČR.\nS KÝM SE TAM POTKÁŠ:\nPolicejní instruktoři/bojaři a další policisté z Krajského ředitelství policie Ústeckého kraje\nHokejisté Pirátů Chomutov
URL:https://visit.chomutov.cz/kalendar/fyzicky-nanecisto/
CATEGORIES:sportovní akce
ATTACH;FMTTYPE=image/jpeg:https://visit.chomutov.cz/wp-content/uploads/2025/03/Fyzicky-nanecisto.jpg
END:VEVENT
BEGIN:VEVENT
DTSTART;TZID=Europe/Prague:20250404T190000
DTEND;TZID=Europe/Prague:20250404T210000
DTSTAMP:20260422T085144
CREATED:20250326T082746Z
LAST-MODIFIED:20250326T082746Z
UID:9485-1743793200-1743800400@visit.chomutov.cz
SUMMARY:BK Levharti Chomutov - basketbal - muži A
DESCRIPTION:
URL:https://visit.chomutov.cz/kalendar/bk-levharti-chomutov-basketbal-muzi-a/
LOCATION:Městská sportovní hala\, Mánesova 4980\, Chomutov
CATEGORIES:sportovní akce
ATTACH;FMTTYPE=image/png:https://visit.chomutov.cz/wp-content/uploads/2022/10/bk-levharti.png
END:VEVENT
BEGIN:VEVENT
DTSTART;TZID=Europe/Prague:20250329T101500
DTEND;TZID=Europe/Prague:20250329T101500
DTSTAMP:20260422T085144
CREATED:20250304T091935Z
LAST-MODIFIED:20250304T091935Z
UID:9237-1743243300-1743243300@visit.chomutov.cz
SUMMARY:FC CHOMUTOV- PETŘÍN PLZEŇ
DESCRIPTION:
URL:https://visit.chomutov.cz/kalendar/fc-chomutov-petrin-plzen/
LOCATION:Letní stadion\, Mostecká 5886\, Chomutov
CATEGORIES:sportovní akce
ATTACH;FMTTYPE=image/jpeg:https://visit.chomutov.cz/wp-content/uploads/2022/05/fotbal-1.jpg
END:VEVENT
BEGIN:VEVENT
DTSTART;TZID=Europe/Prague:20250319T170000
DTEND;TZID=Europe/Prague:20250325T000000
DTSTAMP:20260422T085144
CREATED:20250304T092415Z
LAST-MODIFIED:20250304T092415Z
UID:9239-1742403600-1742860800@visit.chomutov.cz
SUMMARY:Česká fotbalová reprezentace do 19 let
DESCRIPTION:19.3. 17.00 LUCEMBURSKO 19 – ČESKO 19\n22.3. 17.00 ČESKO 19 – CHORVATSKO 19\n25.3. 17.00 ČESKO 19 – NIZOZEMSKO
URL:https://visit.chomutov.cz/kalendar/ceska-fotbalova-reprezentace-do-19-let/
CATEGORIES:sportovní akce
ATTACH;FMTTYPE=image/png:https://visit.chomutov.cz/wp-content/uploads/2025/03/slovakia-v-france-uefa-european-under-19-championship-2022-group-a.png
END:VEVENT
BEGIN:VEVENT
DTSTART;TZID=Europe/Prague:20250315T170000
DTEND;TZID=Europe/Prague:20250315T170000
DTSTAMP:20260422T085144
CREATED:20250304T091637Z
LAST-MODIFIED:20250304T091637Z
UID:9235-1742058000-1742058000@visit.chomutov.cz
SUMMARY:FC CHOMUTOV- MOTORLET PRAHA
DESCRIPTION:
URL:https://visit.chomutov.cz/kalendar/fc-chomutov-motorlet-praha/
LOCATION:Letní stadion\, Mostecká 5886\, Chomutov
CATEGORIES:sportovní akce
ATTACH;FMTTYPE=image/jpeg:https://visit.chomutov.cz/wp-content/uploads/2022/05/fotbal-1.jpg
END:VEVENT
BEGIN:VEVENT
DTSTART;TZID=Europe/Prague:20250311T093000
DTEND;TZID=Europe/Prague:20250311T093000
DTSTAMP:20260422T085144
CREATED:20250304T091305Z
LAST-MODIFIED:20250304T091305Z
UID:9232-1741685400-1741685400@visit.chomutov.cz
SUMMARY:Pochod pro mozek
DESCRIPTION:pojďte se projít pro zdraví a dobrou náladu i v roce 2025\, celostátní osvětová akce pod záštitou Evy Pavlové (Chomutov – Červený Hrádek)
URL:https://visit.chomutov.cz/kalendar/pochod-pro-mozek/
CATEGORIES:sportovní akce
ATTACH;FMTTYPE=image/jpeg:https://visit.chomutov.cz/wp-content/uploads/2025/03/Pochod-pro-mozek-scaled.jpg
END:VEVENT
BEGIN:VEVENT
DTSTART;TZID=Europe/Prague:20250310T080000
DTEND;TZID=Europe/Prague:20250314T160000
DTSTAMP:20260422T085144
CREATED:20250304T100840Z
LAST-MODIFIED:20250304T101027Z
UID:9256-1741593600-1741968000@visit.chomutov.cz
SUMMARY:Jarní prázdniny v Aquasvětě
DESCRIPTION:akce pro děti od 6 do 12 let. výuka plavání\, soutěže a hry ve vodě pod dozorem školených instruktorek\, v době odpočinku v klubovně\, jsou připravené motivační a relaxační hry ( věci na převlečení s sebou)\, doporučujeme láhev na pití
URL:https://visit.chomutov.cz/kalendar/jarni-prazdniny-v-aquasvete-2/
LOCATION:Aquasvět\, Mostecká 5887\, Chomutov
CATEGORIES:pro děti,sportovní akce
ATTACH;FMTTYPE=image/jpeg:https://visit.chomutov.cz/wp-content/uploads/2025/03/Prazdniny-a-Aquasvete.jpg
END:VEVENT
BEGIN:VEVENT
DTSTART;VALUE=DATE:20250309
DTEND;VALUE=DATE:20250330
DTSTAMP:20260422T085144
CREATED:20250225T101553Z
LAST-MODIFIED:20250225T101553Z
UID:9214-1741478400-1743292799@visit.chomutov.cz
SUMMARY:Handball klub Chomutov - zápasy březen 2025
DESCRIPTION:9.3. 14.00 HANDBALL KLUB CHOMUTOV X TJ Kovofiniš Ledec nad Sázavou\n9.3. 16-00 HANDBALL KLUB CHOMUTOV X TJ DUKLA Praha B\n29.3. 16.00 HANDBALL KLUB CHOMUTOV x TJ Kobylisy
URL:https://visit.chomutov.cz/kalendar/handball-klub-chomutov-zapasy-brezen-2025/
LOCATION:Městská sportovní hala\, Mánesova 4980\, Chomutov
CATEGORIES:sportovní akce
ATTACH;FMTTYPE=image/jpeg:https://visit.chomutov.cz/wp-content/uploads/2025/02/470217850_2070933833361998_4737579428678059572_n-e1740478505537.jpg
END:VEVENT
BEGIN:VEVENT
DTSTART;VALUE=DATE:20250302
DTEND;VALUE=DATE:20250324
DTSTAMP:20260422T085144
CREATED:20221003T112543Z
LAST-MODIFIED:20250225T100722Z
UID:2649-1740873600-1742774399@visit.chomutov.cz
SUMMARY:BK Levharti Chomutov - zápasy březen 2025
DESCRIPTION:2.3. 18.00 Levharti Chomutov x BK VIVIDBOOKS Pardubice- 1. liga mužů     \n5.3. 19.00 LOH 2028 x DSK Basketball Brandýs n/L- ženská basketbalová liga\n7.3. 19.00 LOH 2028 x Sokol Hradec Králové -ženská basketbalová liga\n9.3. 10:30 Levhartice Chomutov x Žabiny Brno- ženská basketbalová liga\n14.3. 19.00 Levharti Chomutov x Snakes Ostrava – 1. liga mužů\n22.3. 16.00 Levhartice Chomutov U19 x SBŠ Ostrava- extraliga juniorek\n23.3. 9.00 Levhartice Chomutov U19 x Basket Ostrava- extraliga juniorek
URL:https://visit.chomutov.cz/kalendar/bk-levharti-chomutov/
LOCATION:Městská sportovní hala\, Mánesova 4980\, Chomutov
CATEGORIES:sportovní akce
ATTACH;FMTTYPE=image/png:https://visit.chomutov.cz/wp-content/uploads/2022/10/bk-levharti.png
END:VEVENT
BEGIN:VEVENT
DTSTART;VALUE=DATE:20250301
DTEND;VALUE=DATE:20250331
DTSTAMP:20260422T085144
CREATED:20241218T070949Z
LAST-MODIFIED:20250225T100216Z
UID:8949-1740787200-1743379199@visit.chomutov.cz
SUMMARY:Střelecké závody - březen 2025
DESCRIPTION:1.3. 8.00 VIII. kolo Chomutovské extraligy 2024/25 VzPi 40\,60\, VzPu 30\,40\,60 a Finále muži a dorost\n8.3. 9.00 IV. kolo Chomutovské sportky 2024/25 SPVzPi 30+30\n9.3. 9.00 Finále VzPi veteráni\, ženy\, žactvo s oporou\, VzPu muži+ženy+juniorky\n22.3. 9.00 MČR AVZO VzPu\, VzPi\n28.- 30.3. MČR v rychlých vzduchovkových disciplinách
URL:https://visit.chomutov.cz/kalendar/strelecke-zavody-brezen-2025/
LOCATION:Střelnice SSK Chomutov\, Blatenská 804\, Chomutov
CATEGORIES:sportovní akce
ATTACH;FMTTYPE=image/jpeg:https://visit.chomutov.cz/wp-content/uploads/2022/05/pistole.jpg
END:VEVENT
BEGIN:VEVENT
DTSTART;TZID=Europe/Prague:20250223T130000
DTEND;TZID=Europe/Prague:20250223T150000
DTSTAMP:20260422T085144
CREATED:20250205T133744Z
LAST-MODIFIED:20250205T133744Z
UID:9138-1740315600-1740322800@visit.chomutov.cz
SUMMARY:Vzpomínkové setkání - Jiří Hyjánek
DESCRIPTION:23. ledna odešel do sportovního nebe Jiří Hyjánek. Byl trenérem a funkcionářem TJ VTŽ CHOMUTOV. Přijďte zavzpomínat\, položit květinu či zapálit svíčku.
URL:https://visit.chomutov.cz/kalendar/vzpominkove-setkani-jiri-hyjanek/
LOCATION:Letní stadion\, Mostecká 5886\, Chomutov
CATEGORIES:sportovní akce
ATTACH;FMTTYPE=image/jpeg:https://visit.chomutov.cz/wp-content/uploads/2025/02/Vzpominkove-setkani-Hyjanek.jpg
END:VEVENT
BEGIN:VEVENT
DTSTART;VALUE=DATE:20250212
DTEND;VALUE=DATE:20250217
DTSTAMP:20260422T085144
CREATED:20230220T155406Z
LAST-MODIFIED:20250207T081347Z
UID:3477-1739318400-1739750399@visit.chomutov.cz
SUMMARY:BK Levharti Chomutov - zápasy únor 2025
DESCRIPTION:12.2. 19.00 Levhartice Chomutov – SBŠ Ostrava – ženská basketbalová liga Městská sportovní hala\n14.2. 19.00 Levhartice Chomutov – Kara Trutnov – ženská basketbalová liga Městská sportovní hala\n15.2. 14.00 Levharti Chomutov – GBA Sojky Pelhřimov -finálová skupina juniorské ligy Městská sportovní hala\n15.2. 16.00 Levhartice Chomutov – Sokol Hradec Králové – extraliga juniorek Městská sportovní hala\n16.2. 9.00 Levharti Chomutov – BC Vysočina – finálová skupina juniorské ligy\n16.2. 11.00 Levhartice Chomutov – Loko Trutnov – extraliga juniorek
URL:https://visit.chomutov.cz/kalendar/bk-levharti/
LOCATION:Městská sportovní hala\, Mánesova 4980\, Chomutov
CATEGORIES:sportovní akce
ATTACH;FMTTYPE=image/jpeg:https://visit.chomutov.cz/wp-content/uploads/2023/02/Plakat_zapasy_UNOR.jpg
END:VEVENT
BEGIN:VEVENT
DTSTART;VALUE=DATE:20250205
DTEND;VALUE=DATE:20250210
DTSTAMP:20260422T085144
CREATED:20250131T101847Z
LAST-MODIFIED:20250131T101915Z
UID:9125-1738713600-1739145599@visit.chomutov.cz
SUMMARY:U20 – turnaj pěti zemí
DESCRIPTION:5.2. 15.00 Švýcarsko-Finsko; 18.30 Česko – Německo\n6.2. 15.00 Švýcarsko – Švédsko; 18.30 Česko – Finsko\n7.2. 15.00 Německo – Švýcarsko; 18.30 Švédsko – Finsko\n8.2. 15.00 Švédsko – Německo; 18.30 Česko – Švýcarsko\n9.2. 12:30 Finsko – Německo; 16:00 Česko – Švédsko \n 
URL:https://visit.chomutov.cz/kalendar/u20-turnaj-peti-zemi/
LOCATION:Rocknet Aréna – zimní stadion\, Mostecká 5773\, Chomutov
CATEGORIES:sportovní akce
ATTACH;FMTTYPE=image/jpeg:https://visit.chomutov.cz/wp-content/uploads/2025/01/A3-U20-page-001-scaled.jpg
END:VEVENT
BEGIN:VEVENT
DTSTART;VALUE=DATE:20250204
DTEND;VALUE=DATE:20250301
DTSTAMP:20260422T085144
CREATED:20250131T105007Z
LAST-MODIFIED:20250131T105007Z
UID:9134-1738627200-1740787199@visit.chomutov.cz
SUMMARY:FC Baník Chomutov - futsalové zápasy únor 2025
DESCRIPTION:4.2. 19.30 Česko – Rakousko – kvalifikace na Euro 2026\, futsal\n16.2. 19.00 FC Baník Chomutov x SK Olympik Mělník  – futsal muži A\n28.2. 20.00 FC Baník Chomutov x FK Chrudim – futsal muži A
URL:https://visit.chomutov.cz/kalendar/fc-banik-chomutov-futsalove-zapasy-unor-2025/
LOCATION:Městská sportovní hala\, Mánesova 4980\, Chomutov
CATEGORIES:sportovní akce
ATTACH;FMTTYPE=image/png:https://visit.chomutov.cz/wp-content/uploads/2025/01/FC-Banik-Chomutov-logo.png
END:VEVENT
BEGIN:VEVENT
DTSTART;VALUE=DATE:20250201
DTEND;VALUE=DATE:20250223
DTSTAMP:20260422T085144
CREATED:20220930T075622Z
LAST-MODIFIED:20250225T100511Z
UID:2224-1738368000-1740268799@visit.chomutov.cz
SUMMARY:Florbal Chomutov - zápasy březen 2025
DESCRIPTION:1.3. 16.00 Chomutov x MITEL Florbalová akademie MB – ženy\n2.3. 15.00 Chomutov x Sparta Praha – florbal ženy\n15.3. 8.00 Florbal Chomutov – turnaj elevů a elévek Městská sportovní hala www.florbalchomutov.cz\n22.3. 8.00 Florbal Chomutov – turnaj dorostenek
URL:https://visit.chomutov.cz/kalendar/florbal-chomutov/
LOCATION:Městská sportovní hala\, Mánesova 4980\, Chomutov
CATEGORIES:sportovní akce
ATTACH;FMTTYPE=image/jpeg:https://visit.chomutov.cz/wp-content/uploads/2022/08/claudio-schwarz-D1zkz4eW_j0-unsplash.jpg
ORGANIZER;CN="Florbal%20Chomutov":MAILTO:klub@florbalchomutov.cz
END:VEVENT
BEGIN:VEVENT
DTSTART;VALUE=DATE:20250201
DTEND;VALUE=DATE:20250227
DTSTAMP:20260422T085144
CREATED:20220906T071835Z
LAST-MODIFIED:20250131T104237Z
UID:2387-1738368000-1740614399@visit.chomutov.cz
SUMMARY:Piráti Chomutov - zápasy únor 2025
DESCRIPTION:1.2. 17.30 Piráti Chomutov x HC Slavia Praha\n15.2. 17.30 Piráti Chomutov x HC Baník Sokolov\n22.2. 17.30 Piráti Chomutov x VHK ROBE Vsetín\n26.2. 17.30 Piráti Chomutov x HC Stadion Litoměřice
URL:https://visit.chomutov.cz/kalendar/pirati-chomutov/
LOCATION:Rocknet Aréna – zimní stadion\, Mostecká 5773\, Chomutov
CATEGORIES:sportovní akce
ATTACH;FMTTYPE=image/jpeg:https://visit.chomutov.cz/wp-content/uploads/2022/09/pirati.jpg
END:VEVENT
BEGIN:VEVENT
DTSTART;TZID=Europe/Prague:20250125T173000
DTEND;TZID=Europe/Prague:20250125T173000
DTSTAMP:20260422T085144
CREATED:20241217T065518Z
LAST-MODIFIED:20241217T065529Z
UID:8947-1737826200-1737826200@visit.chomutov.cz
SUMMARY:Piráti Chomutov x RI Okna Berani Zlín
DESCRIPTION:
URL:https://visit.chomutov.cz/kalendar/pirati-chomutov-x-berani-zlin/
LOCATION:Rocknet Aréna – zimní stadion\, Mostecká 5773\, Chomutov
CATEGORIES:sportovní akce
ATTACH;FMTTYPE=image/jpeg:https://visit.chomutov.cz/wp-content/uploads/2024/12/piratichomutov.jpg
END:VEVENT
BEGIN:VEVENT
DTSTART;TZID=Europe/Prague:20250120T173000
DTEND;TZID=Europe/Prague:20250120T173000
DTSTAMP:20260422T085144
CREATED:20241217T065424Z
LAST-MODIFIED:20241217T065438Z
UID:8945-1737394200-1737394200@visit.chomutov.cz
SUMMARY:Piráti Chomutov x  HC RT Torax Poruba 2011
DESCRIPTION:
URL:https://visit.chomutov.cz/kalendar/pirati-chomutov-x-torax-poruba/
LOCATION:Rocknet Aréna – zimní stadion\, Mostecká 5773\, Chomutov
CATEGORIES:sportovní akce
ATTACH;FMTTYPE=image/jpeg:https://visit.chomutov.cz/wp-content/uploads/2024/12/piratichomutov.jpg
END:VEVENT
BEGIN:VEVENT
DTSTART;TZID=Europe/Prague:20250118T173000
DTEND;TZID=Europe/Prague:20250118T173000
DTSTAMP:20260422T085144
CREATED:20241217T065324Z
LAST-MODIFIED:20241217T065342Z
UID:8943-1737221400-1737221400@visit.chomutov.cz
SUMMARY:Piráti Chomutov x LHK Jestřábi Prostějov
DESCRIPTION:
URL:https://visit.chomutov.cz/kalendar/pirati-chomutov-x-jestrabi-prostejov/
LOCATION:Rocknet Aréna – zimní stadion\, Mostecká 5773\, Chomutov
CATEGORIES:sportovní akce
ATTACH;FMTTYPE=image/jpeg:https://visit.chomutov.cz/wp-content/uploads/2024/12/piratichomutov.jpg
END:VEVENT
BEGIN:VEVENT
DTSTART;TZID=Europe/Prague:20250111T173000
DTEND;TZID=Europe/Prague:20250111T173000
DTSTAMP:20260422T085144
CREATED:20241217T065211Z
LAST-MODIFIED:20241217T065223Z
UID:8941-1736616600-1736616600@visit.chomutov.cz
SUMMARY:Piráti Chomutov x SC Marimex Kolín
DESCRIPTION:
URL:https://visit.chomutov.cz/kalendar/pirati-chomutov-x-kolin-2/
LOCATION:Rocknet Aréna – zimní stadion\, Mostecká 5773\, Chomutov
CATEGORIES:sportovní akce
ATTACH;FMTTYPE=image/jpeg:https://visit.chomutov.cz/wp-content/uploads/2024/12/piratichomutov.jpg
END:VEVENT
BEGIN:VEVENT
DTSTART;TZID=Europe/Prague:20250110T090000
DTEND;TZID=Europe/Prague:20250110T090000
DTSTAMP:20260422T085144
CREATED:20241217T064558Z
LAST-MODIFIED:20241217T064735Z
UID:8936-1736499600-1736499600@visit.chomutov.cz
SUMMARY:Tříkrálový závod TJ Slávie Chomutov
DESCRIPTION:
URL:https://visit.chomutov.cz/kalendar/trikralovy-zavod-tj-slavie-chomutov/
LOCATION:Aquasvět\, Mostecká 5887\, Chomutov
CATEGORIES:sportovní akce
ATTACH;FMTTYPE=image/jpeg:https://visit.chomutov.cz/wp-content/uploads/2022/11/plavani.jpg
ORGANIZER;CN="TJ%20Sl%C3%A1vie%20Chomutov":MAILTO:slcho@slaviechomutov.cz
END:VEVENT
BEGIN:VEVENT
DTSTART;TZID=Europe/Prague:20250106T173000
DTEND;TZID=Europe/Prague:20250106T173000
DTSTAMP:20260422T085144
CREATED:20241217T065105Z
LAST-MODIFIED:20241217T065105Z
UID:8938-1736184600-1736184600@visit.chomutov.cz
SUMMARY:Piráti Chomutov x Frýdek Místek
DESCRIPTION:
URL:https://visit.chomutov.cz/kalendar/pirati-chomutov-x-frydek-mistek/
LOCATION:Rocknet Aréna – zimní stadion\, Mostecká 5773\, Chomutov
CATEGORIES:sportovní akce
ATTACH;FMTTYPE=image/jpeg:https://visit.chomutov.cz/wp-content/uploads/2024/12/piratichomutov.jpg
END:VEVENT
BEGIN:VEVENT
DTSTART;TZID=Europe/Prague:20250104T110000
DTEND;TZID=Europe/Prague:20250104T110000
DTSTAMP:20260422T085144
CREATED:20231218T144246Z
LAST-MODIFIED:20241217T064432Z
UID:6109-1735988400-1735988400@visit.chomutov.cz
SUMMARY:Desítka v Bezručáku
DESCRIPTION:49. ročník běžeckého závodu. Start – Bezručova ul. u ZŠ Ak. Heyrovského.
URL:https://visit.chomutov.cz/kalendar/desitka-v-bezrucaku/
CATEGORIES:sportovní akce
ATTACH;FMTTYPE=image/jpeg:https://visit.chomutov.cz/wp-content/uploads/2023/12/Desitka.jpg
END:VEVENT
BEGIN:VEVENT
DTSTART;TZID=Europe/Prague:20241231T130000
DTEND;TZID=Europe/Prague:20241231T150000
DTSTAMP:20260422T085144
CREATED:20241125T142643Z
LAST-MODIFIED:20241125T142649Z
UID:8554-1735650000-1735657200@visit.chomutov.cz
SUMMARY:Silvestr na ledě
DESCRIPTION:
URL:https://visit.chomutov.cz/kalendar/silvestr-na-lede-2/
CATEGORIES:sportovní akce,Vánoce
ATTACH;FMTTYPE=image/jpeg:https://visit.chomutov.cz/wp-content/uploads/2022/09/brusleni.jpg
END:VEVENT
BEGIN:VEVENT
DTSTART;TZID=Europe/Prague:20241231T100000
DTEND;TZID=Europe/Prague:20241231T150000
DTSTAMP:20260422T085144
CREATED:20241205T092102Z
LAST-MODIFIED:20241205T092102Z
UID:8769-1735639200-1735657200@visit.chomutov.cz
SUMMARY:Silvestrovský výšlap na Kočičák
DESCRIPTION:
URL:https://visit.chomutov.cz/kalendar/silvestrovsky-vyslap-na-kocicak/
LOCATION:Muzeum Na Kočičáku\, Blatno - Hrádečná
CATEGORIES:sportovní akce,Vánoce
ATTACH;FMTTYPE=image/jpeg:https://visit.chomutov.cz/wp-content/uploads/2024/12/Silvestrovsky-vyslapna-Kocicak.jpg
END:VEVENT
END:VCALENDAR