BEGIN:VCALENDAR
VERSION:2.0
PRODID:-//Visit Chomutov - ECPv5.14.2.1//NONSGML v1.0//EN
CALSCALE:GREGORIAN
METHOD:PUBLISH
X-WR-CALNAME:Visit Chomutov
X-ORIGINAL-URL:https://visit.chomutov.cz
X-WR-CALDESC:Akce na Visit Chomutov
REFRESH-INTERVAL;VALUE=DURATION:PT1H
X-Robots-Tag:noindex
X-PUBLISHED-TTL:PT1H
BEGIN:VTIMEZONE
TZID:Europe/Prague
BEGIN:DAYLIGHT
TZOFFSETFROM:+0100
TZOFFSETTO:+0200
TZNAME:CEST
DTSTART:20250330T010000
END:DAYLIGHT
BEGIN:STANDARD
TZOFFSETFROM:+0200
TZOFFSETTO:+0100
TZNAME:CET
DTSTART:20251026T010000
END:STANDARD
END:VTIMEZONE
BEGIN:VEVENT
DTSTART;TZID=Europe/Prague:20250830T080000
DTEND;TZID=Europe/Prague:20250830T080000
DTSTAMP:20260422T014003
CREATED:20250528T104346Z
LAST-MODIFIED:20250528T104346Z
UID:10257-1756540800-1756540800@visit.chomutov.cz
SUMMARY:Chomutovský půlmaraton 2025
DESCRIPTION:
URL:https://visit.chomutov.cz/kalendar/chomutovsky-pulmaraton-2025/
LOCATION:náměstí 1. máje Chomutov\, nám. 1. máje\, Chomutov
CATEGORIES:sportovní akce
ATTACH;FMTTYPE=image/jpeg:https://visit.chomutov.cz/wp-content/uploads/2025/05/chomutov-pulmaraton-2vlna-fb-2501.jpg
ORGANIZER;CN="Statut%C3%A1rn%C3%AD%20m%C4%9Bsto%20Chomutov":MAILTO:infocentrum@chomutov.cz
END:VEVENT
BEGIN:VEVENT
DTSTART;TZID=Europe/Prague:20250829T091500
DTEND;TZID=Europe/Prague:20250829T101500
DTSTAMP:20260422T014003
CREATED:20250805T102600Z
LAST-MODIFIED:20250806T152921Z
UID:10519-1756458900-1756462500@visit.chomutov.cz
SUMMARY:Jóga na Kamenčáku
DESCRIPTION:Potřebujete vlastní podložku a případně i pomůcky\, pokud je používáte. A nezapomeňte plavky.\nvstup za recepcí u Bandy
URL:https://visit.chomutov.cz/kalendar/joga-na-kamencaku-4/
LOCATION:Kamencové jezero\, Tomáše ze Štítného 5971\, Chomutov
CATEGORIES:sportovní akce
ATTACH;FMTTYPE=image/jpeg:https://visit.chomutov.cz/wp-content/uploads/2025/08/pexels-shkrabaanthony-4708511.jpg
END:VEVENT
BEGIN:VEVENT
DTSTART;TZID=Europe/Prague:20250829T080000
DTEND;TZID=Europe/Prague:20250829T170000
DTSTAMP:20260422T014003
CREATED:20250829T061250Z
LAST-MODIFIED:20250829T061250Z
UID:10651-1756454400-1756486800@visit.chomutov.cz
SUMMARY:FC Chomutov vs SK Štětí
DESCRIPTION:
URL:https://visit.chomutov.cz/kalendar/fc-chomutov-vs-sk-steti/
LOCATION:Letní stadion\, Mostecká 5886\, Chomutov
CATEGORIES:sportovní akce
ATTACH;FMTTYPE=image/jpeg:https://visit.chomutov.cz/wp-content/uploads/2022/05/fotbal-1.jpg
END:VEVENT
BEGIN:VEVENT
DTSTART;TZID=Europe/Prague:20250826T180000
DTEND;TZID=Europe/Prague:20250826T180000
DTSTAMP:20260422T014003
CREATED:20250627T070801Z
LAST-MODIFIED:20250806T163535Z
UID:10425-1756231200-1756231200@visit.chomutov.cz
SUMMARY:Jóga v Atriu
DESCRIPTION:lektorky studia BFit Yoga\, cvičení bude probíhat za hezkého počasí v Atriu\, při nepřízni v Yoga studiu na náměstí 1. máje.
URL:https://visit.chomutov.cz/kalendar/joga-v-atriu-3/
LOCATION:Atrium\, nám. 1. máje\, Chomutov
CATEGORIES:sportovní akce
ATTACH;FMTTYPE=image/jpeg:https://visit.chomutov.cz/wp-content/uploads/2025/06/pexels-lorencastillo-9194293.jpg
END:VEVENT
BEGIN:VEVENT
DTSTART;TZID=Europe/Prague:20250824T140000
DTEND;TZID=Europe/Prague:20250824T140000
DTSTAMP:20260422T014003
CREATED:20250806T163735Z
LAST-MODIFIED:20250806T163735Z
UID:10565-1756044000-1756044000@visit.chomutov.cz
SUMMARY:Beavers Chomutov
DESCRIPTION:Beavers Chomutov – SaBaT Praha B – 1.liga žen softball ZČ
URL:https://visit.chomutov.cz/kalendar/beavers-chomutov/
LOCATION:Softballový areál\, Bezručova 5989\, Chomutov
CATEGORIES:sportovní akce
ATTACH;FMTTYPE=image/jpeg:https://visit.chomutov.cz/wp-content/uploads/2022/05/softball.jpg
END:VEVENT
BEGIN:VEVENT
DTSTART;TZID=Europe/Prague:20250822T091500
DTEND;TZID=Europe/Prague:20250822T101500
DTSTAMP:20260422T014003
CREATED:20250805T102547Z
LAST-MODIFIED:20250805T102547Z
UID:10517-1755854100-1755857700@visit.chomutov.cz
SUMMARY:Jóga na Kamenčáku
DESCRIPTION:Potřebujete vlastní podložku a případně i pomůcky\, pokud je používáte. A nezapomeňte plavky.\nvstup za recepcí u Bandy
URL:https://visit.chomutov.cz/kalendar/joga-na-kamencaku-3/
LOCATION:Kamencové jezero\, Tomáše ze Štítného 5971\, Chomutov
CATEGORIES:sportovní akce
ATTACH;FMTTYPE=image/jpeg:https://visit.chomutov.cz/wp-content/uploads/2025/08/pexels-shkrabaanthony-4708511.jpg
END:VEVENT
BEGIN:VEVENT
DTSTART;TZID=Europe/Prague:20250821T173000
DTEND;TZID=Europe/Prague:20250821T173000
DTSTAMP:20260422T014003
CREATED:20250806T164158Z
LAST-MODIFIED:20250806T164158Z
UID:10575-1755797400-1755797400@visit.chomutov.cz
SUMMARY:Piráti Chomutov - Blue Devils Weiden
DESCRIPTION:přípravné utkání
URL:https://visit.chomutov.cz/kalendar/pirati-chomutov-blue-devils-weiden/
LOCATION:Rocknet Aréna – zimní stadion\, Mostecká 5773\, Chomutov
CATEGORIES:sportovní akce
ATTACH;FMTTYPE=image/jpeg:https://visit.chomutov.cz/wp-content/uploads/2024/12/piratichomutov.jpg
END:VEVENT
BEGIN:VEVENT
DTSTART;VALUE=DATE:20250818
DTEND;VALUE=DATE:20250824
DTSTAMP:20260422T014003
CREATED:20250805T101737Z
LAST-MODIFIED:20250805T101737Z
UID:10509-1755475200-1755993599@visit.chomutov.cz
SUMMARY:Evropský pohár Supercup softball muži
DESCRIPTION:
URL:https://visit.chomutov.cz/kalendar/evropsky-pohar-supercup-softball-muzi/
LOCATION:Softballový areál\, Bezručova 5989\, Chomutov
CATEGORIES:sportovní akce
ATTACH;FMTTYPE=image/jpeg:https://visit.chomutov.cz/wp-content/uploads/2025/08/A3-Plakat-ROZPIS-scaled.jpg
ORGANIZER;CN="Beavers%20Chomutov":MAILTO:info@beavers.cz
END:VEVENT
BEGIN:VEVENT
DTSTART;TZID=Europe/Prague:20250816T110000
DTEND;TZID=Europe/Prague:20250816T140000
DTSTAMP:20260422T014003
CREATED:20250807T140222Z
LAST-MODIFIED:20250807T140222Z
UID:10597-1755342000-1755352800@visit.chomutov.cz
SUMMARY:Léto ve Wakeparku
DESCRIPTION:8. akce Rodinného zápolení
URL:https://visit.chomutov.cz/kalendar/leto-ve-wakeparku/
LOCATION:Wakepark Chomutov\, Mostecká č.e. 22\, Chomutov\, 43001
CATEGORIES:pro děti,sportovní akce
ATTACH;FMTTYPE=image/jpeg:https://visit.chomutov.cz/wp-content/uploads/2025/08/chomutov-rz-A5-leko-ve-wakeparku-2507-page-001.jpg
ORGANIZER;CN="Statut%C3%A1rn%C3%AD%20m%C4%9Bsto%20Chomutov":MAILTO:infocentrum@chomutov.cz
END:VEVENT
BEGIN:VEVENT
DTSTART;TZID=Europe/Prague:20250816T101500
DTEND;TZID=Europe/Prague:20250816T101500
DTSTAMP:20260422T014003
CREATED:20250806T164438Z
LAST-MODIFIED:20250806T164438Z
UID:10578-1755339300-1755339300@visit.chomutov.cz
SUMMARY:FC Chomutov – FC Slavia Karlovy Vary
DESCRIPTION:muži A: Fortuna Divize B
URL:https://visit.chomutov.cz/kalendar/fc-chomutov-fc-slavia-karlovy-vary/
LOCATION:Letní stadion\, Mostecká 5886\, Chomutov
CATEGORIES:sportovní akce
ATTACH;FMTTYPE=image/jpeg:https://visit.chomutov.cz/wp-content/uploads/2022/05/fotbal-1.jpg
END:VEVENT
BEGIN:VEVENT
DTSTART;TZID=Europe/Prague:20250815T091500
DTEND;TZID=Europe/Prague:20250815T101500
DTSTAMP:20260422T014003
CREATED:20250805T102534Z
LAST-MODIFIED:20250805T102534Z
UID:10515-1755249300-1755252900@visit.chomutov.cz
SUMMARY:Jóga na Kamenčáku
DESCRIPTION:Potřebujete vlastní podložku a případně i pomůcky\, pokud je používáte. A nezapomeňte plavky.\nvstup za recepcí u Bandy
URL:https://visit.chomutov.cz/kalendar/joga-na-kamencaku-2/
LOCATION:Kamencové jezero\, Tomáše ze Štítného 5971\, Chomutov
CATEGORIES:sportovní akce
ATTACH;FMTTYPE=image/jpeg:https://visit.chomutov.cz/wp-content/uploads/2025/08/pexels-shkrabaanthony-4708511.jpg
END:VEVENT
BEGIN:VEVENT
DTSTART;TZID=Europe/Prague:20250814T173000
DTEND;TZID=Europe/Prague:20250814T173000
DTSTAMP:20260422T014003
CREATED:20250806T164100Z
LAST-MODIFIED:20250806T164100Z
UID:10573-1755192600-1755192600@visit.chomutov.cz
SUMMARY:Piráti Chomutov - HC Stadion Litoměřice
DESCRIPTION:přípravné utkání
URL:https://visit.chomutov.cz/kalendar/pirati-chomutov-hc-stadion-litomerice/
LOCATION:Rocknet Aréna – zimní stadion\, Mostecká 5773\, Chomutov
CATEGORIES:sportovní akce
ATTACH;FMTTYPE=image/jpeg:https://visit.chomutov.cz/wp-content/uploads/2024/12/piratichomutov.jpg
END:VEVENT
BEGIN:VEVENT
DTSTART;TZID=Europe/Prague:20250812T180000
DTEND;TZID=Europe/Prague:20250812T180000
DTSTAMP:20260422T014003
CREATED:20250627T070819Z
LAST-MODIFIED:20250806T163525Z
UID:10427-1755021600-1755021600@visit.chomutov.cz
SUMMARY:Jóga v Atriu
DESCRIPTION:lektorky studia BFit Yoga\, cvičení bude probíhat za hezkého počasí v Atriu\, při nepřízni v Yoga studiu na náměstí 1. máje.
URL:https://visit.chomutov.cz/kalendar/joga-v-atriu-4/
LOCATION:Atrium\, nám. 1. máje\, Chomutov
CATEGORIES:sportovní akce
ATTACH;FMTTYPE=image/jpeg:https://visit.chomutov.cz/wp-content/uploads/2025/06/pexels-lorencastillo-9194293.jpg
END:VEVENT
BEGIN:VEVENT
DTSTART;TZID=Europe/Prague:20250809T170000
DTEND;TZID=Europe/Prague:20250809T170000
DTSTAMP:20260422T014003
CREATED:20250717T061728Z
LAST-MODIFIED:20250717T061728Z
UID:10488-1754758800-1754758800@visit.chomutov.cz
SUMMARY:Utkání Ondřeje Buchtely
DESCRIPTION:Pět let od smrti talentovaného hokejisty Ondřeje Buchtely bude chomutovskou ROCKNET ARÉNOU znít opět jméno Buchtela. V rámci čtvrtého ročníku Memoriálu Ondřeje Buchtely\, se uskuteční Utkání Ondřeje Buchtely\, ve kterém se střetne tým Ondrovo spoluhráčů s týmem hvězd. Veškerý výtěžek bude rozdělen mezi Nadační fond Pirátské srdce a sdružení onkologických pacientů a přátel Kapka97.
URL:https://visit.chomutov.cz/kalendar/utkani-ondreje-buchtely/
LOCATION:Rocknet Aréna – zimní stadion\, Mostecká 5773\, Chomutov
CATEGORIES:sportovní akce
ATTACH;FMTTYPE=image/jpeg:https://visit.chomutov.cz/wp-content/uploads/2025/07/Buchtela-scaled.jpg
END:VEVENT
BEGIN:VEVENT
DTSTART;TZID=Europe/Prague:20250808T091500
DTEND;TZID=Europe/Prague:20250808T101500
DTSTAMP:20260422T014003
CREATED:20250805T102509Z
LAST-MODIFIED:20250805T102521Z
UID:10512-1754644500-1754648100@visit.chomutov.cz
SUMMARY:Jóga na Kamenčáku
DESCRIPTION:Potřebujete vlastní podložku a případně i pomůcky\, pokud je používáte. A nezapomeňte plavky.\nvstup za recepcí u Bandy
URL:https://visit.chomutov.cz/kalendar/joga-na-kamencaku/
LOCATION:Kamencové jezero\, Tomáše ze Štítného 5971\, Chomutov
CATEGORIES:sportovní akce
ATTACH;FMTTYPE=image/jpeg:https://visit.chomutov.cz/wp-content/uploads/2025/08/pexels-shkrabaanthony-4708511.jpg
END:VEVENT
BEGIN:VEVENT
DTSTART;TZID=Europe/Prague:20250807T173000
DTEND;TZID=Europe/Prague:20250807T173000
DTSTAMP:20260422T014003
CREATED:20250806T163348Z
LAST-MODIFIED:20250806T163348Z
UID:10563-1754587800-1754587800@visit.chomutov.cz
SUMMARY:Piráti Chomutov - Mostečtí lvi
DESCRIPTION:přípravné utkání
URL:https://visit.chomutov.cz/kalendar/pirati-chomutov-mostecti-lvi/
LOCATION:Rocknet Aréna – zimní stadion\, Mostecká 5773\, Chomutov
CATEGORIES:sportovní akce
ATTACH;FMTTYPE=image/jpeg:https://visit.chomutov.cz/wp-content/uploads/2024/12/piratichomutov.jpg
END:VEVENT
BEGIN:VEVENT
DTSTART;VALUE=DATE:20250727
DTEND;VALUE=DATE:20250728
DTSTAMP:20260422T014003
CREATED:20250626T120931Z
LAST-MODIFIED:20250626T120931Z
UID:10357-1753574400-1753660799@visit.chomutov.cz
SUMMARY:Střelecké závody - červenec 2025
DESCRIPTION:12.7. 9.00 IV. kolo CHRT 2025\, zároveň III. kolo ČPM v disciplině RP 2×30\n13.7. 9.00 Letní cena Chomutova v disciplině SP 30+30\n20.7. 9.00 V. kolo CHRT 2025 v disciplině RP 2×30\n27.7. 9.00 Bricostav Cup v disciplině LP 60
URL:https://visit.chomutov.cz/kalendar/strelecke-zavody-cervenec-2025-4/
LOCATION:Střelnice SSK Chomutov\, Blatenská 804\, Chomutov
CATEGORIES:sportovní akce
ATTACH;FMTTYPE=image/jpeg:https://visit.chomutov.cz/wp-content/uploads/2022/05/pistole.jpg
END:VEVENT
BEGIN:VEVENT
DTSTART;VALUE=DATE:20250720
DTEND;VALUE=DATE:20250721
DTSTAMP:20260422T014003
CREATED:20250626T120920Z
LAST-MODIFIED:20250626T120920Z
UID:10355-1752969600-1753055999@visit.chomutov.cz
SUMMARY:Střelecké závody - červenec 2025
DESCRIPTION:12.7. 9.00 IV. kolo CHRT 2025\, zároveň III. kolo ČPM v disciplině RP 2×30\n13.7. 9.00 Letní cena Chomutova v disciplině SP 30+30\n20.7. 9.00 V. kolo CHRT 2025 v disciplině RP 2×30\n27.7. 9.00 Bricostav Cup v disciplině LP 60
URL:https://visit.chomutov.cz/kalendar/strelecke-zavody-cervenec-2025-3/
LOCATION:Střelnice SSK Chomutov\, Blatenská 804\, Chomutov
CATEGORIES:sportovní akce
ATTACH;FMTTYPE=image/jpeg:https://visit.chomutov.cz/wp-content/uploads/2022/05/pistole.jpg
END:VEVENT
BEGIN:VEVENT
DTSTART;VALUE=DATE:20250713
DTEND;VALUE=DATE:20250714
DTSTAMP:20260422T014003
CREATED:20250626T120906Z
LAST-MODIFIED:20250626T120906Z
UID:10353-1752364800-1752364800@visit.chomutov.cz
SUMMARY:Střelecké závody - červenec 2025
DESCRIPTION:12.7. 9.00 IV. kolo CHRT 2025\, zároveň III. kolo ČPM v disciplině RP 2×30\n13.7. 9.00 Letní cena Chomutova v disciplině SP 30+30\n20.7. 9.00 V. kolo CHRT 2025 v disciplině RP 2×30\n27.7. 9.00 Bricostav Cup v disciplině LP 60
URL:https://visit.chomutov.cz/kalendar/strelecke-zavody-cervenec-2025-2/
LOCATION:Střelnice SSK Chomutov\, Blatenská 804\, Chomutov
CATEGORIES:sportovní akce
ATTACH;FMTTYPE=image/jpeg:https://visit.chomutov.cz/wp-content/uploads/2022/05/pistole.jpg
END:VEVENT
BEGIN:VEVENT
DTSTART;TZID=Europe/Prague:20250712T100000
DTEND;TZID=Europe/Prague:20250712T100000
DTSTAMP:20260422T014003
CREATED:20250626T120651Z
LAST-MODIFIED:20250626T120651Z
UID:10348-1752314400-1752314400@visit.chomutov.cz
SUMMARY:Chomutovská hodinovka
DESCRIPTION:46. ročník závodu na 1 hodinu. Přijďte si zkusit posunout své limity nebo se jen tak proběhnout. Rádi Vás uvidíme. Zároveň Vám budeme vděční za registraci předem na standamrkacek@gmail.com.
URL:https://visit.chomutov.cz/kalendar/chomutovska-hodinovka/
LOCATION:Letní stadion\, Mostecká 5886\, Chomutov
CATEGORIES:sportovní akce
ATTACH;FMTTYPE=image/jpeg:https://visit.chomutov.cz/wp-content/uploads/2025/06/Chomutovska-hodinovka.jpg
END:VEVENT
BEGIN:VEVENT
DTSTART;VALUE=DATE:20250712
DTEND;VALUE=DATE:20250728
DTSTAMP:20260422T014003
CREATED:20250626T120838Z
LAST-MODIFIED:20250717T052837Z
UID:10351-1752278400-1753660799@visit.chomutov.cz
SUMMARY:Střelecké závody - červenec 2025
DESCRIPTION:12.7. 9.00 IV. kolo CHRT 2025\, zároveň III. kolo ČPM v disciplině RP 2×30\n13.7. 9.00 Letní cena Chomutova v disciplině SP 30+30\n20.7. 9.00 V. kolo CHRT 2025 v disciplině RP 2×30\n27.7. 9.00 Bricostav Cup v disciplině LP 60
URL:https://visit.chomutov.cz/kalendar/strelecke-zavody-cervenec-2025/
LOCATION:Střelnice SSK Chomutov\, Blatenská 804\, Chomutov
CATEGORIES:sportovní akce
ATTACH;FMTTYPE=image/jpeg:https://visit.chomutov.cz/wp-content/uploads/2022/05/pistole.jpg
END:VEVENT
BEGIN:VEVENT
DTSTART;TZID=Europe/Prague:20250708T180000
DTEND;TZID=Europe/Prague:20250708T180000
DTSTAMP:20260422T014003
CREATED:20250627T070749Z
LAST-MODIFIED:20250717T052740Z
UID:10423-1751997600-1751997600@visit.chomutov.cz
SUMMARY:Jóga v Atriu
DESCRIPTION:lektorky studia BFit Yoga\, cvičení bude probíhat za hezkého počasí v Atriu\, při nepřízni v Yoga studiu na náměstí 1. máje.
URL:https://visit.chomutov.cz/kalendar/joga-v-atriu-2/
LOCATION:Atrium\, nám. 1. máje\, Chomutov
CATEGORIES:sportovní akce
ATTACH;FMTTYPE=image/jpeg:https://visit.chomutov.cz/wp-content/uploads/2025/06/pexels-lorencastillo-9194293.jpg
END:VEVENT
BEGIN:VEVENT
DTSTART;TZID=Europe/Prague:20250705T100000
DTEND;TZID=Europe/Prague:20250705T120000
DTSTAMP:20260422T014003
CREATED:20250627T072228Z
LAST-MODIFIED:20250627T072228Z
UID:10442-1751709600-1751716800@visit.chomutov.cz
SUMMARY:Hurá prázdniny!
DESCRIPTION:7. akce Rodinného zápolení. Rodinný cyklovýlet na Třetí mlýn.
URL:https://visit.chomutov.cz/kalendar/hura-prazdniny/
LOCATION:Bezručovo údolí\, Chomutov
CATEGORIES:pro děti,sportovní akce
ATTACH;FMTTYPE=image/jpeg:https://visit.chomutov.cz/wp-content/uploads/2025/06/chomutov-rz-A3-hura-prazdniny-2506.jpg
ORGANIZER;CN="Statut%C3%A1rn%C3%AD%20m%C4%9Bsto%20Chomutov":MAILTO:infocentrum@chomutov.cz
END:VEVENT
BEGIN:VEVENT
DTSTART;TZID=Europe/Prague:20250701T180000
DTEND;TZID=Europe/Prague:20250701T180000
DTSTAMP:20260422T014003
CREATED:20250627T070732Z
LAST-MODIFIED:20250717T052700Z
UID:10420-1751392800-1751392800@visit.chomutov.cz
SUMMARY:Jóga v Atriu
DESCRIPTION:lektorky studia BFit Yoga\, cvičení bude probíhat za hezkého počasí v Atriu\, při nepřízni v Yoga studiu na náměstí 1. máje.
URL:https://visit.chomutov.cz/kalendar/joga-v-atriu/
LOCATION:Atrium\, nám. 1. máje\, Chomutov
CATEGORIES:sportovní akce
ATTACH;FMTTYPE=image/jpeg:https://visit.chomutov.cz/wp-content/uploads/2025/06/pexels-lorencastillo-9194293.jpg
END:VEVENT
BEGIN:VEVENT
DTSTART;TZID=Europe/Prague:20250628T090000
DTEND;TZID=Europe/Prague:20250628T170000
DTSTAMP:20260422T014003
CREATED:20250603T104459Z
LAST-MODIFIED:20250603T104515Z
UID:10307-1751101200-1751130000@visit.chomutov.cz
SUMMARY:Turnaj pro Lukáše
DESCRIPTION:Nadační fond Pirátské srdce ve spolupráci s AFL Loko Chomutov pořádá charitativní fotbalový turnaj\, jehož výtěžek půjde na nákup elektrického vozíku.
URL:https://visit.chomutov.cz/kalendar/turnaj-pro-lukase/
CATEGORIES:sportovní akce
ATTACH;FMTTYPE=image/jpeg:https://visit.chomutov.cz/wp-content/uploads/2025/06/Turnaj-pro-Lukase.jpg
END:VEVENT
BEGIN:VEVENT
DTSTART;TZID=Europe/Prague:20250618T180000
DTEND;TZID=Europe/Prague:20250618T180000
DTSTAMP:20260422T014003
CREATED:20250522T081026Z
LAST-MODIFIED:20250522T081026Z
UID:10087-1750269600-1750269600@visit.chomutov.cz
SUMMARY:Olympijský běh 2025
DESCRIPTION:Registrace probíhají pouze online do 6. června.
URL:https://visit.chomutov.cz/kalendar/olympijsky-beh-2025/
LOCATION:Bezručovo údolí\, Chomutov
CATEGORIES:sportovní akce
ATTACH;FMTTYPE=image/jpeg:https://visit.chomutov.cz/wp-content/uploads/2025/05/Olympijsky-beh-Chomutov.jpg
END:VEVENT
BEGIN:VEVENT
DTSTART;TZID=Europe/Prague:20250614T110000
DTEND;TZID=Europe/Prague:20250614T170000
DTSTAMP:20260422T014003
CREATED:20250603T090437Z
LAST-MODIFIED:20250603T090437Z
UID:10304-1749898800-1749920400@visit.chomutov.cz
SUMMARY:ČEZfest s Kozou Rózou
DESCRIPTION:bonusová akce Rodinného zápolení
URL:https://visit.chomutov.cz/kalendar/cezfest-s-kozou-rozou-2/
LOCATION:Bývalý letní stadion\, Tyršova\, Chomutov
CATEGORIES:pro děti,sportovní akce
ATTACH;FMTTYPE=image/jpeg:https://visit.chomutov.cz/wp-content/uploads/2025/06/chomutov-rz-A3-cezfest-2506-page-001.jpg
ORGANIZER;CN="Statut%C3%A1rn%C3%AD%20m%C4%9Bsto%20Chomutov":MAILTO:infocentrum@chomutov.cz
END:VEVENT
BEGIN:VEVENT
DTSTART;TZID=Europe/Prague:20250614T100000
DTEND;TZID=Europe/Prague:20250614T120000
DTSTAMP:20260422T014004
CREATED:20250526T114552Z
LAST-MODIFIED:20250526T114552Z
UID:10151-1749895200-1749902400@visit.chomutov.cz
SUMMARY:Květinový workshop s jógou
DESCRIPTION:Lekce jógy\, která protáhne vaše tělo a zároveň vás nabije do nového týdne. Lekce je určena pro začátečníky i pokročilé. Po lekci si ukážeme\, jak vázat květiny do kytice\, kterou si pro radost odnesete domů. Celým workshopem vás provede Ála\, která se věnuje zdravému pohybu\, je lektorkou jógy\, lezení a zároveň pracuje jako květinářka.
URL:https://visit.chomutov.cz/kalendar/kvetinovy-workshop-s-jogou-2/
LOCATION:Prostor\, 28. října 1113/16\, Chomutov\, 43001
CATEGORIES:sportovní akce,vzdělávání
ATTACH;FMTTYPE=image/jpeg:https://visit.chomutov.cz/wp-content/uploads/2025/05/Kvetinovy-workshop-s-jogou.jpg
END:VEVENT
BEGIN:VEVENT
DTSTART;VALUE=DATE:20250612
DTEND;VALUE=DATE:20250615
DTSTAMP:20260422T014004
CREATED:20250522T073140Z
LAST-MODIFIED:20250522T073148Z
UID:10081-1749686400-1749945599@visit.chomutov.cz
SUMMARY:ČEZfest 2025
DESCRIPTION:
URL:https://visit.chomutov.cz/kalendar/cezfest-2025/
LOCATION:Bývalý letní stadion\, Tyršova\, Chomutov
CATEGORIES:koncert,pro děti,sportovní akce,zábavní pořady
ATTACH;FMTTYPE=image/png:https://visit.chomutov.cz/wp-content/uploads/2025/05/CEZfest-Chomutov-2025.png
END:VEVENT
BEGIN:VEVENT
DTSTART;TZID=Europe/Prague:20250607T100000
DTEND;TZID=Europe/Prague:20250607T100000
DTSTAMP:20260422T014004
CREATED:20250519T140756Z
LAST-MODIFIED:20250519T140756Z
UID:10034-1749290400-1749290400@visit.chomutov.cz
SUMMARY:Jógový festival Chomutov
DESCRIPTION:Všechny srdečně zveme na krásný den\, který Vás obohatí a možná i některým z vás přinese životní změnu.\nPředprodej vstupenek do 31.května 2025.
URL:https://visit.chomutov.cz/kalendar/jogovy-festival-chomutov-2/
LOCATION:Městský park\, Čelakovského\, Chomutov
CATEGORIES:sportovní akce,zábavní pořady
ATTACH;FMTTYPE=image/jpeg:https://visit.chomutov.cz/wp-content/uploads/2025/05/Jogovy-festival-2025.jpg
END:VEVENT
END:VCALENDAR