BEGIN:VCALENDAR
VERSION:2.0
PRODID:-//Visit Chomutov - ECPv5.14.2.1//NONSGML v1.0//EN
CALSCALE:GREGORIAN
METHOD:PUBLISH
X-WR-CALNAME:Visit Chomutov
X-ORIGINAL-URL:https://visit.chomutov.cz
X-WR-CALDESC:Akce na Visit Chomutov
REFRESH-INTERVAL;VALUE=DURATION:PT1H
X-Robots-Tag:noindex
X-PUBLISHED-TTL:PT1H
BEGIN:VTIMEZONE
TZID:Europe/Prague
BEGIN:DAYLIGHT
TZOFFSETFROM:+0100
TZOFFSETTO:+0200
TZNAME:CEST
DTSTART:20250330T010000
END:DAYLIGHT
BEGIN:STANDARD
TZOFFSETFROM:+0200
TZOFFSETTO:+0100
TZNAME:CET
DTSTART:20251026T010000
END:STANDARD
END:VTIMEZONE
BEGIN:VEVENT
DTSTART;TZID=Europe/Prague:20251121T090000
DTEND;TZID=Europe/Prague:20251121T090000
DTSTAMP:20260421T194914
CREATED:20251201T090226Z
LAST-MODIFIED:20251201T090226Z
UID:11795-1763715600-1763715600@visit.chomutov.cz
SUMMARY:Středoevropský pohár 2025-2026
DESCRIPTION: III. Kolo RVzPi 2×30\, StVzPi 3×20
URL:https://visit.chomutov.cz/kalendar/stredoevropsky-pohar-2025-2026-2/
LOCATION:Střelnice SSK Chomutov\, Blatenská 804\, Chomutov
CATEGORIES:sportovní akce
ATTACH;FMTTYPE=image/jpeg:https://visit.chomutov.cz/wp-content/uploads/2024/09/pexels-karolina-grabowska-5202384.jpg
END:VEVENT
BEGIN:VEVENT
DTSTART;TZID=Europe/Prague:20251121T200000
DTEND;TZID=Europe/Prague:20251121T200000
DTSTAMP:20260421T194914
CREATED:20251104T094829Z
LAST-MODIFIED:20251104T094829Z
UID:11490-1763755200-1763755200@visit.chomutov.cz
SUMMARY:BK Levharti Chomutov x Válečníci Děčín
DESCRIPTION:
URL:https://visit.chomutov.cz/kalendar/bk-levharti-chomutov-5/
LOCATION:Městská sportovní hala\, Mánesova 4980\, Chomutov
CATEGORIES:sportovní akce
ATTACH;FMTTYPE=image/png:https://visit.chomutov.cz/wp-content/uploads/2022/10/bk-levharti.png
END:VEVENT
END:VCALENDAR