BEGIN:VCALENDAR
VERSION:2.0
PRODID:-//Visit Chomutov - ECPv5.14.2.1//NONSGML v1.0//EN
CALSCALE:GREGORIAN
METHOD:PUBLISH
X-WR-CALNAME:Visit Chomutov
X-ORIGINAL-URL:https://visit.chomutov.cz
X-WR-CALDESC:Akce na Visit Chomutov
REFRESH-INTERVAL;VALUE=DURATION:PT1H
X-Robots-Tag:noindex
X-PUBLISHED-TTL:PT1H
BEGIN:VTIMEZONE
TZID:Europe/Prague
BEGIN:DAYLIGHT
TZOFFSETFROM:+0100
TZOFFSETTO:+0200
TZNAME:CEST
DTSTART:20250330T010000
END:DAYLIGHT
BEGIN:STANDARD
TZOFFSETFROM:+0200
TZOFFSETTO:+0100
TZNAME:CET
DTSTART:20251026T010000
END:STANDARD
END:VTIMEZONE
BEGIN:VEVENT
DTSTART;VALUE=DATE:20250416
DTEND;VALUE=DATE:20250421
DTSTAMP:20260422T080447
CREATED:20250326T092956Z
LAST-MODIFIED:20250326T092956Z
UID:9494-1744761600-1745193599@visit.chomutov.cz
SUMMARY:Turnaj 5 zemí U17
DESCRIPTION:reprezentace ČR U17 (CZE\, FIN\, SWE\, SVK\, SUI)
URL:https://visit.chomutov.cz/kalendar/turnaj-5-zemi-u17-2/
LOCATION:Rocknet Aréna – zimní stadion\, Mostecká 5773\, Chomutov
CATEGORIES:sportovní akce
ATTACH;FMTTYPE=image/jpeg:https://visit.chomutov.cz/wp-content/uploads/2025/03/U17-scaled.jpg
END:VEVENT
BEGIN:VEVENT
DTSTART;TZID=Europe/Prague:20250419T100000
DTEND;TZID=Europe/Prague:20250419T100000
DTSTAMP:20260422T080447
CREATED:20250326T142411Z
LAST-MODIFIED:20250326T142425Z
UID:9560-1745056800-1745056800@visit.chomutov.cz
SUMMARY:FC CHOMUTOV - ABC Bráník
DESCRIPTION:3. ČFL DOROSTU SKUPINA B U 19
URL:https://visit.chomutov.cz/kalendar/fc-chomutov-abc-branik/
LOCATION:Sportovní areál Junior Chomutov\, Dr. Jánského 4588\, Chomutov
CATEGORIES:sportovní akce
ATTACH;FMTTYPE=image/jpeg:https://visit.chomutov.cz/wp-content/uploads/2022/05/fotbal-1.jpg
END:VEVENT
BEGIN:VEVENT
DTSTART;TZID=Europe/Prague:20250419T121500
DTEND;TZID=Europe/Prague:20250419T121500
DTSTAMP:20260422T080447
CREATED:20250326T142544Z
LAST-MODIFIED:20250326T142544Z
UID:9564-1745064900-1745064900@visit.chomutov.cz
SUMMARY:FC CHOMUTOV - ABC Bráník
DESCRIPTION:3. ČFL DOROSTU SKUPINA B U 17
URL:https://visit.chomutov.cz/kalendar/fc-chomutov-abc-branik-2/
LOCATION:Sportovní areál Junior Chomutov\, Dr. Jánského 4588\, Chomutov
CATEGORIES:sportovní akce
ATTACH;FMTTYPE=image/jpeg:https://visit.chomutov.cz/wp-content/uploads/2022/05/fotbal-1.jpg
END:VEVENT
END:VCALENDAR