BEGIN:VCALENDAR
VERSION:2.0
PRODID:-//Visit Chomutov - ECPv5.14.2.1//NONSGML v1.0//EN
CALSCALE:GREGORIAN
METHOD:PUBLISH
X-WR-CALNAME:Visit Chomutov
X-ORIGINAL-URL:https://visit.chomutov.cz
X-WR-CALDESC:Akce na Visit Chomutov
REFRESH-INTERVAL;VALUE=DURATION:PT1H
X-Robots-Tag:noindex
X-PUBLISHED-TTL:PT1H
BEGIN:VTIMEZONE
TZID:Europe/Prague
BEGIN:DAYLIGHT
TZOFFSETFROM:+0100
TZOFFSETTO:+0200
TZNAME:CEST
DTSTART:20240331T010000
END:DAYLIGHT
BEGIN:STANDARD
TZOFFSETFROM:+0200
TZOFFSETTO:+0100
TZNAME:CET
DTSTART:20241027T010000
END:STANDARD
END:VTIMEZONE
BEGIN:VEVENT
DTSTART;VALUE=DATE:20241103
DTEND;VALUE=DATE:20241117
DTSTAMP:20260422T225715
CREATED:20230324T065642Z
LAST-MODIFIED:20241102T175557Z
UID:3651-1730592000-1731801599@visit.chomutov.cz
SUMMARY:Střelecké závody - listopad 2024
DESCRIPTION:3.11. 9.00 I. kolo Středoevropského poháru – rychlopalná a standardní vzduchová pistole\, RVzPi 2×30 a StVzPi 3×20\n9.11. 8.00 II. kolo Chomutovské extraligy – vzduchová puška a pistole\, VzPu 30\,40\,60 VzPi 40\,60\n10.11. 10.00 SETKÁNÍ OSTROSTŘELCŮ Z CELÉ EVROPY – střelby z malorážných zbraní\n16.11. 8.00 VELKÁ CENA 17. LISTOPADU – vzduchová pistole\, VzPi 40\,60
URL:https://visit.chomutov.cz/kalendar/strelecke-zavody/
LOCATION:Střelnice SSK Chomutov\, Blatenská 804\, Chomutov
CATEGORIES:sportovní akce
ATTACH;FMTTYPE=image/jpeg:https://visit.chomutov.cz/wp-content/uploads/2022/05/pistole.jpg
END:VEVENT
END:VCALENDAR