BEGIN:VCALENDAR
VERSION:2.0
PRODID:-//Visit Chomutov - ECPv5.14.2.1//NONSGML v1.0//EN
CALSCALE:GREGORIAN
METHOD:PUBLISH
X-WR-CALNAME:Visit Chomutov
X-ORIGINAL-URL:https://visit.chomutov.cz
X-WR-CALDESC:Akce na Visit Chomutov
REFRESH-INTERVAL;VALUE=DURATION:PT1H
X-Robots-Tag:noindex
X-PUBLISHED-TTL:PT1H
BEGIN:VTIMEZONE
TZID:Europe/Prague
BEGIN:DAYLIGHT
TZOFFSETFROM:+0100
TZOFFSETTO:+0200
TZNAME:CEST
DTSTART:20240331T010000
END:DAYLIGHT
BEGIN:STANDARD
TZOFFSETFROM:+0200
TZOFFSETTO:+0100
TZNAME:CET
DTSTART:20241027T010000
END:STANDARD
END:VTIMEZONE
BEGIN:VEVENT
DTSTART;VALUE=DATE:20240806
DTEND;VALUE=DATE:20240826
DTSTAMP:20260423T035527
CREATED:20240801T112544Z
LAST-MODIFIED:20240801T112544Z
UID:7587-1722902400-1724630399@visit.chomutov.cz
SUMMARY:Piráti Chomutov - přípravná utkání
DESCRIPTION:6.8. 17.30 Piráti Chomutov – Kladno (přípravné utkání)\n8.8. 17.30 Piráti Chomutov – Jihlava (přípravné utkání)\n13.8. 17.30 Piráti Chomutov – Mostečtí lvi (přípravné utkání)\n25.8. 17.30 Piráti Chomutov – Kazachstán (přípravné utkání)
URL:https://visit.chomutov.cz/kalendar/pirati-chomutov-pripravna-utkani/
LOCATION:Rocknet Aréna – zimní stadion\, Mostecká 5773\, Chomutov
CATEGORIES:sportovní akce
ATTACH;FMTTYPE=image/jpeg:https://visit.chomutov.cz/wp-content/uploads/2022/09/pirati.jpg
END:VEVENT
END:VCALENDAR