BEGIN:VCALENDAR
VERSION:2.0
PRODID:-//Visit Chomutov - ECPv5.14.2.1//NONSGML v1.0//EN
CALSCALE:GREGORIAN
METHOD:PUBLISH
X-WR-CALNAME:Visit Chomutov
X-ORIGINAL-URL:https://visit.chomutov.cz
X-WR-CALDESC:Akce na Visit Chomutov
REFRESH-INTERVAL;VALUE=DURATION:PT1H
X-Robots-Tag:noindex
X-PUBLISHED-TTL:PT1H
BEGIN:VTIMEZONE
TZID:Europe/Prague
BEGIN:DAYLIGHT
TZOFFSETFROM:+0100
TZOFFSETTO:+0200
TZNAME:CEST
DTSTART:20240331T010000
END:DAYLIGHT
BEGIN:STANDARD
TZOFFSETFROM:+0200
TZOFFSETTO:+0100
TZNAME:CET
DTSTART:20241027T010000
END:STANDARD
END:VTIMEZONE
BEGIN:VEVENT
DTSTART;TZID=Europe/Prague:20240709T180000
DTEND;TZID=Europe/Prague:20240730T180000
DTSTAMP:20260423T052443
CREATED:20240624T132138Z
LAST-MODIFIED:20240704T111108Z
UID:7500-1720548000-1722362400@visit.chomutov.cz
SUMMARY:Jóga a pilates v Atriu
DESCRIPTION:každé úterý\nlektorky studia BFit Yoga\, cvičení bude probíhat za hezkého počasí\,účast na lekcích není třeba rezervovat. S sebou vlastní podložku a pohodlné oblečení\, na místě bude možnost se převléknout.
URL:https://visit.chomutov.cz/kalendar/joga-a-pilates-v-atriu/
LOCATION:Atrium\, nám. 1. máje\, Chomutov
CATEGORIES:sportovní akce
ATTACH;FMTTYPE=image/jpeg:https://visit.chomutov.cz/wp-content/uploads/2023/06/DSC04620.jpg
END:VEVENT
BEGIN:VEVENT
DTSTART;TZID=Europe/Prague:20240710T100000
DTEND;TZID=Europe/Prague:20240731T110000
DTSTAMP:20260423T052443
CREATED:20240624T131717Z
LAST-MODIFIED:20240624T131955Z
UID:7497-1720605600-1722423600@visit.chomutov.cz
SUMMARY:Aqua Aerobic na Kamencovém jezeře
DESCRIPTION:každou středu a pátek
URL:https://visit.chomutov.cz/kalendar/aqua-aerobic-na-kamencovem-jezere/
LOCATION:Kamencové jezero\, Tomáše ze Štítného 5971\, Chomutov
CATEGORIES:sportovní akce
ATTACH;FMTTYPE=image/jpeg:https://visit.chomutov.cz/wp-content/uploads/2024/06/aqua-aerobic-KJ-page-001-scaled.jpg
END:VEVENT
END:VCALENDAR