BEGIN:VCALENDAR
VERSION:2.0
PRODID:-//Visit Chomutov - ECPv5.14.2.1//NONSGML v1.0//EN
CALSCALE:GREGORIAN
METHOD:PUBLISH
X-WR-CALNAME:Visit Chomutov
X-ORIGINAL-URL:https://visit.chomutov.cz
X-WR-CALDESC:Akce na Visit Chomutov
REFRESH-INTERVAL;VALUE=DURATION:PT1H
X-Robots-Tag:noindex
X-PUBLISHED-TTL:PT1H
BEGIN:VTIMEZONE
TZID:Europe/Prague
BEGIN:DAYLIGHT
TZOFFSETFROM:+0100
TZOFFSETTO:+0200
TZNAME:CEST
DTSTART:20240331T010000
END:DAYLIGHT
BEGIN:STANDARD
TZOFFSETFROM:+0200
TZOFFSETTO:+0100
TZNAME:CET
DTSTART:20241027T010000
END:STANDARD
END:VTIMEZONE
BEGIN:VEVENT
DTSTART;VALUE=DATE:20240602
DTEND;VALUE=DATE:20240623
DTSTAMP:20260423T070013
CREATED:20230324T065337Z
LAST-MODIFIED:20240529T135135Z
UID:3649-1717286400-1719100799@visit.chomutov.cz
SUMMARY:Zápasy Beavers Chomutov - červen
DESCRIPTION:2.6. 15.00 a 17.00 Beavers Chomutov x Hroši Havlíčkův Brod – extraliga juniorů\n8.6. 10:00 a 12:00 Beavers Chomutov B x Painbusters Most B- 2. liga mužů\n8.6. 15.00 a 17.00 Beavers Chomutov x Joudrs Praha- extraliga juniorek\n9.6. 10.00 a 12.00 Beavers Chomutov x Eagles Praha- extraliga juniorek\n14.6.-16.6. celodenní událost Open pohár kadetek\n22.6. 15.00 a 17.00 Beavers Chomutov x Tempo Praha- extraliga mužů
URL:https://visit.chomutov.cz/kalendar/zapasy-beavers-chomutov/
LOCATION:Softballový areál\, Bezručova 5989\, Chomutov
CATEGORIES:sportovní akce
ATTACH;FMTTYPE=image/jpeg:https://visit.chomutov.cz/wp-content/uploads/2022/05/softball.jpg
ORGANIZER;CN="Beavers%20Chomutov":MAILTO:info@beavers.cz
END:VEVENT
BEGIN:VEVENT
DTSTART;VALUE=DATE:20240619
DTEND;VALUE=DATE:20240624
DTSTAMP:20260423T070013
CREATED:20240604T081322Z
LAST-MODIFIED:20240604T081322Z
UID:7223-1718755200-1719187199@visit.chomutov.cz
SUMMARY:Dance fever - Mistrovství Evropy v disco dance a disco Freestyle
DESCRIPTION:
URL:https://visit.chomutov.cz/kalendar/dance-fever-mistrovstvi-evropy-v-disco-dance-a-disco-freestyle/
LOCATION:Rocknet Aréna – zimní stadion\, Mostecká 5773\, Chomutov
CATEGORIES:sportovní akce
ATTACH;FMTTYPE=image/jpeg:https://visit.chomutov.cz/wp-content/uploads/2024/06/Dance-fever-banner.jpg
END:VEVENT
BEGIN:VEVENT
DTSTART;TZID=Europe/Prague:20240619T180000
DTEND;TZID=Europe/Prague:20240619T180000
DTSTAMP:20260423T070013
CREATED:20240604T081844Z
LAST-MODIFIED:20240604T081849Z
UID:7226-1718820000-1718820000@visit.chomutov.cz
SUMMARY:Olympijský běh
DESCRIPTION:Jeden za všechny\, všichni za T-mobile olympijský běh. 3. ročník v Chomutově.\nRegistrace do 7.6.\, na místě nebude možné se registrovat.\nStart: malé parkoviště u začátku cyklostezky\, Bezručovo údolí
URL:https://visit.chomutov.cz/kalendar/olympijsky-beh/
CATEGORIES:sportovní akce
ATTACH;FMTTYPE=image/jpeg:https://visit.chomutov.cz/wp-content/uploads/2024/06/Olympijsky-beh-2024.jpg
END:VEVENT
END:VCALENDAR