BEGIN:VCALENDAR
VERSION:2.0
PRODID:-//Visit Chomutov - ECPv5.14.2.1//NONSGML v1.0//EN
CALSCALE:GREGORIAN
METHOD:PUBLISH
X-WR-CALNAME:Visit Chomutov
X-ORIGINAL-URL:https://visit.chomutov.cz
X-WR-CALDESC:Akce na Visit Chomutov
REFRESH-INTERVAL;VALUE=DURATION:PT1H
X-Robots-Tag:noindex
X-PUBLISHED-TTL:PT1H
BEGIN:VTIMEZONE
TZID:Europe/Prague
BEGIN:DAYLIGHT
TZOFFSETFROM:+0100
TZOFFSETTO:+0200
TZNAME:CEST
DTSTART:20260329T010000
END:DAYLIGHT
BEGIN:STANDARD
TZOFFSETFROM:+0200
TZOFFSETTO:+0100
TZNAME:CET
DTSTART:20261025T010000
END:STANDARD
END:VTIMEZONE
BEGIN:VEVENT
DTSTART;TZID=Europe/Prague:20260306T200000
DTEND;TZID=Europe/Prague:20260306T220000
DTSTAMP:20260421T115634
CREATED:20260303T075349Z
LAST-MODIFIED:20260303T075349Z
UID:12051-1772827200-1772834400@visit.chomutov.cz
SUMMARY:FC Baník Chomutov x FTZS Liberec
DESCRIPTION:1. futsal liga muži A
URL:https://visit.chomutov.cz/kalendar/fc-banik-chomutov-x-ftzs-liberec/
LOCATION:Městská sportovní hala\, Mánesova 4980\, Chomutov
CATEGORIES:sportovní akce
ATTACH;FMTTYPE=image/jpeg:https://visit.chomutov.cz/wp-content/uploads/2023/12/IMG_1966.jpg
END:VEVENT
BEGIN:VEVENT
DTSTART;TZID=Europe/Prague:20260307T090000
DTEND;TZID=Europe/Prague:20260307T090000
DTSTAMP:20260421T115634
CREATED:20260303T075451Z
LAST-MODIFIED:20260303T075451Z
UID:12053-1772874000-1772874000@visit.chomutov.cz
SUMMARY:Přebor ústeckého kraje
DESCRIPTION:VzPi\, VzPu + finále muži
URL:https://visit.chomutov.cz/kalendar/prebor-usteckeho-kraje/
LOCATION:Střelnice SSK Chomutov\, Blatenská 804\, Chomutov
CATEGORIES:sportovní akce
ATTACH;FMTTYPE=image/jpeg:https://visit.chomutov.cz/wp-content/uploads/2024/09/pexels-karolina-grabowska-5202384.jpg
END:VEVENT
BEGIN:VEVENT
DTSTART;TZID=Europe/Prague:20260308T150000
DTEND;TZID=Europe/Prague:20260308T170000
DTSTAMP:20260421T115634
CREATED:20260303T080455Z
LAST-MODIFIED:20260303T080455Z
UID:12066-1772982000-1772989200@visit.chomutov.cz
SUMMARY:Florbal Chomutov x FBC KAMAT Dobruška
DESCRIPTION:florbal ČEZ EXTRALIGA ženy A
URL:https://visit.chomutov.cz/kalendar/florbal-chomutov-x-fbc-kamat-dobruska/
LOCATION:Městská sportovní hala\, Mánesova 4980\, Chomutov
CATEGORIES:sportovní akce
ATTACH;FMTTYPE=image/jpeg:https://visit.chomutov.cz/wp-content/uploads/2025/08/Florbal-Chomutov.jpg
END:VEVENT
BEGIN:VEVENT
DTSTART;TZID=Europe/Prague:20260309T140000
DTEND;TZID=Europe/Prague:20260309T140000
DTSTAMP:20260421T115634
CREATED:20260303T100239Z
LAST-MODIFIED:20260303T100239Z
UID:12159-1773064800-1773064800@visit.chomutov.cz
SUMMARY:Rumunsko x Česko
DESCRIPTION:kvalifikace WU17 (ženy)
URL:https://visit.chomutov.cz/kalendar/rumunsko-x-cesko/
LOCATION:Letní stadion\, Mostecká 5886\, Chomutov
CATEGORIES:sportovní akce
ATTACH;FMTTYPE=image/jpeg:https://visit.chomutov.cz/wp-content/uploads/2026/03/WU17.jpg
END:VEVENT
BEGIN:VEVENT
DTSTART;TZID=Europe/Prague:20260312T140000
DTEND;TZID=Europe/Prague:20260312T140000
DTSTAMP:20260421T115634
CREATED:20260303T100341Z
LAST-MODIFIED:20260303T100341Z
UID:12162-1773324000-1773324000@visit.chomutov.cz
SUMMARY:Česko x Lotyšsko
DESCRIPTION:kvalifikace WU17 (ženy)
URL:https://visit.chomutov.cz/kalendar/cesko-x-lotyssko/
LOCATION:Letní stadion\, Mostecká 5886\, Chomutov
CATEGORIES:sportovní akce
ATTACH;FMTTYPE=image/jpeg:https://visit.chomutov.cz/wp-content/uploads/2026/03/WU17.jpg
END:VEVENT
BEGIN:VEVENT
DTSTART;TZID=Europe/Prague:20260312T150000
DTEND;TZID=Europe/Prague:20260312T150000
DTSTAMP:20260421T115634
CREATED:20260303T100431Z
LAST-MODIFIED:20260303T100431Z
UID:12164-1773327600-1773327600@visit.chomutov.cz
SUMMARY:Česko x Finsko
DESCRIPTION:kvalifikace WU17 (ženy)
URL:https://visit.chomutov.cz/kalendar/cesko-x-finsko/
LOCATION:Letní stadion\, Mostecká 5886\, Chomutov
CATEGORIES:sportovní akce
ATTACH;FMTTYPE=image/jpeg:https://visit.chomutov.cz/wp-content/uploads/2026/03/WU17.jpg
END:VEVENT
BEGIN:VEVENT
DTSTART;TZID=Europe/Prague:20260313T190000
DTEND;TZID=Europe/Prague:20260313T190000
DTSTAMP:20260421T115634
CREATED:20260303T100940Z
LAST-MODIFIED:20260303T100940Z
UID:12166-1773428400-1773428400@visit.chomutov.cz
SUMMARY:BK Levharti Chomutov x GBA Lions Jindřichův Hradec
DESCRIPTION:1.liga mužů
URL:https://visit.chomutov.cz/kalendar/bk-levharti-chomutov-x-gba-lions-jindrichuv-hradec/
LOCATION:Městská sportovní hala\, Mánesova 4980\, Chomutov
CATEGORIES:sportovní akce
ATTACH;FMTTYPE=image/png:https://visit.chomutov.cz/wp-content/uploads/2022/10/bk-levharti.png
END:VEVENT
BEGIN:VEVENT
DTSTART;TZID=Europe/Prague:20260315T190000
DTEND;TZID=Europe/Prague:20260315T210000
DTSTAMP:20260421T115634
CREATED:20260303T101129Z
LAST-MODIFIED:20260303T101129Z
UID:12168-1773601200-1773608400@visit.chomutov.cz
SUMMARY:BK Levharti Chomutov x GBA Lions Jindřichův Hradec
DESCRIPTION:1. liga muži
URL:https://visit.chomutov.cz/kalendar/bk-levharti-chomutov-x-gba-lions-jindrichuv-hradec-2/
LOCATION:Městská sportovní hala\, Mánesova 4980\, Chomutov
CATEGORIES:sportovní akce
ATTACH;FMTTYPE=image/png:https://visit.chomutov.cz/wp-content/uploads/2022/10/bk-levharti.png
END:VEVENT
BEGIN:VEVENT
DTSTART;TZID=Europe/Prague:20260321T090000
DTEND;TZID=Europe/Prague:20260321T090000
DTSTAMP:20260421T115634
CREATED:20230220T151546Z
LAST-MODIFIED:20260303T100605Z
UID:3459-1774083600-1774083600@visit.chomutov.cz
SUMMARY:Jarní cena nejmladšího žactva
DESCRIPTION:plavecké závody\nUPOZORNĚNÍ: PRO VEŘEJNOST JE BAZÉN UZAVŘEN\, ZÁBAVNÍ ČÁST BUDE VEŘEJNOSTI PŘÍSTUPNA.
URL:https://visit.chomutov.cz/kalendar/jarni-cena-nejmladsiho-zactva/
LOCATION:Aquasvět\, Mostecká 5887\, Chomutov
CATEGORIES:pro děti,sportovní akce
ATTACH;FMTTYPE=image/jpeg:https://visit.chomutov.cz/wp-content/uploads/2022/11/plavani.jpg
ORGANIZER;CN="TJ%20Sl%C3%A1vie%20Chomutov":MAILTO:slcho@slaviechomutov.cz
END:VEVENT
BEGIN:VEVENT
DTSTART;TZID=Europe/Prague:20260325T190000
DTEND;TZID=Europe/Prague:20260325T190000
DTSTAMP:20260421T115634
CREATED:20260303T101217Z
LAST-MODIFIED:20260303T101217Z
UID:12170-1774465200-1774465200@visit.chomutov.cz
SUMMARY:BK Levhartice Chomutov x Kara Trutnov
DESCRIPTION:ženská basketbalová liga
URL:https://visit.chomutov.cz/kalendar/bk-levhartice-chomutov-x-kara-trutnov/
LOCATION:Městská sportovní hala\, Mánesova 4980\, Chomutov
CATEGORIES:sportovní akce
ATTACH;FMTTYPE=image/png:https://visit.chomutov.cz/wp-content/uploads/2022/10/bk-levharti.png
END:VEVENT
BEGIN:VEVENT
DTSTART;TZID=Europe/Prague:20260329T090000
DTEND;TZID=Europe/Prague:20260329T090000
DTSTAMP:20260421T115634
CREATED:20260303T101306Z
LAST-MODIFIED:20260303T101306Z
UID:12172-1774774800-1774774800@visit.chomutov.cz
SUMMARY:Dorostenecká sportka 2026
DESCRIPTION:SP 30+30
URL:https://visit.chomutov.cz/kalendar/dorostenecka-sportka-2026/
LOCATION:Střelnice SSK Chomutov\, Blatenská 804\, Chomutov
CATEGORIES:sportovní akce
ATTACH;FMTTYPE=image/jpeg:https://visit.chomutov.cz/wp-content/uploads/2024/09/pexels-karolina-grabowska-5202384.jpg
END:VEVENT
BEGIN:VEVENT
DTSTART;TZID=Europe/Prague:20260331T170000
DTEND;TZID=Europe/Prague:20260331T170000
DTSTAMP:20260421T115634
CREATED:20260303T101707Z
LAST-MODIFIED:20260303T101707Z
UID:12174-1774976400-1774976400@visit.chomutov.cz
SUMMARY:Česko x Gibraltar
DESCRIPTION:kvalifikace hráčů do 21 let ME 2027 (muži)
URL:https://visit.chomutov.cz/kalendar/cesko-x-gibraltar/
LOCATION:Letní stadion\, Mostecká 5886\, Chomutov
CATEGORIES:sportovní akce
ATTACH;FMTTYPE=image/jpeg:https://visit.chomutov.cz/wp-content/uploads/2026/03/images.jpg
END:VEVENT
END:VCALENDAR