BEGIN:VCALENDAR
VERSION:2.0
PRODID:-//Visit Chomutov - ECPv5.14.2.1//NONSGML v1.0//EN
CALSCALE:GREGORIAN
METHOD:PUBLISH
X-WR-CALNAME:Visit Chomutov
X-ORIGINAL-URL:https://visit.chomutov.cz
X-WR-CALDESC:Akce na Visit Chomutov
REFRESH-INTERVAL;VALUE=DURATION:PT1H
X-Robots-Tag:noindex
X-PUBLISHED-TTL:PT1H
BEGIN:VTIMEZONE
TZID:Europe/Prague
BEGIN:DAYLIGHT
TZOFFSETFROM:+0100
TZOFFSETTO:+0200
TZNAME:CEST
DTSTART:20250330T010000
END:DAYLIGHT
BEGIN:STANDARD
TZOFFSETFROM:+0200
TZOFFSETTO:+0100
TZNAME:CET
DTSTART:20251026T010000
END:STANDARD
END:VTIMEZONE
BEGIN:VEVENT
DTSTART;TZID=Europe/Prague:20251001T173000
DTEND;TZID=Europe/Prague:20251001T173000
DTSTAMP:20260421T194710
CREATED:20250926T094759Z
LAST-MODIFIED:20250926T094759Z
UID:11030-1759339800-1759339800@visit.chomutov.cz
SUMMARY:Piráti Chomutov x HC Tábor
DESCRIPTION:
URL:https://visit.chomutov.cz/kalendar/pirati-chomutov-x-hc-tabor/
LOCATION:Rocknet Aréna – zimní stadion\, Mostecká 5773\, Chomutov
CATEGORIES:sportovní akce
ATTACH;FMTTYPE=image/jpeg:https://visit.chomutov.cz/wp-content/uploads/2024/12/piratichomutov.jpg
END:VEVENT
BEGIN:VEVENT
DTSTART;TZID=Europe/Prague:20251003T153000
DTEND;TZID=Europe/Prague:20251003T190000
DTSTAMP:20260421T194710
CREATED:20250926T094855Z
LAST-MODIFIED:20250926T094855Z
UID:11032-1759505400-1759518000@visit.chomutov.cz
SUMMARY:Oddílové závody TJ Slavie
DESCRIPTION:
URL:https://visit.chomutov.cz/kalendar/oddilove-zavody-tj-slavie/
LOCATION:Aquasvět\, Mostecká 5887\, Chomutov
CATEGORIES:sportovní akce
ATTACH;FMTTYPE=image/jpeg:https://visit.chomutov.cz/wp-content/uploads/2022/11/plavani.jpg
ORGANIZER;CN="TJ%20Sl%C3%A1vie%20Chomutov":MAILTO:slcho@slaviechomutov.cz
END:VEVENT
BEGIN:VEVENT
DTSTART;TZID=Europe/Prague:20251003T170000
DTEND;TZID=Europe/Prague:20251003T200000
DTSTAMP:20260421T194710
CREATED:20250926T072728Z
LAST-MODIFIED:20250926T072728Z
UID:10947-1759510800-1759521600@visit.chomutov.cz
SUMMARY:CombatBall 6 – CombatBall vs. IAF
DESCRIPTION:Šesté pokračování jedinečné show je tady! Přijďte zažít večer\, kdy se proti sobě postaví týmy plné hvězd bojových sportů a k tomu vystoupí i známé tváře ze světa šoubyznysu. Čeká vás večer plný adrenalinu\, zábavy\, nečekaných momentů a hvězdné atmosféry. Akce je benefiční – výtěžek poputuje na pomoc dvěma dětem\, které naši podporu opravdu potřebují. Přijďte fandit\, bavit se a být součástí nezapomenutelné show\, která spojuje sport\, showbyznys a dobrou věc!
URL:https://visit.chomutov.cz/kalendar/combatball-6-combatball-vs-iaf/
LOCATION:Městská sportovní hala\, Mánesova 4980\, Chomutov
CATEGORIES:sportovní akce,zábavní pořady
ATTACH;FMTTYPE=image/jpeg:https://visit.chomutov.cz/wp-content/uploads/2025/09/Combatball-6-scaled.jpg
END:VEVENT
BEGIN:VEVENT
DTSTART;TZID=Europe/Prague:20251003T183000
DTEND;TZID=Europe/Prague:20251003T183000
DTSTAMP:20260421T194710
CREATED:20250929T081808Z
LAST-MODIFIED:20250929T081808Z
UID:11049-1759516200-1759516200@visit.chomutov.cz
SUMMARY:FC  Chomutov - FK Ústí nad Labem
DESCRIPTION:
URL:https://visit.chomutov.cz/kalendar/fc-chomutov-fk-usti-nad-labem/
LOCATION:Letní stadion\, Mostecká 5886\, Chomutov
CATEGORIES:sportovní akce
ATTACH;FMTTYPE=image/jpeg:https://visit.chomutov.cz/wp-content/uploads/2022/05/fotbal-1.jpg
ORGANIZER;CN="FC%20Chomutov":MAILTO:fcchomutov@seznam.cz
END:VEVENT
BEGIN:VEVENT
DTSTART;VALUE=DATE:20251004
DTEND;VALUE=DATE:20251101
DTSTAMP:20260421T194710
CREATED:20250929T111016Z
LAST-MODIFIED:20250929T111016Z
UID:11149-1759536000-1761955199@visit.chomutov.cz
SUMMARY:BK Levharti Chomutov - zápasy říjen 2025
DESCRIPTION:4.10. 19:30 – 21:30 BK Chomutov. – 1. liga ženy – BK Havířov\n5.10. 10:00 – 12:00 BK Chomutov – 1. liga ženy – SK UP Olomouc\n5.10. 16:00 – 18:00 BK Levharti Chomutov – 1. liga muži – Sokol Pražský\n11.10. 17:00 – 19:00 BK Chomutov – basktebal juniorky U19 – SBŠ Ostrava\n12.10. 10:00 – 12:00 BK Chomutov – basktebal juniorky U19 – Basket Ostrava\n17.10. 19:00 – 21:00 BK Levharti Chomutov – ženská basketbalová liga – Žabiny Brno\n19.10. 16:00 – 18:00 BK Levharti Chomutov – 1. liga muži – BK Slavoj Litoměřice\n31.10. 19:00 – 21:00 BK Levharti Chomutov – 1. liga muži – BK Lokomotiva Plzeň
URL:https://visit.chomutov.cz/kalendar/bk-levharti-chomutov-rijen/
LOCATION:Městská sportovní hala\, Mánesova 4980\, Chomutov
CATEGORIES:sportovní akce
ATTACH;FMTTYPE=image/png:https://visit.chomutov.cz/wp-content/uploads/2022/10/bk-levharti.png
END:VEVENT
BEGIN:VEVENT
DTSTART;TZID=Europe/Prague:20251004T170000
DTEND;TZID=Europe/Prague:20251004T190000
DTSTAMP:20260421T194710
CREATED:20250929T083901Z
LAST-MODIFIED:20250929T083933Z
UID:11061-1759597200-1759604400@visit.chomutov.cz
SUMMARY:BK Levharti Chomutov vs Basket Ostrava
DESCRIPTION:ženská basketbalová liga
URL:https://visit.chomutov.cz/kalendar/bk-levharti-chomutov-vs-basket-ostrava/
LOCATION:Městská sportovní hala\, Mánesova 4980\, Chomutov
CATEGORIES:sportovní akce
ATTACH;FMTTYPE=image/png:https://visit.chomutov.cz/wp-content/uploads/2022/10/bk-levharti.png
END:VEVENT
BEGIN:VEVENT
DTSTART;TZID=Europe/Prague:20251005T080000
DTEND;TZID=Europe/Prague:20251005T080000
DTSTAMP:20260421T194710
CREATED:20250929T100528Z
LAST-MODIFIED:20250929T100528Z
UID:11099-1759651200-1759651200@visit.chomutov.cz
SUMMARY:Chomutovská extraliga 2025-2026
DESCRIPTION: I. kolo – VzPi 40\,60\, VzPu 30\,40\,60
URL:https://visit.chomutov.cz/kalendar/chomutovska-extraliga-2025-2026/
LOCATION:Střelnice SSK Chomutov\, Blatenská 804\, Chomutov
CATEGORIES:sportovní akce
ATTACH;FMTTYPE=image/jpeg:https://visit.chomutov.cz/wp-content/uploads/2024/09/pexels-karolina-grabowska-5202384.jpg
END:VEVENT
BEGIN:VEVENT
DTSTART;TZID=Europe/Prague:20251005T090000
DTEND;TZID=Europe/Prague:20251005T090000
DTSTAMP:20260421T194710
CREATED:20250929T083120Z
LAST-MODIFIED:20250929T083136Z
UID:11051-1759654800-1759654800@visit.chomutov.cz
SUMMARY:Drezurní závody
DESCRIPTION:
URL:https://visit.chomutov.cz/kalendar/drezurni-zavody/
LOCATION:Jízdárna Zooparku Chomutov\, Chomutov
CATEGORIES:sportovní akce
ATTACH;FMTTYPE=image/jpeg:https://visit.chomutov.cz/wp-content/uploads/2025/09/pexels-asemirski-13814412.jpg
ORGANIZER;CN="Jezdeck%C3%BD%20klub%20Zooparku%20Chomutov":MAILTO:jkpzoo@seznam.cz
END:VEVENT
BEGIN:VEVENT
DTSTART;TZID=Europe/Prague:20251006T180000
DTEND;TZID=Europe/Prague:20251006T200000
DTSTAMP:20260421T194710
CREATED:20250929T112556Z
LAST-MODIFIED:20250929T112556Z
UID:11153-1759773600-1759780800@visit.chomutov.cz
SUMMARY:FC Baník Chomutov x SK Rapid Ústí nad Labem
DESCRIPTION:1. futsal liga muži A
URL:https://visit.chomutov.cz/kalendar/fc-banik-chomutov-x-sk-rapid-usti-nad-labem/
LOCATION:Městská sportovní hala\, Mánesova 4980\, Chomutov
CATEGORIES:sportovní akce
ATTACH;FMTTYPE=image/jpeg:https://visit.chomutov.cz/wp-content/uploads/2025/09/Banik-Chomutov.jpg
END:VEVENT
BEGIN:VEVENT
DTSTART;TZID=Europe/Prague:20251008T163000
DTEND;TZID=Europe/Prague:20251008T170000
DTSTAMP:20260421T194710
CREATED:20250929T102734Z
LAST-MODIFIED:20250929T102734Z
UID:11117-1759941000-1759942800@visit.chomutov.cz
SUMMARY:Piráti Chomutov x SK Horácká Slavie Třebíč
DESCRIPTION:
URL:https://visit.chomutov.cz/kalendar/pirati-chomutov-x-sk-horacka-slavie-trebic/
LOCATION:Rocknet Aréna – zimní stadion\, Mostecká 5773\, Chomutov
CATEGORIES:sportovní akce
ATTACH;FMTTYPE=image/jpeg:https://visit.chomutov.cz/wp-content/uploads/2024/12/piratichomutov.jpg
END:VEVENT
BEGIN:VEVENT
DTSTART;TZID=Europe/Prague:20251008T190000
DTEND;TZID=Europe/Prague:20251008T210000
DTSTAMP:20260421T194710
CREATED:20250929T105700Z
LAST-MODIFIED:20250929T105700Z
UID:11135-1759950000-1759957200@visit.chomutov.cz
SUMMARY:Eurocup 2025
DESCRIPTION:Přijďte zažít evropský basket!\n8.10. 19:00 – 21:00 BK Levharti Chomutov – EUROCUP WOMEN – KBF PEJA 03 (KOS)\n15.10. 19:00 – 21:00 BK Levharti Chomutov – EUROCUP WOMEN – Rutronik Stars Keltern (GER)\n22.10. 19:00 – 21:00 BK Levharti Chomutov – EUROCUP WOMEN\n25.10. 19:00 – 21:00 EUROCUP WOMEN – KBF PEJA (KOS)
URL:https://visit.chomutov.cz/kalendar/eurocup-2025/
LOCATION:Městská sportovní hala\, Mánesova 4980\, Chomutov
CATEGORIES:sportovní akce
ATTACH;FMTTYPE=image/jpeg:https://visit.chomutov.cz/wp-content/uploads/2025/09/Eurocup.jpg
END:VEVENT
BEGIN:VEVENT
DTSTART;VALUE=DATE:20251011
DTEND;VALUE=DATE:20251029
DTSTAMP:20260421T194710
CREATED:20250929T111245Z
LAST-MODIFIED:20250929T111245Z
UID:11151-1760140800-1761695999@visit.chomutov.cz
SUMMARY:Florbal Chomutov - zápasy říjen 2025
DESCRIPTION:11.10. 14:00 – 16:00 Florbal Chomutov – florbal muži A – Florbal Respect Hradec Králové\n19.10. 13:00 – 15:00 Florbal Chomutov – florbal muži A – Goldeta Panthers Otrokovice\n26.10. 8:30 – 13:30 Florbal Chomutov – turnaj dorostenek\n28.10. 18:00 – 20:00 Florbal Chomutov – florbal muži A – Bulldogs Brno
URL:https://visit.chomutov.cz/kalendar/florbal-chomutov-zapasy-rijen-2025/
LOCATION:Městská sportovní hala\, Mánesova 4980\, Chomutov
CATEGORIES:sportovní akce
ATTACH;FMTTYPE=image/jpeg:https://visit.chomutov.cz/wp-content/uploads/2025/08/Florbal-Chomutov.jpg
END:VEVENT
BEGIN:VEVENT
DTSTART;TZID=Europe/Prague:20251015T173000
DTEND;TZID=Europe/Prague:20251015T173000
DTSTAMP:20260421T194710
CREATED:20250929T103600Z
LAST-MODIFIED:20250929T103600Z
UID:11122-1760549400-1760549400@visit.chomutov.cz
SUMMARY:Piráti Chomutov X HC Slavia Praha
DESCRIPTION:
URL:https://visit.chomutov.cz/kalendar/pirati-chomutov-x-hc-slavia-praha/
LOCATION:Rocknet Aréna – zimní stadion\, Mostecká 5773\, Chomutov
CATEGORIES:sportovní akce
ATTACH;FMTTYPE=image/jpeg:https://visit.chomutov.cz/wp-content/uploads/2024/12/piratichomutov.jpg
END:VEVENT
BEGIN:VEVENT
DTSTART;TZID=Europe/Prague:20251015T190000
DTEND;TZID=Europe/Prague:20251015T210000
DTSTAMP:20260421T194710
CREATED:20250929T105715Z
LAST-MODIFIED:20250929T105715Z
UID:11138-1760554800-1760562000@visit.chomutov.cz
SUMMARY:Eurocup 2025
DESCRIPTION:Přijďte zažít evropský basket!\n8.10. 19:00 – 21:00 BK Levharti Chomutov – EUROCUP WOMEN – KBF PEJA 03 (KOS)\n15.10. 19:00 – 21:00 BK Levharti Chomutov – EUROCUP WOMEN – Rutronik Stars Keltern (GER)\n22.10. 19:00 – 21:00 BK Levharti Chomutov – EUROCUP WOMEN\n25.10. 19:00 – 21:00 EUROCUP WOMEN – KBF PEJA (KOS)
URL:https://visit.chomutov.cz/kalendar/eurocup-2025-2/
LOCATION:Městská sportovní hala\, Mánesova 4980\, Chomutov
CATEGORIES:sportovní akce
ATTACH;FMTTYPE=image/jpeg:https://visit.chomutov.cz/wp-content/uploads/2025/09/Eurocup.jpg
END:VEVENT
BEGIN:VEVENT
DTSTART;TZID=Europe/Prague:20251017T183000
DTEND;TZID=Europe/Prague:20251017T183000
DTSTAMP:20260421T194710
CREATED:20250929T103657Z
LAST-MODIFIED:20250929T103657Z
UID:11124-1760725800-1760725800@visit.chomutov.cz
SUMMARY:FC Chomutov x FC Viktoria Mariánské lázně
DESCRIPTION:
URL:https://visit.chomutov.cz/kalendar/fc-chomutov-x-fc-viktoria-marianske-lazne/
LOCATION:Letní stadion\, Mostecká 5886\, Chomutov
CATEGORIES:sportovní akce
ATTACH;FMTTYPE=image/jpeg:https://visit.chomutov.cz/wp-content/uploads/2022/05/fotbal-1.jpg
END:VEVENT
BEGIN:VEVENT
DTSTART;TZID=Europe/Prague:20251018T090000
DTEND;TZID=Europe/Prague:20251018T090000
DTSTAMP:20260421T194710
CREATED:20250929T083431Z
LAST-MODIFIED:20250929T083431Z
UID:11058-1760778000-1760778000@visit.chomutov.cz
SUMMARY:Skokové halové závody
DESCRIPTION:
URL:https://visit.chomutov.cz/kalendar/skokove-halove-zavody/
LOCATION:Jízdárna Zooparku Chomutov\, Chomutov
CATEGORIES:sportovní akce
ATTACH;FMTTYPE=image/jpeg:https://visit.chomutov.cz/wp-content/uploads/2025/09/pexels-gustavo-fring-4895011.jpg
ORGANIZER;CN="Jezdeck%C3%BD%20klub%20Zooparku%20Chomutov":MAILTO:jkpzoo@seznam.cz
END:VEVENT
BEGIN:VEVENT
DTSTART;TZID=Europe/Prague:20251018T090000
DTEND;TZID=Europe/Prague:20251018T180000
DTSTAMP:20260421T194710
CREATED:20250929T102543Z
LAST-MODIFIED:20250929T102543Z
UID:11114-1760778000-1760810400@visit.chomutov.cz
SUMMARY:Podzimní šachový turnaj
DESCRIPTION:Turnaj mládeže v rapid šachu zařazený do seriálu Grand Prix mládeže jednotlivců ÚKŠS.
URL:https://visit.chomutov.cz/kalendar/podzimni-sachovy-turnaj/
LOCATION:Středisko volného času Domeček Chomutov\, Jiráskova 4140\, Chomutov
CATEGORIES:sportovní akce
ATTACH;FMTTYPE=image/jpeg:https://visit.chomutov.cz/wp-content/uploads/2025/09/pexels-pixabay-139392-scaled.jpg
ORGANIZER;CN="St%C5%99edisko%20voln%C3%A9ho%20%C4%8Dasu%20Dome%C4%8Dek":MAILTO:reditel@domecek-chomutov.cz
END:VEVENT
BEGIN:VEVENT
DTSTART;TZID=Europe/Prague:20251018T173000
DTEND;TZID=Europe/Prague:20251018T173000
DTSTAMP:20260421T194710
CREATED:20250929T103753Z
LAST-MODIFIED:20250929T103753Z
UID:11126-1760808600-1760808600@visit.chomutov.cz
SUMMARY:Piráti Chomutov x HC Dukla Jihlava
DESCRIPTION:
URL:https://visit.chomutov.cz/kalendar/pirati-chomutov-x-hc-dukla-jihlava/
LOCATION:Rocknet Aréna – zimní stadion\, Mostecká 5773\, Chomutov
CATEGORIES:sportovní akce
ATTACH;FMTTYPE=image/jpeg:https://visit.chomutov.cz/wp-content/uploads/2024/12/piratichomutov.jpg
END:VEVENT
BEGIN:VEVENT
DTSTART;TZID=Europe/Prague:20251019T073000
DTEND;TZID=Europe/Prague:20251019T190000
DTSTAMP:20260421T194710
CREATED:20250929T103340Z
LAST-MODIFIED:20250929T103340Z
UID:11119-1760859000-1760900400@visit.chomutov.cz
SUMMARY:Chomutovská brusle
DESCRIPTION:
URL:https://visit.chomutov.cz/kalendar/chomutovska-brusle/
LOCATION:Rocknet Aréna – zimní stadion\, Mostecká 5773\, Chomutov
CATEGORIES:sportovní akce
ATTACH;FMTTYPE=image/jpeg:https://visit.chomutov.cz/wp-content/uploads/2025/09/pexels-graficdasign-914996.jpg
ORGANIZER;CN="Krasobrusla%C5%99sk%C3%BD%20klub%20Chomutov":MAILTO:kkchomutov@seznam.cz
END:VEVENT
BEGIN:VEVENT
DTSTART;TZID=Europe/Prague:20251021T081500
DTEND;TZID=Europe/Prague:20251021T081500
DTSTAMP:20260421T194710
CREATED:20250926T055617Z
LAST-MODIFIED:20250926T055617Z
UID:10896-1761034500-1761034500@visit.chomutov.cz
SUMMARY:Nordic walking ze Strupčic do Chomutova
DESCRIPTION:sraz na autobusovém nádraží v Chomutově
URL:https://visit.chomutov.cz/kalendar/nordic-walking-ze-strupcic-do-chomutova-2/
LOCATION:Autobusové nádraží Chomutov\, Wolkerova\, Chomutov
CATEGORIES:sportovní akce
ATTACH;FMTTYPE=image/jpeg:https://visit.chomutov.cz/wp-content/uploads/2025/09/Nordic-rijen-scaled.jpg
END:VEVENT
BEGIN:VEVENT
DTSTART;TZID=Europe/Prague:20251021T170000
DTEND;TZID=Europe/Prague:20251021T170000
DTSTAMP:20260421T194710
CREATED:20250929T102054Z
LAST-MODIFIED:20250929T102054Z
UID:11107-1761066000-1761066000@visit.chomutov.cz
SUMMARY:Česko U19 ženy - kvalifikace na ME 2026
DESCRIPTION:21.10. 17.00 Česko x Moldavsko \n24.10. 17.00 Česko x Litva\n27.10. 14.00 Česko x Maďarsko
URL:https://visit.chomutov.cz/kalendar/cesko-u19-zeny-kvalifikace-na-me-2026/
LOCATION:Letní stadion\, Mostecká 5886\, Chomutov
CATEGORIES:sportovní akce
ATTACH;FMTTYPE=image/jpeg:https://visit.chomutov.cz/wp-content/uploads/2025/09/zeny-U19-fotbal-logo-male.jpg
END:VEVENT
BEGIN:VEVENT
DTSTART;TZID=Europe/Prague:20251022T190000
DTEND;TZID=Europe/Prague:20251022T210000
DTSTAMP:20260421T194710
CREATED:20250929T105726Z
LAST-MODIFIED:20250929T105726Z
UID:11140-1761159600-1761166800@visit.chomutov.cz
SUMMARY:Eurocup 2025
DESCRIPTION:Přijďte zažít evropský basket!\n8.10. 19:00 – 21:00 BK Levharti Chomutov – EUROCUP WOMEN – KBF PEJA 03 (KOS)\n15.10. 19:00 – 21:00 BK Levharti Chomutov – EUROCUP WOMEN – Rutronik Stars Keltern (GER)\n22.10. 19:00 – 21:00 BK Levharti Chomutov – EUROCUP WOMEN\n25.10. 19:00 – 21:00 EUROCUP WOMEN – KBF PEJA (KOS)
URL:https://visit.chomutov.cz/kalendar/eurocup-2025-3/
LOCATION:Městská sportovní hala\, Mánesova 4980\, Chomutov
CATEGORIES:sportovní akce
ATTACH;FMTTYPE=image/jpeg:https://visit.chomutov.cz/wp-content/uploads/2025/09/Eurocup.jpg
END:VEVENT
BEGIN:VEVENT
DTSTART;TZID=Europe/Prague:20251024T170000
DTEND;TZID=Europe/Prague:20251024T170000
DTSTAMP:20260421T194710
CREATED:20250929T102110Z
LAST-MODIFIED:20250929T102110Z
UID:11110-1761325200-1761325200@visit.chomutov.cz
SUMMARY:Česko U19 ženy - kvalifikace na ME 2026
DESCRIPTION:21.10. 17.00 Česko x Moldavsko \n24.10. 17.00 Česko x Litva\n27.10. 14.00 Česko x Maďarsko
URL:https://visit.chomutov.cz/kalendar/cesko-u19-zeny-kvalifikace-na-me-2026-2/
LOCATION:Letní stadion\, Mostecká 5886\, Chomutov
CATEGORIES:sportovní akce
ATTACH;FMTTYPE=image/jpeg:https://visit.chomutov.cz/wp-content/uploads/2025/09/zeny-U19-fotbal-logo-male.jpg
END:VEVENT
BEGIN:VEVENT
DTSTART;TZID=Europe/Prague:20251025T000000
DTEND;TZID=Europe/Prague:20251025T000000
DTSTAMP:20260421T194710
CREATED:20250929T104650Z
LAST-MODIFIED:20250929T105059Z
UID:11133-1761350400-1761350400@visit.chomutov.cz
SUMMARY:O pohár primátora
DESCRIPTION:Zápas v boxu pod záštitou Městské policie Chomutov.
URL:https://visit.chomutov.cz/kalendar/o-pohar-primatora-2/
LOCATION:Městská sportovní hala\, Mánesova 4980\, Chomutov
CATEGORIES:sportovní akce
ATTACH;FMTTYPE=image/jpeg:https://visit.chomutov.cz/wp-content/uploads/2023/09/pexels-pavel-danilyuk-6296062.jpg
END:VEVENT
BEGIN:VEVENT
DTSTART;TZID=Europe/Prague:20251025T173000
DTEND;TZID=Europe/Prague:20251025T173000
DTSTAMP:20260421T194710
CREATED:20250929T103939Z
LAST-MODIFIED:20250929T103939Z
UID:11128-1761413400-1761413400@visit.chomutov.cz
SUMMARY:Piráti Chomutov x HC Dynamo Pardubice "B"
DESCRIPTION:
URL:https://visit.chomutov.cz/kalendar/pirati-chomutov-x-hc-dynamo-pardubice-b/
LOCATION:Rocknet Aréna – zimní stadion\, Mostecká 5773\, Chomutov
CATEGORIES:sportovní akce
ATTACH;FMTTYPE=image/jpeg:https://visit.chomutov.cz/wp-content/uploads/2024/12/piratichomutov.jpg
END:VEVENT
BEGIN:VEVENT
DTSTART;TZID=Europe/Prague:20251025T190000
DTEND;TZID=Europe/Prague:20251025T210000
DTSTAMP:20260421T194710
CREATED:20250929T105737Z
LAST-MODIFIED:20250929T105737Z
UID:11142-1761418800-1761426000@visit.chomutov.cz
SUMMARY:Eurocup 2025
DESCRIPTION:Přijďte zažít evropský basket!\n8.10. 19:00 – 21:00 BK Levharti Chomutov – EUROCUP WOMEN – KBF PEJA 03 (KOS)\n15.10. 19:00 – 21:00 BK Levharti Chomutov – EUROCUP WOMEN – Rutronik Stars Keltern (GER)\n22.10. 19:00 – 21:00 BK Levharti Chomutov – EUROCUP WOMEN\n25.10. 19:00 – 21:00 EUROCUP WOMEN – KBF PEJA (KOS)
URL:https://visit.chomutov.cz/kalendar/eurocup-2025-4/
LOCATION:Městská sportovní hala\, Mánesova 4980\, Chomutov
CATEGORIES:sportovní akce
ATTACH;FMTTYPE=image/jpeg:https://visit.chomutov.cz/wp-content/uploads/2025/09/Eurocup.jpg
END:VEVENT
BEGIN:VEVENT
DTSTART;TZID=Europe/Prague:20251026T080000
DTEND;TZID=Europe/Prague:20251026T080000
DTSTAMP:20260421T194710
CREATED:20250929T100608Z
LAST-MODIFIED:20250929T100608Z
UID:11101-1761465600-1761465600@visit.chomutov.cz
SUMMARY:Chomutovská extraliga 2025-2026
DESCRIPTION: II. kolo – VzPi 40\,60\, VzPu 30\,40\,60
URL:https://visit.chomutov.cz/kalendar/chomutovska-extraliga-2025-2026-2/
LOCATION:Střelnice SSK Chomutov\, Blatenská 804\, Chomutov
CATEGORIES:sportovní akce
ATTACH;FMTTYPE=image/jpeg:https://visit.chomutov.cz/wp-content/uploads/2024/09/pexels-karolina-grabowska-5202384.jpg
END:VEVENT
BEGIN:VEVENT
DTSTART;TZID=Europe/Prague:20251026T190000
DTEND;TZID=Europe/Prague:20251026T210000
DTSTAMP:20260421T194710
CREATED:20250929T140127Z
LAST-MODIFIED:20250929T140127Z
UID:11156-1761505200-1761512400@visit.chomutov.cz
SUMMARY:FC Baník Chomutov x SK Interobal Plzeň
DESCRIPTION:1. futsal liga muži A
URL:https://visit.chomutov.cz/kalendar/fc-banik-chomutov-x-sk-interobal/
LOCATION:Městská sportovní hala\, Mánesova 4980\, Chomutov
CATEGORIES:sportovní akce
ATTACH;FMTTYPE=image/jpeg:https://visit.chomutov.cz/wp-content/uploads/2025/09/Banik-Chomutov.jpg
END:VEVENT
BEGIN:VEVENT
DTSTART;TZID=Europe/Prague:20251027T140000
DTEND;TZID=Europe/Prague:20251027T140000
DTSTAMP:20260421T194710
CREATED:20250929T102131Z
LAST-MODIFIED:20250929T102131Z
UID:11112-1761573600-1761573600@visit.chomutov.cz
SUMMARY:Česko U19 ženy - kvalifikace na ME 2026
DESCRIPTION:21.10. 17.00 Česko x Moldavsko \n24.10. 17.00 Česko x Litva\n27.10. 14.00 Česko x Maďarsko
URL:https://visit.chomutov.cz/kalendar/cesko-u19-zeny-kvalifikace-na-me-2026-3/
LOCATION:Letní stadion\, Mostecká 5886\, Chomutov
CATEGORIES:sportovní akce
ATTACH;FMTTYPE=image/jpeg:https://visit.chomutov.cz/wp-content/uploads/2025/09/zeny-U19-fotbal-logo-male.jpg
END:VEVENT
BEGIN:VEVENT
DTSTART;TZID=Europe/Prague:20251028T090000
DTEND;TZID=Europe/Prague:20251028T090000
DTSTAMP:20260421T194710
CREATED:20250929T100708Z
LAST-MODIFIED:20250929T100708Z
UID:11103-1761642000-1761642000@visit.chomutov.cz
SUMMARY:Chomutovská vzduchová sportka
DESCRIPTION:2025-2026 I. kolo – SPVzPi 30+30
URL:https://visit.chomutov.cz/kalendar/chomutovska-vzduchova-sportka/
LOCATION:Střelnice SSK Chomutov\, Blatenská 804\, Chomutov
CATEGORIES:sportovní akce
ATTACH;FMTTYPE=image/jpeg:https://visit.chomutov.cz/wp-content/uploads/2024/09/pexels-karolina-grabowska-5202384.jpg
END:VEVENT
END:VCALENDAR