BEGIN:VCALENDAR
VERSION:2.0
PRODID:-//Visit Chomutov - ECPv5.14.2.1//NONSGML v1.0//EN
CALSCALE:GREGORIAN
METHOD:PUBLISH
X-WR-CALNAME:Visit Chomutov
X-ORIGINAL-URL:https://visit.chomutov.cz
X-WR-CALDESC:Akce na Visit Chomutov
REFRESH-INTERVAL;VALUE=DURATION:PT1H
X-Robots-Tag:noindex
X-PUBLISHED-TTL:PT1H
BEGIN:VTIMEZONE
TZID:Europe/Prague
BEGIN:DAYLIGHT
TZOFFSETFROM:+0100
TZOFFSETTO:+0200
TZNAME:CEST
DTSTART:20250330T010000
END:DAYLIGHT
BEGIN:STANDARD
TZOFFSETFROM:+0200
TZOFFSETTO:+0100
TZNAME:CET
DTSTART:20251026T010000
END:STANDARD
END:VTIMEZONE
BEGIN:VEVENT
DTSTART;TZID=Europe/Prague:20250501T100000
DTEND;TZID=Europe/Prague:20250501T100000
DTSTAMP:20260422T042444
CREATED:20250422T083654Z
LAST-MODIFIED:20250422T083710Z
UID:9721-1746093600-1746093600@visit.chomutov.cz
SUMMARY:Běh pro Paměť národa
DESCRIPTION:
URL:https://visit.chomutov.cz/kalendar/beh-pro-pamet-naroda/
CATEGORIES:sportovní akce
ATTACH;FMTTYPE=image/jpeg:https://visit.chomutov.cz/wp-content/uploads/2025/04/Beh-naroda-plakat-cas-page-001.jpg
ORGANIZER;CN="Statut%C3%A1rn%C3%AD%20m%C4%9Bsto%20Chomutov":MAILTO:infocentrum@chomutov.cz
END:VEVENT
BEGIN:VEVENT
DTSTART;TZID=Europe/Prague:20250507T170000
DTEND;TZID=Europe/Prague:20250507T170000
DTSTAMP:20260422T042444
CREATED:20250502T075944Z
LAST-MODIFIED:20250502T075944Z
UID:9803-1746637200-1746637200@visit.chomutov.cz
SUMMARY:FC Chomutov x FK Příbram
DESCRIPTION:
URL:https://visit.chomutov.cz/kalendar/fc-chomutov-x-fk-pribram/
LOCATION:Letní stadion\, Mostecká 5886\, Chomutov
CATEGORIES:sportovní akce
ATTACH;FMTTYPE=image/jpeg:https://visit.chomutov.cz/wp-content/uploads/2022/05/fotbal-1.jpg
END:VEVENT
BEGIN:VEVENT
DTSTART;VALUE=DATE:20250509
DTEND;VALUE=DATE:20250512
DTSTAMP:20260422T042444
CREATED:20250502T081035Z
LAST-MODIFIED:20250502T081148Z
UID:9805-1746748800-1747007999@visit.chomutov.cz
SUMMARY:MČR Czech Dance Masters 2025
DESCRIPTION:Zemské kolo tanečních formací JVC CZECH DANCE MASTERS v tanečních stylech Art\, Belly\, Couple a Disco – Mistrovství Čech v Chomutově
URL:https://visit.chomutov.cz/kalendar/mcr-czech-dance-masters-2025/
LOCATION:Městská sportovní hala\, Mánesova 4980\, Chomutov
CATEGORIES:sportovní akce
ATTACH;FMTTYPE=image/jpeg:https://visit.chomutov.cz/wp-content/uploads/2025/05/MCR-Tanecnich-formaci.jpg
ORGANIZER;CN="Beethoven%20DC%20Chomutov":MAILTO:beethovendcchomutov@seznam.cz
END:VEVENT
BEGIN:VEVENT
DTSTART;VALUE=DATE:20250509
DTEND;VALUE=DATE:20250512
DTSTAMP:20260422T042444
CREATED:20250502T081458Z
LAST-MODIFIED:20250502T082049Z
UID:9810-1746748800-1747007999@visit.chomutov.cz
SUMMARY:MČR v překážkovém sportu (OCR)
DESCRIPTION:Ve dnech 9. – 11. května 2025 se uskuteční již 9. Mistrovství ČR v OCR (Obstacle Course Racing neboli extrémní překážkové závody) v Chomutově.\nPodruhé zavítáme do Chomutova přesněji do volnočasového areálu Domovinka a jeho okolí.\nKategorie závodů:\n3K\n12K\n100M\nŠtafety\nKIDS (dětské mistrovství)\nTrasy budou připraveny jak pro elitní dospělé závodníky\, tak pro děti a na své si přijdou i závodníci\, kteří budou chtít závodit ve věkových kategoriích\, či ve vlně OPEN\, kterou si může vyzkoušet opravdu každý.\nAreál nabídne i bohatý doprovodný program a občerstvení pro všechny návštěvníky a diváky.\nCelý závodní víkend by se neobešel bez jedné z nejdůležitějších složek\, kterou jsou dobrovolníci. Pokud byste chtěli zažít MČR z této druhé strany\, neváhejte a přihlašte se nám do řad dobrovolníků a užijte si s námi den naplno.\nVíce informací\, harmonogram a možnost registrace již brzy najdete na www.prekazkovysport.cz.
URL:https://visit.chomutov.cz/kalendar/mcr-v-prekazkovem-sportu-ocr/
LOCATION:Volnočasový areál Domovinka\, Lipská 2549/85\, Chomutov
CATEGORIES:sportovní akce
ATTACH;FMTTYPE=image/jpeg:https://visit.chomutov.cz/wp-content/uploads/2025/05/MCR-OCR.jpg
END:VEVENT
BEGIN:VEVENT
DTSTART;VALUE=DATE:20250510
DTEND;VALUE=DATE:20250512
DTSTAMP:20260422T042444
CREATED:20250502T083101Z
LAST-MODIFIED:20250502T083101Z
UID:9829-1746835200-1747007999@visit.chomutov.cz
SUMMARY:Workingové kvalifikační závody
DESCRIPTION:
URL:https://visit.chomutov.cz/kalendar/workingove-kvalifikacni-zavody/
LOCATION:Zoopark Chomutov\, Přemyslova 259\, Chomutov\, 43001
CATEGORIES:sportovní akce
ATTACH;FMTTYPE=image/jpeg:https://visit.chomutov.cz/wp-content/uploads/2025/05/Workingove-kvalifikacni-zavody.jpg
END:VEVENT
BEGIN:VEVENT
DTSTART;TZID=Europe/Prague:20250510T101500
DTEND;TZID=Europe/Prague:20250510T101500
DTSTAMP:20260422T042444
CREATED:20250502T081735Z
LAST-MODIFIED:20250502T081735Z
UID:9813-1746872100-1746872100@visit.chomutov.cz
SUMMARY:FC Chomutov x FK Loko Praha
DESCRIPTION:
URL:https://visit.chomutov.cz/kalendar/fc-chomutov-x-fk-loko-praha/
LOCATION:Letní stadion\, Mostecká 5886\, Chomutov
CATEGORIES:sportovní akce
ATTACH;FMTTYPE=image/jpeg:https://visit.chomutov.cz/wp-content/uploads/2022/05/fotbal-1.jpg
END:VEVENT
BEGIN:VEVENT
DTSTART;TZID=Europe/Prague:20250511T090000
DTEND;TZID=Europe/Prague:20250511T090000
DTSTAMP:20260422T042444
CREATED:20250502T081827Z
LAST-MODIFIED:20250502T081903Z
UID:9815-1746954000-1746954000@visit.chomutov.cz
SUMMARY:I. kolo CHRT RP 2x30
DESCRIPTION:
URL:https://visit.chomutov.cz/kalendar/i-kolo-chrt-rp-2x30/
LOCATION:Střelnice SSK Chomutov\, Blatenská 804\, Chomutov
CATEGORIES:sportovní akce
ATTACH;FMTTYPE=image/jpeg:https://visit.chomutov.cz/wp-content/uploads/2024/09/pexels-karolina-grabowska-5202384.jpg
END:VEVENT
BEGIN:VEVENT
DTSTART;TZID=Europe/Prague:20250524T101500
DTEND;TZID=Europe/Prague:20250524T101500
DTSTAMP:20260422T042444
CREATED:20250505T134316Z
LAST-MODIFIED:20250505T134316Z
UID:9832-1748081700-1748081700@visit.chomutov.cz
SUMMARY:FC Chomutov x Povltavská FA
DESCRIPTION:
URL:https://visit.chomutov.cz/kalendar/fc-chomutov-x-povltavska-fa/
LOCATION:Letní stadion\, Mostecká 5886\, Chomutov
CATEGORIES:sportovní akce
ATTACH;FMTTYPE=image/jpeg:https://visit.chomutov.cz/wp-content/uploads/2022/05/fotbal-1.jpg
ORGANIZER;CN="FC%20Chomutov":MAILTO:fcchomutov@seznam.cz
END:VEVENT
BEGIN:VEVENT
DTSTART;TZID=Europe/Prague:20250524T160000
DTEND;TZID=Europe/Prague:20250524T160000
DTSTAMP:20260422T042444
CREATED:20250505T135330Z
LAST-MODIFIED:20250505T135441Z
UID:9842-1748102400-1748102400@visit.chomutov.cz
SUMMARY:Night of Glory - Galavečer bojových sportů
DESCRIPTION:Zažijte jedinečný den plný adrenalinu\, síly a bojového umění! NIGHT OF GLORY přináší vrcholná utkání v bojových sportech\, kde se střetnou ti nejlepší bojovníci\, kteří se ke své titulové šanci museli probojovat několika koly organizace MMAA\, jedná se o absolutní špičku amatérské scény a to od nejmladších\, až po ty dospělé\, kteří odstartují celý galavečer.\nNa hlavní kartě uvidíme ostré bitvy podle pravidel Cagebox\, K1 a profi MMA zároveň společně zabojujeme pro organizaci Parent Project a pomůžeme dětem se svalovou dystrofií.\nPro více informací nás sledujete na instagramu.\nPROGRAM DNE:\n16:00 – Finále ligy MMAA\nVrcholná událost české MMA scény! Sledujte rozhodující zápasy\, které určí nové mistry České republiky v MMA.\n18:00 – Galavečer bojových sportů\nPřipravte se na strhující zápasy v disciplínách Cagebox\, K1 a profi MMA. Čekají vás ostré souboje\, drtivé údery a nezapomenutelné momenty.
URL:https://visit.chomutov.cz/kalendar/night-of-glory-galavecer-bojovych-sportu/
LOCATION:Městská sportovní hala\, Mánesova 4980\, Chomutov
CATEGORIES:sportovní akce,zábavní pořady
ATTACH;FMTTYPE=image/jpeg:https://visit.chomutov.cz/wp-content/uploads/2025/05/Night-of-Glory.jpg
END:VEVENT
BEGIN:VEVENT
DTSTART;TZID=Europe/Prague:20250531T100000
DTEND;TZID=Europe/Prague:20250531T100000
DTSTAMP:20260422T042444
CREATED:20250423T121257Z
LAST-MODIFIED:20250423T121257Z
UID:9740-1748685600-1748685600@visit.chomutov.cz
SUMMARY:Závod dračích lodí o pohár komory
DESCRIPTION:
URL:https://visit.chomutov.cz/kalendar/zavod-dracich-lodi-o-pohar-komory/
LOCATION:Kamencové jezero\, Tomáše ze Štítného 5971\, Chomutov
CATEGORIES:sportovní akce
ATTACH;FMTTYPE=image/jpeg:https://visit.chomutov.cz/wp-content/uploads/2025/04/Draci_lode_OHK-scaled.jpg
ORGANIZER;CN="Okresn%C3%AD%20hospod%C3%A1%C5%99sk%C3%A1%20komora%20v%20Chomutov%C4%9B":MAILTO:info@ohkcv.cz
END:VEVENT
END:VCALENDAR