BEGIN:VCALENDAR
VERSION:2.0
PRODID:-//Visit Chomutov - ECPv5.14.2.1//NONSGML v1.0//EN
CALSCALE:GREGORIAN
METHOD:PUBLISH
X-WR-CALNAME:Visit Chomutov
X-ORIGINAL-URL:https://visit.chomutov.cz
X-WR-CALDESC:Akce na Visit Chomutov
REFRESH-INTERVAL;VALUE=DURATION:PT1H
X-Robots-Tag:noindex
X-PUBLISHED-TTL:PT1H
BEGIN:VTIMEZONE
TZID:Europe/Prague
BEGIN:DAYLIGHT
TZOFFSETFROM:+0100
TZOFFSETTO:+0200
TZNAME:CEST
DTSTART:20250330T010000
END:DAYLIGHT
BEGIN:STANDARD
TZOFFSETFROM:+0200
TZOFFSETTO:+0100
TZNAME:CET
DTSTART:20251026T010000
END:STANDARD
END:VTIMEZONE
BEGIN:VEVENT
DTSTART;VALUE=DATE:20250201
DTEND;VALUE=DATE:20250227
DTSTAMP:20260422T131841
CREATED:20220906T071835Z
LAST-MODIFIED:20250131T104237Z
UID:2387-1738368000-1740614399@visit.chomutov.cz
SUMMARY:Piráti Chomutov - zápasy únor 2025
DESCRIPTION:1.2. 17.30 Piráti Chomutov x HC Slavia Praha\n15.2. 17.30 Piráti Chomutov x HC Baník Sokolov\n22.2. 17.30 Piráti Chomutov x VHK ROBE Vsetín\n26.2. 17.30 Piráti Chomutov x HC Stadion Litoměřice
URL:https://visit.chomutov.cz/kalendar/pirati-chomutov/
LOCATION:Rocknet Aréna – zimní stadion\, Mostecká 5773\, Chomutov
CATEGORIES:sportovní akce
ATTACH;FMTTYPE=image/jpeg:https://visit.chomutov.cz/wp-content/uploads/2022/09/pirati.jpg
END:VEVENT
BEGIN:VEVENT
DTSTART;VALUE=DATE:20250201
DTEND;VALUE=DATE:20250223
DTSTAMP:20260422T131841
CREATED:20220930T075622Z
LAST-MODIFIED:20250225T100511Z
UID:2224-1738368000-1740268799@visit.chomutov.cz
SUMMARY:Florbal Chomutov - zápasy březen 2025
DESCRIPTION:1.3. 16.00 Chomutov x MITEL Florbalová akademie MB – ženy\n2.3. 15.00 Chomutov x Sparta Praha – florbal ženy\n15.3. 8.00 Florbal Chomutov – turnaj elevů a elévek Městská sportovní hala www.florbalchomutov.cz\n22.3. 8.00 Florbal Chomutov – turnaj dorostenek
URL:https://visit.chomutov.cz/kalendar/florbal-chomutov/
LOCATION:Městská sportovní hala\, Mánesova 4980\, Chomutov
CATEGORIES:sportovní akce
ATTACH;FMTTYPE=image/jpeg:https://visit.chomutov.cz/wp-content/uploads/2022/08/claudio-schwarz-D1zkz4eW_j0-unsplash.jpg
ORGANIZER;CN="Florbal%20Chomutov":MAILTO:klub@florbalchomutov.cz
END:VEVENT
BEGIN:VEVENT
DTSTART;VALUE=DATE:20250204
DTEND;VALUE=DATE:20250301
DTSTAMP:20260422T131841
CREATED:20250131T105007Z
LAST-MODIFIED:20250131T105007Z
UID:9134-1738627200-1740787199@visit.chomutov.cz
SUMMARY:FC Baník Chomutov - futsalové zápasy únor 2025
DESCRIPTION:4.2. 19.30 Česko – Rakousko – kvalifikace na Euro 2026\, futsal\n16.2. 19.00 FC Baník Chomutov x SK Olympik Mělník  – futsal muži A\n28.2. 20.00 FC Baník Chomutov x FK Chrudim – futsal muži A
URL:https://visit.chomutov.cz/kalendar/fc-banik-chomutov-futsalove-zapasy-unor-2025/
LOCATION:Městská sportovní hala\, Mánesova 4980\, Chomutov
CATEGORIES:sportovní akce
ATTACH;FMTTYPE=image/png:https://visit.chomutov.cz/wp-content/uploads/2025/01/FC-Banik-Chomutov-logo.png
END:VEVENT
BEGIN:VEVENT
DTSTART;VALUE=DATE:20250205
DTEND;VALUE=DATE:20250210
DTSTAMP:20260422T131841
CREATED:20250131T101847Z
LAST-MODIFIED:20250131T101915Z
UID:9125-1738713600-1739145599@visit.chomutov.cz
SUMMARY:U20 – turnaj pěti zemí
DESCRIPTION:5.2. 15.00 Švýcarsko-Finsko; 18.30 Česko – Německo\n6.2. 15.00 Švýcarsko – Švédsko; 18.30 Česko – Finsko\n7.2. 15.00 Německo – Švýcarsko; 18.30 Švédsko – Finsko\n8.2. 15.00 Švédsko – Německo; 18.30 Česko – Švýcarsko\n9.2. 12:30 Finsko – Německo; 16:00 Česko – Švédsko \n 
URL:https://visit.chomutov.cz/kalendar/u20-turnaj-peti-zemi/
LOCATION:Rocknet Aréna – zimní stadion\, Mostecká 5773\, Chomutov
CATEGORIES:sportovní akce
ATTACH;FMTTYPE=image/jpeg:https://visit.chomutov.cz/wp-content/uploads/2025/01/A3-U20-page-001-scaled.jpg
END:VEVENT
BEGIN:VEVENT
DTSTART;VALUE=DATE:20250212
DTEND;VALUE=DATE:20250217
DTSTAMP:20260422T131841
CREATED:20230220T155406Z
LAST-MODIFIED:20250207T081347Z
UID:3477-1739318400-1739750399@visit.chomutov.cz
SUMMARY:BK Levharti Chomutov - zápasy únor 2025
DESCRIPTION:12.2. 19.00 Levhartice Chomutov – SBŠ Ostrava – ženská basketbalová liga Městská sportovní hala\n14.2. 19.00 Levhartice Chomutov – Kara Trutnov – ženská basketbalová liga Městská sportovní hala\n15.2. 14.00 Levharti Chomutov – GBA Sojky Pelhřimov -finálová skupina juniorské ligy Městská sportovní hala\n15.2. 16.00 Levhartice Chomutov – Sokol Hradec Králové – extraliga juniorek Městská sportovní hala\n16.2. 9.00 Levharti Chomutov – BC Vysočina – finálová skupina juniorské ligy\n16.2. 11.00 Levhartice Chomutov – Loko Trutnov – extraliga juniorek
URL:https://visit.chomutov.cz/kalendar/bk-levharti/
LOCATION:Městská sportovní hala\, Mánesova 4980\, Chomutov
CATEGORIES:sportovní akce
ATTACH;FMTTYPE=image/jpeg:https://visit.chomutov.cz/wp-content/uploads/2023/02/Plakat_zapasy_UNOR.jpg
END:VEVENT
BEGIN:VEVENT
DTSTART;TZID=Europe/Prague:20250223T130000
DTEND;TZID=Europe/Prague:20250223T150000
DTSTAMP:20260422T131841
CREATED:20250205T133744Z
LAST-MODIFIED:20250205T133744Z
UID:9138-1740315600-1740322800@visit.chomutov.cz
SUMMARY:Vzpomínkové setkání - Jiří Hyjánek
DESCRIPTION:23. ledna odešel do sportovního nebe Jiří Hyjánek. Byl trenérem a funkcionářem TJ VTŽ CHOMUTOV. Přijďte zavzpomínat\, položit květinu či zapálit svíčku.
URL:https://visit.chomutov.cz/kalendar/vzpominkove-setkani-jiri-hyjanek/
LOCATION:Letní stadion\, Mostecká 5886\, Chomutov
CATEGORIES:sportovní akce
ATTACH;FMTTYPE=image/jpeg:https://visit.chomutov.cz/wp-content/uploads/2025/02/Vzpominkove-setkani-Hyjanek.jpg
END:VEVENT
END:VCALENDAR