BEGIN:VCALENDAR
VERSION:2.0
PRODID:-//Visit Chomutov - ECPv5.14.2.1//NONSGML v1.0//EN
CALSCALE:GREGORIAN
METHOD:PUBLISH
X-WR-CALNAME:Visit Chomutov
X-ORIGINAL-URL:https://visit.chomutov.cz
X-WR-CALDESC:Akce na Visit Chomutov
REFRESH-INTERVAL;VALUE=DURATION:PT1H
X-Robots-Tag:noindex
X-PUBLISHED-TTL:PT1H
BEGIN:VTIMEZONE
TZID:Europe/Prague
BEGIN:DAYLIGHT
TZOFFSETFROM:+0100
TZOFFSETTO:+0200
TZNAME:CEST
DTSTART:20240331T010000
END:DAYLIGHT
BEGIN:STANDARD
TZOFFSETFROM:+0200
TZOFFSETTO:+0100
TZNAME:CET
DTSTART:20241027T010000
END:STANDARD
END:VTIMEZONE
BEGIN:VEVENT
DTSTART;VALUE=DATE:20241201
DTEND;VALUE=DATE:20241222
DTSTAMP:20260422T193049
CREATED:20241122T080310Z
LAST-MODIFIED:20241122T080441Z
UID:8506-1733011200-1734825599@visit.chomutov.cz
SUMMARY:Střelecké závody - prosinec 2024
DESCRIPTION:1.12. 9.00 III. kolo Chomutovské Extraligy VzPi 40\,60 a VzPu 30\,40\,60\n14.12. 8.00 IV. kolo Chomutovské Extraligy VzPi 40\,60 a VzPu 30\,40\,60\n15.12. 9.00 III. kolo Středoevropského poháru RVzPi 2×30\, StVzPi 3×20\n21.12. 9.00 I. kolo Chomutovské sportky SPVzPi 30+30
URL:https://visit.chomutov.cz/kalendar/strelecke-zavody-prosinec-2024/
LOCATION:Střelnice SSK Chomutov\, Blatenská 804\, Chomutov
CATEGORIES:sportovní akce
ATTACH;FMTTYPE=image/jpeg:https://visit.chomutov.cz/wp-content/uploads/2022/05/pistole.jpg
END:VEVENT
BEGIN:VEVENT
DTSTART;TZID=Europe/Prague:20241214T080000
DTEND;TZID=Europe/Prague:20241214T200000
DTSTAMP:20260422T193049
CREATED:20241105T083517Z
LAST-MODIFIED:20241105T083517Z
UID:8247-1734163200-1734206400@visit.chomutov.cz
SUMMARY:23. Chomutovská brusle
DESCRIPTION:závody v krasobruslení
URL:https://visit.chomutov.cz/kalendar/23-chomutovska-brusle/
LOCATION:Rocknet Aréna – zimní stadion\, Mostecká 5773\, Chomutov
CATEGORIES:sportovní akce
ATTACH;FMTTYPE=image/jpeg:https://visit.chomutov.cz/wp-content/uploads/2024/11/Chomutovska-brusle-2024.jpeg
ORGANIZER;CN="Krasobrusla%C5%99sk%C3%BD%20klub%20Chomutov":MAILTO:kkchomutov@seznam.cz
END:VEVENT
BEGIN:VEVENT
DTSTART;TZID=Europe/Prague:20241214T120000
DTEND;TZID=Europe/Prague:20241214T200000
DTSTAMP:20260422T193049
CREATED:20241202T163429Z
LAST-MODIFIED:20241202T163429Z
UID:8632-1734177600-1734206400@visit.chomutov.cz
SUMMARY:Breaking Battle
DESCRIPTION:
URL:https://visit.chomutov.cz/kalendar/breaking-battle/
LOCATION:Středisko volného času Domeček Chomutov\, Jiráskova 4140\, Chomutov
CATEGORIES:sportovní akce
ATTACH;FMTTYPE=image/jpeg:https://visit.chomutov.cz/wp-content/uploads/2024/12/Dance-battle.jpg
END:VEVENT
BEGIN:VEVENT
DTSTART;TZID=Europe/Prague:20241225T100000
DTEND;TZID=Europe/Prague:20241225T100000
DTSTAMP:20260422T193049
CREATED:20241125T142429Z
LAST-MODIFIED:20241125T142429Z
UID:8552-1735120800-1735120800@visit.chomutov.cz
SUMMARY:Čokoládový běh
DESCRIPTION:
URL:https://visit.chomutov.cz/kalendar/cokoladovy-beh/
LOCATION:Kamencové jezero\, Tomáše ze Štítného 5971\, Chomutov
CATEGORIES:sportovní akce
ATTACH;FMTTYPE=image/jpeg:https://visit.chomutov.cz/wp-content/uploads/2023/11/DJI_0614-1.jpg
END:VEVENT
BEGIN:VEVENT
DTSTART;TZID=Europe/Prague:20241231T100000
DTEND;TZID=Europe/Prague:20241231T150000
DTSTAMP:20260422T193049
CREATED:20241205T092102Z
LAST-MODIFIED:20241205T092102Z
UID:8769-1735639200-1735657200@visit.chomutov.cz
SUMMARY:Silvestrovský výšlap na Kočičák
DESCRIPTION:
URL:https://visit.chomutov.cz/kalendar/silvestrovsky-vyslap-na-kocicak/
LOCATION:Muzeum Na Kočičáku\, Blatno - Hrádečná
CATEGORIES:sportovní akce,Vánoce
ATTACH;FMTTYPE=image/jpeg:https://visit.chomutov.cz/wp-content/uploads/2024/12/Silvestrovsky-vyslapna-Kocicak.jpg
END:VEVENT
BEGIN:VEVENT
DTSTART;TZID=Europe/Prague:20241231T130000
DTEND;TZID=Europe/Prague:20241231T150000
DTSTAMP:20260422T193049
CREATED:20241125T142643Z
LAST-MODIFIED:20241125T142649Z
UID:8554-1735650000-1735657200@visit.chomutov.cz
SUMMARY:Silvestr na ledě
DESCRIPTION:
URL:https://visit.chomutov.cz/kalendar/silvestr-na-lede-2/
CATEGORIES:sportovní akce,Vánoce
ATTACH;FMTTYPE=image/jpeg:https://visit.chomutov.cz/wp-content/uploads/2022/09/brusleni.jpg
END:VEVENT
END:VCALENDAR