BEGIN:VCALENDAR
VERSION:2.0
PRODID:-//Visit Chomutov - ECPv5.14.2.1//NONSGML v1.0//EN
CALSCALE:GREGORIAN
METHOD:PUBLISH
X-WR-CALNAME:Visit Chomutov
X-ORIGINAL-URL:https://visit.chomutov.cz
X-WR-CALDESC:Akce na Visit Chomutov
REFRESH-INTERVAL;VALUE=DURATION:PT1H
X-Robots-Tag:noindex
X-PUBLISHED-TTL:PT1H
BEGIN:VTIMEZONE
TZID:Europe/Prague
BEGIN:DAYLIGHT
TZOFFSETFROM:+0100
TZOFFSETTO:+0200
TZNAME:CEST
DTSTART:20240331T010000
END:DAYLIGHT
BEGIN:STANDARD
TZOFFSETFROM:+0200
TZOFFSETTO:+0100
TZNAME:CET
DTSTART:20241027T010000
END:STANDARD
END:VTIMEZONE
BEGIN:VEVENT
DTSTART;TZID=Europe/Prague:20241002T173000
DTEND;TZID=Europe/Prague:20241002T173000
DTSTAMP:20260422T225358
CREATED:20240925T072036Z
LAST-MODIFIED:20240925T072036Z
UID:7807-1727890200-1727890200@visit.chomutov.cz
SUMMARY:Piráti Chomutov x Pardubice B
DESCRIPTION:
URL:https://visit.chomutov.cz/kalendar/pirati-chomutov-x-pardubice-b/
LOCATION:Rocknet Aréna – zimní stadion\, Mostecká 5773\, Chomutov
CATEGORIES:sportovní akce
ATTACH;FMTTYPE=image/jpeg:https://visit.chomutov.cz/wp-content/uploads/2022/09/pirati.jpg
END:VEVENT
BEGIN:VEVENT
DTSTART;TZID=Europe/Prague:20241003T103000
DTEND;TZID=Europe/Prague:20241003T103000
DTSTAMP:20260422T225358
CREATED:20240925T073637Z
LAST-MODIFIED:20240925T073637Z
UID:7814-1727951400-1727951400@visit.chomutov.cz
SUMMARY:Exotický mix - tancem k relaxaci a sebevědomí
DESCRIPTION:
URL:https://visit.chomutov.cz/kalendar/exoticky-mix-tancem-k-relaxaci-a-sebevedomi/
LOCATION:Chomutovská knihovna\, Palackého 4995\, Chomutov
CATEGORIES:sportovní akce
ATTACH;FMTTYPE=image/jpeg:https://visit.chomutov.cz/wp-content/uploads/2024/09/Kurz_tance_exotickeho_mixu-scaled.jpg
END:VEVENT
BEGIN:VEVENT
DTSTART;TZID=Europe/Prague:20241005T101500
DTEND;TZID=Europe/Prague:20241005T101500
DTSTAMP:20260422T225358
CREATED:20240925T072201Z
LAST-MODIFIED:20240925T072201Z
UID:7809-1728123300-1728123300@visit.chomutov.cz
SUMMARY:FC Chomutov x FK Admira Praha
DESCRIPTION:
URL:https://visit.chomutov.cz/kalendar/fc-chomutov-x-fk-admira-praha/
LOCATION:Letní stadion\, Mostecká 5886\, Chomutov
CATEGORIES:sportovní akce
ATTACH;FMTTYPE=image/jpeg:https://visit.chomutov.cz/wp-content/uploads/2022/05/fotbal-1.jpg
END:VEVENT
BEGIN:VEVENT
DTSTART;VALUE=DATE:20241011
DTEND;VALUE=DATE:20241014
DTSTAMP:20260422T225358
CREATED:20241001T121441Z
LAST-MODIFIED:20241001T121441Z
UID:7842-1728604800-1728863999@visit.chomutov.cz
SUMMARY:Soustředění mládeže Ústeckého kraje VzPi\, VzPu
DESCRIPTION:
URL:https://visit.chomutov.cz/kalendar/soustredeni-mladeze-usteckeho-kraje-vzpi-vzpu/
LOCATION:Střelnice SSK Chomutov\, Blatenská 804\, Chomutov
CATEGORIES:sportovní akce
ATTACH;FMTTYPE=image/jpeg:https://visit.chomutov.cz/wp-content/uploads/2024/09/pexels-karolina-grabowska-5202384.jpg
END:VEVENT
BEGIN:VEVENT
DTSTART;TZID=Europe/Prague:20241012T100000
DTEND;TZID=Europe/Prague:20241012T160000
DTSTAMP:20260422T225358
CREATED:20230927T124229Z
LAST-MODIFIED:20241001T121545Z
UID:5211-1728727200-1728748800@visit.chomutov.cz
SUMMARY:O pohár primátora
DESCRIPTION:Zápas v boxu pod záštitou Městské policie Chomutov.
URL:https://visit.chomutov.cz/kalendar/o-pohar-primatora/
LOCATION:Městská sportovní hala\, Mánesova 4980\, Chomutov
CATEGORIES:sportovní akce
ATTACH;FMTTYPE=image/jpeg:https://visit.chomutov.cz/wp-content/uploads/2023/09/pexels-pavel-danilyuk-6296062.jpg
END:VEVENT
BEGIN:VEVENT
DTSTART;TZID=Europe/Prague:20241012T173000
DTEND;TZID=Europe/Prague:20241012T173000
DTSTAMP:20260422T225358
CREATED:20241001T121700Z
LAST-MODIFIED:20241001T121700Z
UID:7844-1728754200-1728754200@visit.chomutov.cz
SUMMARY:Piráti Chomutov x Kolín
DESCRIPTION:
URL:https://visit.chomutov.cz/kalendar/pirati-chomutov-x-kolin/
LOCATION:Rocknet Aréna – zimní stadion\, Mostecká 5773\, Chomutov
CATEGORIES:sportovní akce
ATTACH;FMTTYPE=image/jpeg:https://visit.chomutov.cz/wp-content/uploads/2022/09/pirati.jpg
END:VEVENT
BEGIN:VEVENT
DTSTART;VALUE=DATE:20241018
DTEND;VALUE=DATE:20241021
DTSTAMP:20260422T225358
CREATED:20241007T121614Z
LAST-MODIFIED:20241007T121614Z
UID:8118-1729209600-1729468799@visit.chomutov.cz
SUMMARY:Mistrovství ČR AVZO ve vzduchové pistoli a pušce
DESCRIPTION:VzPi 40 a 60\, VzPu 30\, 40 a 60\, RVzPi 2×30
URL:https://visit.chomutov.cz/kalendar/mistrovstvi-cr-avzo-ve-vzduchove-pistoli-a-pusce/
LOCATION:Střelnice SSK Chomutov\, Blatenská 804\, Chomutov
CATEGORIES:sportovní akce
ATTACH;FMTTYPE=image/jpeg:https://visit.chomutov.cz/wp-content/uploads/2024/09/pexels-karolina-grabowska-5202384.jpg
END:VEVENT
BEGIN:VEVENT
DTSTART;TZID=Europe/Prague:20241019T110000
DTEND;TZID=Europe/Prague:20241019T110000
DTSTAMP:20260422T225358
CREATED:20241007T122253Z
LAST-MODIFIED:20241007T122253Z
UID:8120-1729335600-1729335600@visit.chomutov.cz
SUMMARY:70 let kanoistiky v Chomutově
DESCRIPTION:
URL:https://visit.chomutov.cz/kalendar/70-let-kanoistiky-v-chomutove/
LOCATION:Kamencové jezero\, Tomáše ze Štítného 5971\, Chomutov
CATEGORIES:sportovní akce
ATTACH;FMTTYPE=image/jpeg:https://visit.chomutov.cz/wp-content/uploads/2024/10/Akce-70-let-Kanoistiky-Chomutov_pozvanka-page-002.jpg
END:VEVENT
BEGIN:VEVENT
DTSTART;TZID=Europe/Prague:20241019T173000
DTEND;TZID=Europe/Prague:20241019T173000
DTSTAMP:20260422T225358
CREATED:20241007T122521Z
LAST-MODIFIED:20241007T122521Z
UID:8123-1729359000-1729359000@visit.chomutov.cz
SUMMARY:Piráti Chomutov x Prostějov
DESCRIPTION:
URL:https://visit.chomutov.cz/kalendar/pirati-chomutov-x-prostejov/
LOCATION:Rocknet Aréna – zimní stadion\, Mostecká 5773\, Chomutov
CATEGORIES:sportovní akce
ATTACH;FMTTYPE=image/jpeg:https://visit.chomutov.cz/wp-content/uploads/2022/09/pirati.jpg
END:VEVENT
BEGIN:VEVENT
DTSTART;TZID=Europe/Prague:20241021T173000
DTEND;TZID=Europe/Prague:20241021T173000
DTSTAMP:20260422T225358
CREATED:20241007T122604Z
LAST-MODIFIED:20241007T122610Z
UID:8125-1729531800-1729531800@visit.chomutov.cz
SUMMARY:Piráti Chomutov x Poruba
DESCRIPTION:
URL:https://visit.chomutov.cz/kalendar/pirati-chomutov-x-poruba/
LOCATION:Rocknet Aréna – zimní stadion\, Mostecká 5773\, Chomutov
CATEGORIES:sportovní akce
ATTACH;FMTTYPE=image/jpeg:https://visit.chomutov.cz/wp-content/uploads/2022/09/pirati.jpg
END:VEVENT
END:VCALENDAR