BEGIN:VCALENDAR
VERSION:2.0
PRODID:-//Visit Chomutov - ECPv5.14.2.1//NONSGML v1.0//EN
CALSCALE:GREGORIAN
METHOD:PUBLISH
X-WR-CALNAME:Visit Chomutov
X-ORIGINAL-URL:https://visit.chomutov.cz
X-WR-CALDESC:Akce na Visit Chomutov
REFRESH-INTERVAL;VALUE=DURATION:PT1H
X-Robots-Tag:noindex
X-PUBLISHED-TTL:PT1H
BEGIN:VTIMEZONE
TZID:Europe/Prague
BEGIN:DAYLIGHT
TZOFFSETFROM:+0100
TZOFFSETTO:+0200
TZNAME:CEST
DTSTART:20240331T010000
END:DAYLIGHT
BEGIN:STANDARD
TZOFFSETFROM:+0200
TZOFFSETTO:+0100
TZNAME:CET
DTSTART:20241027T010000
END:STANDARD
END:VTIMEZONE
BEGIN:VEVENT
DTSTART;VALUE=DATE:20240903
DTEND;VALUE=DATE:20240925
DTSTAMP:20260423T003836
CREATED:20230220T154548Z
LAST-MODIFIED:20240830T100742Z
UID:3469-1725321600-1727222399@visit.chomutov.cz
SUMMARY:Veřejné bruslení - září
DESCRIPTION:Každé úterý 18.00-19.00 hodin.\n3.\, 10.\, 17. a 24.9.\nTréninková hala
URL:https://visit.chomutov.cz/kalendar/verejne-brusleni-2/
LOCATION:Rocknet Aréna – zimní stadion\, Mostecká 5773\, Chomutov
CATEGORIES:sportovní akce
ATTACH;FMTTYPE=image/jpeg:https://visit.chomutov.cz/wp-content/uploads/2022/09/C310194.jpg
END:VEVENT
BEGIN:VEVENT
DTSTART;VALUE=DATE:20240903
DTEND;VALUE=DATE:20240930
DTSTAMP:20260423T003836
CREATED:20240903T080225Z
LAST-MODIFIED:20240903T105030Z
UID:7687-1725321600-1727654399@visit.chomutov.cz
SUMMARY:Parkour tréninky
DESCRIPTION:pro děti od 5 let\nkaždé úterý a neděle 
URL:https://visit.chomutov.cz/kalendar/parkour-treninky/
LOCATION:ZŠ a MŠ Duhová cesta\, Havlíčkova 3675\, Chomutov
CATEGORIES:pro děti,sportovní akce
ATTACH;FMTTYPE=image/jpeg:https://visit.chomutov.cz/wp-content/uploads/2023/12/Street-Hard-Workers.jpg
END:VEVENT
BEGIN:VEVENT
DTSTART;TZID=Europe/Prague:20240903T173000
DTEND;TZID=Europe/Prague:20240903T173000
DTSTAMP:20260423T003836
CREATED:20240830T100235Z
LAST-MODIFIED:20240830T100235Z
UID:7659-1725384600-1725384600@visit.chomutov.cz
SUMMARY:Piráti Chomutov x HC Baník Sokolov
DESCRIPTION:
URL:https://visit.chomutov.cz/kalendar/pirati-chomutov-x-hc-banik-sokolov/
LOCATION:Rocknet Aréna – zimní stadion\, Mostecká 5773\, Chomutov
CATEGORIES:sportovní akce
ATTACH;FMTTYPE=image/jpeg:https://visit.chomutov.cz/wp-content/uploads/2022/09/pirati.jpg
END:VEVENT
BEGIN:VEVENT
DTSTART;TZID=Europe/Prague:20240905T173000
DTEND;TZID=Europe/Prague:20240905T173000
DTSTAMP:20260423T003836
CREATED:20240830T100838Z
LAST-MODIFIED:20240830T100838Z
UID:7663-1725557400-1725557400@visit.chomutov.cz
SUMMARY:Piráti Chomutov x HC Energie Karlovy Vary
DESCRIPTION:
URL:https://visit.chomutov.cz/kalendar/pirati-chomutov-x-hc-energie-karlovy-vary/
LOCATION:Rocknet Aréna – zimní stadion\, Mostecká 5773\, Chomutov
CATEGORIES:sportovní akce
ATTACH;FMTTYPE=image/jpeg:https://visit.chomutov.cz/wp-content/uploads/2022/09/pirati.jpg
END:VEVENT
BEGIN:VEVENT
DTSTART;TZID=Europe/Prague:20240906T183000
DTEND;TZID=Europe/Prague:20240906T183000
DTSTAMP:20260423T003836
CREATED:20240830T100950Z
LAST-MODIFIED:20240830T100950Z
UID:7665-1725647400-1725647400@visit.chomutov.cz
SUMMARY:FC Chomutov x FK Dukla Praha B
DESCRIPTION:
URL:https://visit.chomutov.cz/kalendar/fc-chomutov-x-fk-dukla-praha-b/
LOCATION:Letní stadion\, Mostecká 5886\, Chomutov
CATEGORIES:sportovní akce
ATTACH;FMTTYPE=image/jpeg:https://visit.chomutov.cz/wp-content/uploads/2022/05/fotbal-1.jpg
END:VEVENT
BEGIN:VEVENT
DTSTART;TZID=Europe/Prague:20240908T100000
DTEND;TZID=Europe/Prague:20240908T150000
DTSTAMP:20260423T003836
CREATED:20240830T101147Z
LAST-MODIFIED:20240830T101221Z
UID:7667-1725789600-1725807600@visit.chomutov.cz
SUMMARY:Festival sportu 2024
DESCRIPTION:přehlídka sportovních možností v našem městě. Nábor do většiny sportovních oddílů na jednom místě. Vyberte si nejvhodnější sport. Bohatý doprovodný program – nafukovací atrakce pro děti\, moderuje Lukáš Budai
URL:https://visit.chomutov.cz/kalendar/festival-sportu-2024/
LOCATION:Kamencové jezero\, Tomáše ze Štítného 5971\, Chomutov
CATEGORIES:pro děti,sportovní akce
ATTACH;FMTTYPE=image/jpeg:https://visit.chomutov.cz/wp-content/uploads/2024/08/festival-sportu.jpg
ORGANIZER;CN="Statut%C3%A1rn%C3%AD%20m%C4%9Bsto%20Chomutov":MAILTO:infocentrum@chomutov.cz
END:VEVENT
BEGIN:VEVENT
DTSTART;VALUE=DATE:20240914
DTEND;VALUE=DATE:20240915
DTSTAMP:20260423T003836
CREATED:20240903T073657Z
LAST-MODIFIED:20240903T073657Z
UID:7677-1726272000-1726358399@visit.chomutov.cz
SUMMARY:Velká cena města Chomutova
DESCRIPTION:krajský přebor žactva v judu
URL:https://visit.chomutov.cz/kalendar/velka-cena-mesta-chomutova/
LOCATION:Městská sportovní hala\, Mánesova 4980\, Chomutov
CATEGORIES:sportovní akce
ATTACH;FMTTYPE=image/jpeg:https://visit.chomutov.cz/wp-content/uploads/2024/04/pexels-artempodrez-6253312.jpg
END:VEVENT
BEGIN:VEVENT
DTSTART;TZID=Europe/Prague:20240916T100000
DTEND;TZID=Europe/Prague:20240916T100000
DTSTAMP:20260423T003836
CREATED:20240903T074117Z
LAST-MODIFIED:20240903T074117Z
UID:7679-1726480800-1726480800@visit.chomutov.cz
SUMMARY:Wake Fight
DESCRIPTION:lokální závod ve 3 kategoriích\n9.00 registrace\,\n9.30 Riders meating\,\n10.00 závod\n20.00 party
URL:https://visit.chomutov.cz/kalendar/wake-fight/
LOCATION:Wakepark Chomutov\, Mostecká č.e. 22\, Chomutov\, 43001
CATEGORIES:sportovní akce
ATTACH;FMTTYPE=image/png:https://visit.chomutov.cz/wp-content/uploads/2024/09/Wake-Fight-cover-1-1.png
END:VEVENT
BEGIN:VEVENT
DTSTART;VALUE=DATE:20240919
DTEND;VALUE=DATE:20240923
DTSTAMP:20260423T003836
CREATED:20240903T074708Z
LAST-MODIFIED:20240903T074708Z
UID:7682-1726704000-1727049599@visit.chomutov.cz
SUMMARY:World Martial Arts Games - Elite World Championship
DESCRIPTION:
URL:https://visit.chomutov.cz/kalendar/world-martial-arts-games-elite-world-championship/
LOCATION:Městská sportovní hala\, Mánesova 4980\, Chomutov
CATEGORIES:sportovní akce
ATTACH;FMTTYPE=image/jpeg:https://visit.chomutov.cz/wp-content/uploads/2024/09/World-Martial-Arts-Games.jpg
END:VEVENT
BEGIN:VEVENT
DTSTART;TZID=Europe/Prague:20240920T190000
DTEND;TZID=Europe/Prague:20240920T190000
DTSTAMP:20260423T003836
CREATED:20240903T074920Z
LAST-MODIFIED:20240903T074920Z
UID:7685-1726858800-1726858800@visit.chomutov.cz
SUMMARY:FC Chomutov x Sokol Hostouň
DESCRIPTION:
URL:https://visit.chomutov.cz/kalendar/fc-chomutov-x-sokol-hostoun/
LOCATION:Letní stadion\, Mostecká 5886\, Chomutov
CATEGORIES:sportovní akce
ATTACH;FMTTYPE=image/jpeg:https://visit.chomutov.cz/wp-content/uploads/2022/05/fotbal-1.jpg
END:VEVENT
BEGIN:VEVENT
DTSTART;TZID=Europe/Prague:20240925T080000
DTEND;TZID=Europe/Prague:20240925T170000
DTSTAMP:20260423T003836
CREATED:20240925T073318Z
LAST-MODIFIED:20240925T073318Z
UID:7811-1727251200-1727283600@visit.chomutov.cz
SUMMARY:I. kolo Chomutovské extraligy 2024/25
DESCRIPTION:VzPi 40 a 60\, VzPu 30\, 40 a 60
URL:https://visit.chomutov.cz/kalendar/i-kolo-chomutovske-extraligy-2024-25/
CATEGORIES:sportovní akce
ATTACH;FMTTYPE=image/jpeg:https://visit.chomutov.cz/wp-content/uploads/2024/09/pexels-karolina-grabowska-5202384.jpg
END:VEVENT
END:VCALENDAR