BEGIN:VCALENDAR
VERSION:2.0
PRODID:-//Visit Chomutov - ECPv5.14.2.1//NONSGML v1.0//EN
CALSCALE:GREGORIAN
METHOD:PUBLISH
X-WR-CALNAME:Visit Chomutov
X-ORIGINAL-URL:https://visit.chomutov.cz
X-WR-CALDESC:Akce na Visit Chomutov
REFRESH-INTERVAL;VALUE=DURATION:PT1H
X-Robots-Tag:noindex
X-PUBLISHED-TTL:PT1H
BEGIN:VTIMEZONE
TZID:Europe/Prague
BEGIN:DAYLIGHT
TZOFFSETFROM:+0100
TZOFFSETTO:+0200
TZNAME:CEST
DTSTART:20240331T010000
END:DAYLIGHT
BEGIN:STANDARD
TZOFFSETFROM:+0200
TZOFFSETTO:+0100
TZNAME:CET
DTSTART:20241027T010000
END:STANDARD
END:VTIMEZONE
BEGIN:VEVENT
DTSTART;VALUE=DATE:20240803
DTEND;VALUE=DATE:20240805
DTSTAMP:20260423T020832
CREATED:20240703T095702Z
LAST-MODIFIED:20240703T100525Z
UID:7529-1722643200-1722815999@visit.chomutov.cz
SUMMARY:Regional travel cup 2024
DESCRIPTION:32. ročník Chomutovského poháru ligy malého fotbalu
URL:https://visit.chomutov.cz/kalendar/regional-travel-cup-2024/
LOCATION:Sportovní areál Cihla\, Cihlářská 4713\, Chomutov\, 43003
CATEGORIES:sportovní akce
ATTACH;FMTTYPE=image/jpeg:https://visit.chomutov.cz/wp-content/uploads/2024/07/Liga-CHLMF.jpg
END:VEVENT
BEGIN:VEVENT
DTSTART;VALUE=DATE:20240806
DTEND;VALUE=DATE:20240826
DTSTAMP:20260423T020832
CREATED:20240801T112544Z
LAST-MODIFIED:20240801T112544Z
UID:7587-1722902400-1724630399@visit.chomutov.cz
SUMMARY:Piráti Chomutov - přípravná utkání
DESCRIPTION:6.8. 17.30 Piráti Chomutov – Kladno (přípravné utkání)\n8.8. 17.30 Piráti Chomutov – Jihlava (přípravné utkání)\n13.8. 17.30 Piráti Chomutov – Mostečtí lvi (přípravné utkání)\n25.8. 17.30 Piráti Chomutov – Kazachstán (přípravné utkání)
URL:https://visit.chomutov.cz/kalendar/pirati-chomutov-pripravna-utkani/
LOCATION:Rocknet Aréna – zimní stadion\, Mostecká 5773\, Chomutov
CATEGORIES:sportovní akce
ATTACH;FMTTYPE=image/jpeg:https://visit.chomutov.cz/wp-content/uploads/2022/09/pirati.jpg
END:VEVENT
BEGIN:VEVENT
DTSTART;TZID=Europe/Prague:20240810T183000
DTEND;TZID=Europe/Prague:20240810T183000
DTSTAMP:20260423T020832
CREATED:20240801T114245Z
LAST-MODIFIED:20240801T114245Z
UID:7600-1723314600-1723314600@visit.chomutov.cz
SUMMARY:FC CHOMUTOV-BOHEMIANS PRAHA 1905 B
DESCRIPTION:
URL:https://visit.chomutov.cz/kalendar/fc-chomutov-bohemians-praha-1905-b/
LOCATION:Letní stadion\, Mostecká 5886\, Chomutov
CATEGORIES:sportovní akce
ATTACH;FMTTYPE=image/jpeg:https://visit.chomutov.cz/wp-content/uploads/2022/05/fotbal-1.jpg
END:VEVENT
BEGIN:VEVENT
DTSTART;TZID=Europe/Prague:20240824T090000
DTEND;TZID=Europe/Prague:20240824T090000
DTSTAMP:20260423T020832
CREATED:20240801T113933Z
LAST-MODIFIED:20240801T113933Z
UID:7596-1724490000-1724490000@visit.chomutov.cz
SUMMARY:Šance onkoláčkům - benefiční trunaj
DESCRIPTION:7. benefiční futsalový turnaj\, kde je vítěz až na druhém místě. Přijďte podpořit vážně nemocné děti\, které jsou pod křídly Nadačního fondu Šance onkoláčkům. Stačí jen přijít\, přispět do kasičky nebo si něco zakoupit v našem stánku. Můžete si zafandit\, dát si něco dobrého k jídlu a pití a navíc podpoříte dobrou věc.
URL:https://visit.chomutov.cz/kalendar/sance-onkolackum-beneficni-trunaj/
LOCATION:Sportovní areál Cihla\, Cihlářská 4713\, Chomutov\, 43003
CATEGORIES:pro děti,sportovní akce
ATTACH;FMTTYPE=image/jpeg:https://visit.chomutov.cz/wp-content/uploads/2024/08/Sance-onkolackum.jpg
END:VEVENT
BEGIN:VEVENT
DTSTART;TZID=Europe/Prague:20240824T101500
DTEND;TZID=Europe/Prague:20240824T101500
DTSTAMP:20260423T020832
CREATED:20240801T114358Z
LAST-MODIFIED:20240801T114409Z
UID:7602-1724494500-1724494500@visit.chomutov.cz
SUMMARY:FC CHOMUTOV-FC TÁBORSKO akademie
DESCRIPTION:
URL:https://visit.chomutov.cz/kalendar/fc-chomutov-fc-taborsko-akademie/
LOCATION:Letní stadion\, Mostecká 5886\, Chomutov
CATEGORIES:sportovní akce
ATTACH;FMTTYPE=image/jpeg:https://visit.chomutov.cz/wp-content/uploads/2022/05/fotbal-1.jpg
END:VEVENT
BEGIN:VEVENT
DTSTART;TZID=Europe/Prague:20240831T090000
DTEND;TZID=Europe/Prague:20240831T200000
DTSTAMP:20260423T020832
CREATED:20240801T113449Z
LAST-MODIFIED:20240801T113449Z
UID:7593-1725094800-1725134400@visit.chomutov.cz
SUMMARY:Festival jógy
DESCRIPTION:lekce jógy\, meditace\, stánkový prodej\, hudební vystoupení
URL:https://visit.chomutov.cz/kalendar/festival-jogy/
LOCATION:Městský park\, Čelakovského\, Chomutov
CATEGORIES:sportovní akce,zábavní pořady
ATTACH;FMTTYPE=image/jpeg:https://visit.chomutov.cz/wp-content/uploads/2024/08/pexels-rui-dias-469842-1472887.jpg
END:VEVENT
BEGIN:VEVENT
DTSTART;TZID=Europe/Prague:20240831T110000
DTEND;TZID=Europe/Prague:20240831T110000
DTSTAMP:20260423T020832
CREATED:20240801T113054Z
LAST-MODIFIED:20240801T113117Z
UID:7590-1725102000-1725102000@visit.chomutov.cz
SUMMARY:Chomutovský půlmaraton 2024
DESCRIPTION:8. ročník. \nNa své jedenadvacet kilometrů dlouhé trase si sportovci prohlédnou jak historické centrum\, tak i přírodu okrajových částí města. Akce tradičně přivítá i malé běžce\, na náměstí budou pro děti připravené různě dlouhé tratě. Běžci kratších tratí se mohou přihlásit k běhu téměř 8 km Kamencového okruhu.
URL:https://visit.chomutov.cz/kalendar/chomutovsky-pulmaraton-2024/
CATEGORIES:sportovní akce
ATTACH;FMTTYPE=image/jpeg:https://visit.chomutov.cz/wp-content/uploads/2024/08/Pulmaraton-2024.jpg
ORGANIZER;CN="Statut%C3%A1rn%C3%AD%20m%C4%9Bsto%20Chomutov":MAILTO:infocentrum@chomutov.cz
END:VEVENT
END:VCALENDAR