BEGIN:VCALENDAR
VERSION:2.0
PRODID:-//Visit Chomutov - ECPv5.14.2.1//NONSGML v1.0//EN
CALSCALE:GREGORIAN
METHOD:PUBLISH
X-WR-CALNAME:Visit Chomutov
X-ORIGINAL-URL:https://visit.chomutov.cz
X-WR-CALDESC:Akce na Visit Chomutov
REFRESH-INTERVAL;VALUE=DURATION:PT1H
X-Robots-Tag:noindex
X-PUBLISHED-TTL:PT1H
BEGIN:VTIMEZONE
TZID:Europe/Prague
BEGIN:DAYLIGHT
TZOFFSETFROM:+0100
TZOFFSETTO:+0200
TZNAME:CEST
DTSTART:20240331T010000
END:DAYLIGHT
BEGIN:STANDARD
TZOFFSETFROM:+0200
TZOFFSETTO:+0100
TZNAME:CET
DTSTART:20241027T010000
END:STANDARD
END:VTIMEZONE
BEGIN:VEVENT
DTSTART;VALUE=DATE:20240408
DTEND;VALUE=DATE:20240608
DTSTAMP:20260423T065606
CREATED:20240429T065805Z
LAST-MODIFIED:20240429T151959Z
UID:6805-1712534400-1717804799@visit.chomutov.cz
SUMMARY:Sport mezi bloky
DESCRIPTION:bezplatné tréninky sebeobrany a bojových sportů
URL:https://visit.chomutov.cz/kalendar/sport-mezi-bloky-2/
CATEGORIES:pro děti,sportovní akce
ATTACH;FMTTYPE=image/jpeg:https://visit.chomutov.cz/wp-content/uploads/2024/04/Sport-mezi-bloky-page-001.jpg
END:VEVENT
BEGIN:VEVENT
DTSTART;TZID=Europe/Prague:20240501T150000
DTEND;TZID=Europe/Prague:20240501T163000
DTSTAMP:20260423T065606
CREATED:20240429T065700Z
LAST-MODIFIED:20240429T065750Z
UID:6800-1714575600-1714581000@visit.chomutov.cz
SUMMARY:Sport mezi bloky
DESCRIPTION:bezplatné tréninky sebeobrany a bojových sportů
URL:https://visit.chomutov.cz/kalendar/sport-mezi-bloky/
CATEGORIES:pro děti,sportovní akce
ATTACH;FMTTYPE=image/jpeg:https://visit.chomutov.cz/wp-content/uploads/2024/04/Sport-mezi-bloky-page-001.jpg
END:VEVENT
BEGIN:VEVENT
DTSTART;VALUE=DATE:20240503
DTEND;VALUE=DATE:20240506
DTSTAMP:20260423T065606
CREATED:20240429T071607Z
LAST-MODIFIED:20240429T071819Z
UID:6813-1714694400-1714953599@visit.chomutov.cz
SUMMARY:MISTROVSTVÍ ČECH - Zemské kolo tanečních formací
DESCRIPTION:Czech Dance Masters
URL:https://visit.chomutov.cz/kalendar/mistrovstvi-cech-zemske-kolo-tanecnich-formaci-2/
LOCATION:Městská sportovní hala\, Mánesova 4980\, Chomutov
CATEGORIES:sportovní akce
ATTACH;FMTTYPE=image/png:https://visit.chomutov.cz/wp-content/uploads/2024/04/12.-plakat-MC-CHOMUTOV-2024-724x1024-1.png
END:VEVENT
BEGIN:VEVENT
DTSTART;TZID=Europe/Prague:20240504T090000
DTEND;TZID=Europe/Prague:20240504T150000
DTSTAMP:20260423T065606
CREATED:20240429T072202Z
LAST-MODIFIED:20240429T072224Z
UID:6817-1714813200-1714834800@visit.chomutov.cz
SUMMARY:Český pohár benjamínků v kanoistice
DESCRIPTION:
URL:https://visit.chomutov.cz/kalendar/cesky-pohar-benjaminku-v-kanoistice/
LOCATION:Kamencové jezero\, Tomáše ze Štítného 5971\, Chomutov
CATEGORIES:sportovní akce
ATTACH;FMTTYPE=image/webp:https://visit.chomutov.cz/wp-content/uploads/2024/04/CP-Benjaminku-04.05.24-1-724x1024-1.webp
ORGANIZER;CN="Kanoistika%20Chomutov":MAILTO:b.dol@seznam.cz
END:VEVENT
BEGIN:VEVENT
DTSTART;VALUE=DATE:20240511
DTEND;VALUE=DATE:20240512
DTSTAMP:20260423T065606
CREATED:20240429T123331Z
LAST-MODIFIED:20240429T123331Z
UID:6838-1715385600-1715471999@visit.chomutov.cz
SUMMARY:Chomutovský dragon cup
DESCRIPTION:13.ročník závodu dračích lodí
URL:https://visit.chomutov.cz/kalendar/chomutovsky-dragon-cup-2/
LOCATION:Kamencové jezero\, Tomáše ze Štítného 5971\, Chomutov
CATEGORIES:sportovní akce
ATTACH;FMTTYPE=image/jpeg:https://visit.chomutov.cz/wp-content/uploads/2024/04/Dragon-cup-2024.jpg
ORGANIZER;CN="Kanoistika%20Chomutov":MAILTO:b.dol@seznam.cz
END:VEVENT
BEGIN:VEVENT
DTSTART;VALUE=DATE:20240514
DTEND;VALUE=DATE:20240515
DTSTAMP:20260423T065606
CREATED:20240429T123525Z
LAST-MODIFIED:20240429T123525Z
UID:6841-1715644800-1715731199@visit.chomutov.cz
SUMMARY:FC Chomutov - SK Slaný
DESCRIPTION:fotbalové utkání
URL:https://visit.chomutov.cz/kalendar/fc-chomutov-sk-slany/
LOCATION:Letní stadion\, Mostecká 5886\, Chomutov
CATEGORIES:sportovní akce
ATTACH;FMTTYPE=image/jpeg:https://visit.chomutov.cz/wp-content/uploads/2022/05/fotbal-1.jpg
END:VEVENT
BEGIN:VEVENT
DTSTART;TZID=Europe/Prague:20240515T080000
DTEND;TZID=Europe/Prague:20240515T080000
DTSTAMP:20260423T065606
CREATED:20240416T084116Z
LAST-MODIFIED:20240416T084116Z
UID:6751-1715760000-1715760000@visit.chomutov.cz
SUMMARY:Nordic walking
DESCRIPTION:Dvanáct kilometrů dlouhá trasa výletu povede z Křimova přes Bezručovo údolí do Chomutova. Začátek akce je v 8 hodin na chomutovském autobusovém nádraží.
URL:https://visit.chomutov.cz/kalendar/nordic-walking/
CATEGORIES:sportovní akce
ATTACH;FMTTYPE=image/jpeg:https://visit.chomutov.cz/wp-content/uploads/2024/04/pexels-bob-ronald-16402579.jpg
END:VEVENT
BEGIN:VEVENT
DTSTART;TZID=Europe/Prague:20240518T080000
DTEND;TZID=Europe/Prague:20240518T160000
DTSTAMP:20260423T065606
CREATED:20240429T123746Z
LAST-MODIFIED:20240429T123746Z
UID:6843-1716019200-1716048000@visit.chomutov.cz
SUMMARY:Memoriál H. Tauda - judo
DESCRIPTION:
URL:https://visit.chomutov.cz/kalendar/memorial-h-tauda-judo/
LOCATION:Městská sportovní hala\, Mánesova 4980\, Chomutov
CATEGORIES:sportovní akce
ATTACH;FMTTYPE=image/jpeg:https://visit.chomutov.cz/wp-content/uploads/2024/04/pexels-artempodrez-6253312.jpg
END:VEVENT
BEGIN:VEVENT
DTSTART;TZID=Europe/Prague:20240520T100000
DTEND;TZID=Europe/Prague:20240520T180000
DTSTAMP:20260423T065606
CREATED:20240429T145100Z
LAST-MODIFIED:20240429T145100Z
UID:6890-1716199200-1716228000@visit.chomutov.cz
SUMMARY:NHL Global Fan Tour
DESCRIPTION:
URL:https://visit.chomutov.cz/kalendar/nhl-global-fan-tour/
LOCATION:náměstí 1. máje Chomutov\, nám. 1. máje\, Chomutov
CATEGORIES:pro děti,sportovní akce
ATTACH;FMTTYPE=image/jpeg:https://visit.chomutov.cz/wp-content/uploads/2024/04/NHL-Global-Fan-tour-kveten-page-001.jpg
END:VEVENT
END:VCALENDAR