BEGIN:VCALENDAR
VERSION:2.0
PRODID:-//Visit Chomutov - ECPv5.14.2.1//NONSGML v1.0//EN
CALSCALE:GREGORIAN
METHOD:PUBLISH
X-WR-CALNAME:Visit Chomutov
X-ORIGINAL-URL:https://visit.chomutov.cz
X-WR-CALDESC:Akce na Visit Chomutov
REFRESH-INTERVAL;VALUE=DURATION:PT1H
X-Robots-Tag:noindex
X-PUBLISHED-TTL:PT1H
BEGIN:VTIMEZONE
TZID:Europe/Prague
BEGIN:DAYLIGHT
TZOFFSETFROM:+0100
TZOFFSETTO:+0200
TZNAME:CEST
DTSTART:20220327T010000
END:DAYLIGHT
BEGIN:STANDARD
TZOFFSETFROM:+0200
TZOFFSETTO:+0100
TZNAME:CET
DTSTART:20221030T010000
END:STANDARD
END:VTIMEZONE
BEGIN:VEVENT
DTSTART;TZID=Europe/Prague:20220807T210000
DTEND;TZID=Europe/Prague:20220814T000000
DTSTAMP:20260425T055717
CREATED:20230717T061121Z
LAST-MODIFIED:20230717T061158Z
UID:4321-1659906000-1660435200@visit.chomutov.cz
SUMMARY:Perseidy 2023
DESCRIPTION:Veřejné pozorování nejznámějšího meteorického roje.
URL:https://visit.chomutov.cz/kalendar/perseidy-2023/
LOCATION:Hvězdárna F. J. Gerstnera\, Lipská 2207\, Chomutov
CATEGORIES:pro děti,vzdělávání,zábavní pořady
ATTACH;FMTTYPE=image/jpeg:https://visit.chomutov.cz/wp-content/uploads/2023/07/Perseidy-2023-page-001.jpg
END:VEVENT
BEGIN:VEVENT
DTSTART;VALUE=DATE:20220802
DTEND;VALUE=DATE:20220820
DTSTAMP:20260425T055717
CREATED:20220805T192921Z
LAST-MODIFIED:20220805T193019Z
UID:2201-1659398400-1660953599@visit.chomutov.cz
SUMMARY:Miniškola sportu
DESCRIPTION:Pro děti od 6 – 13 let. Děti čeká týden plný sportu a zábavy v areálech: Sportovní hala\, Atletický stadion\, Zoopark\, Lezecká aréna aj. Týden bude zakončen celodenním výletem do okolí – stezka Maxipsa Fíka\, prohlídka muzea čarodějnic (Kadaň)\, Laser Game Most\, vlakový depozitář Chomutov atd.
URL:https://visit.chomutov.cz/kalendar/miniskola-sportu/
LOCATION:Městská sportovní hala\, Mánesova 4980\, Chomutov
CATEGORIES:pro děti,sportovní akce
ATTACH;FMTTYPE=image/jpeg:https://visit.chomutov.cz/wp-content/uploads/2022/08/miniskola-sportu.jpg
END:VEVENT
BEGIN:VEVENT
DTSTART;VALUE=DATE:20220704
DTEND;VALUE=DATE:20220711
DTSTAMP:20260425T055717
CREATED:20220610T131155Z
LAST-MODIFIED:20220610T131757Z
UID:1852-1656892800-1657497599@visit.chomutov.cz
SUMMARY:Skatecamp
DESCRIPTION:
URL:https://visit.chomutov.cz/kalendar/skatecamp/
LOCATION:Sk8park Eldorádo\, Kamenný vrch 5347\, Chomutov\, 430 04
CATEGORIES:pro děti,sportovní akce
ATTACH;FMTTYPE=image/jpeg:https://visit.chomutov.cz/wp-content/uploads/2022/06/skatecamp.jpg
END:VEVENT
BEGIN:VEVENT
DTSTART;TZID=Europe/Prague:20220618T130000
DTEND;TZID=Europe/Prague:20220618T170000
DTSTAMP:20260425T055717
CREATED:20220523T155420Z
LAST-MODIFIED:20220610T071710Z
UID:1324-1655557200-1655571600@visit.chomutov.cz
SUMMARY:Rodinné zápolení - Atletická
DESCRIPTION:4. akce Rodinného zápolení 2022.
URL:https://visit.chomutov.cz/kalendar/rodinne-zapoleni-atleticka/
LOCATION:Letní stadion\, Mostecká 5886\, Chomutov
CATEGORIES:pro děti
ATTACH;FMTTYPE=image/jpeg:https://visit.chomutov.cz/wp-content/uploads/2022/05/chomutov-rz-A3-plakat-atletika-2206-page-001.jpg
ORGANIZER;CN="Statut%C3%A1rn%C3%AD%20m%C4%9Bsto%20Chomutov":MAILTO:infocentrum@chomutov.cz
END:VEVENT
BEGIN:VEVENT
DTSTART;TZID=Europe/Prague:20220618T100000
DTEND;TZID=Europe/Prague:20220618T180000
DTSTAMP:20260425T055717
CREATED:20220523T182051Z
LAST-MODIFIED:20220523T182051Z
UID:1381-1655546400-1655575200@visit.chomutov.cz
SUMMARY:Výšlap na Kočičák
DESCRIPTION:historicky-branná akce pro rodiny s dětmi
URL:https://visit.chomutov.cz/kalendar/vyslap-na-kocicak/
CATEGORIES:pro děti,sportovní akce
ATTACH;FMTTYPE=image/jpeg:https://visit.chomutov.cz/wp-content/uploads/2021/11/Kocicak_2-Velke.jpg
END:VEVENT
BEGIN:VEVENT
DTSTART;VALUE=DATE:20220617
DTEND;VALUE=DATE:20220627
DTSTAMP:20260425T055717
CREATED:20220610T072307Z
LAST-MODIFIED:20220610T072307Z
UID:1828-1655424000-1656287999@visit.chomutov.cz
SUMMARY:Kät - 502. ročník poutě v Annabergu-Buchholzi
DESCRIPTION:
URL:https://visit.chomutov.cz/kalendar/kat-502-rocnik-poute-v-annabergu-buchholzi/
CATEGORIES:pro děti,zábavní pořady
ATTACH;FMTTYPE=image/jpeg:https://visit.chomutov.cz/wp-content/uploads/2022/06/Plakat_Hoehepunkte_A3_2022-page-001.jpg
END:VEVENT
BEGIN:VEVENT
DTSTART;VALUE=DATE:20220606
DTEND;VALUE=DATE:20220611
DTSTAMP:20260425T055717
CREATED:20220523T154604Z
LAST-MODIFIED:20220523T154604Z
UID:1316-1654473600-1654905599@visit.chomutov.cz
SUMMARY:Chomutov čte
DESCRIPTION:Od pondělí do pátku v atriu Chomutovské knihovny najdete stan se spoustou knih a časopisů\, sezení\, lezení k odpočinku i zábavě.
URL:https://visit.chomutov.cz/kalendar/chomutov-cte/
LOCATION:Chomutovská knihovna\, Palackého 4995\, Chomutov
CATEGORIES:pro děti
ATTACH;FMTTYPE=image/jpeg:https://visit.chomutov.cz/wp-content/uploads/2022/05/Chomutov-cte-web-scaled.jpg
END:VEVENT
BEGIN:VEVENT
DTSTART;TZID=Europe/Prague:20220605T160000
DTEND;TZID=Europe/Prague:20220605T160000
DTSTAMP:20260425T055717
CREATED:20220523T143306Z
LAST-MODIFIED:20220523T143330Z
UID:1311-1654444800-1654444800@visit.chomutov.cz
SUMMARY:Popelka
DESCRIPTION:Pohádkové představení divadla NaOko Chomutov pro nejmenší i pro dospělé
URL:https://visit.chomutov.cz/kalendar/popelka/
LOCATION:Kulturní dům KASS\, Zahradní 5341\, Chomutov
CATEGORIES:pro děti
ATTACH;FMTTYPE=image/jpeg:https://visit.chomutov.cz/wp-content/uploads/2022/05/popelka.jpg
ORGANIZER;CN="Divadlo%20NaOko":MAILTO:info@divadlonaoko.cz
END:VEVENT
BEGIN:VEVENT
DTSTART;TZID=Europe/Prague:20220521T130000
DTEND;TZID=Europe/Prague:20220522T170000
DTSTAMP:20260425T055717
CREATED:20220518T090733Z
LAST-MODIFIED:20220519T180842Z
UID:960-1653138000-1653238800@visit.chomutov.cz
SUMMARY:Rodinné zápolení - 770 let města
DESCRIPTION:Třetí akce soutěže pro rodiny s dětmi Rodinné zápolení.
URL:https://visit.chomutov.cz/kalendar/rodinne-zapoleni/
LOCATION:Městský park\, Čelakovského\, Chomutov
CATEGORIES:pro děti
ATTACH;FMTTYPE=image/jpeg:https://visit.chomutov.cz/wp-content/uploads/2022/05/chomutov-rz-A3-plakat-770-2205-page-001.jpg
END:VEVENT
BEGIN:VEVENT
DTSTART;VALUE=DATE:20220507
DTEND;VALUE=DATE:20220901
DTSTAMP:20260425T055717
CREATED:20220610T130824Z
LAST-MODIFIED:20220610T131036Z
UID:1848-1651881600-1661990399@visit.chomutov.cz
SUMMARY:Školička wakeboardingu
DESCRIPTION:Veřejná školička wakeboardingu. Výuka probíhá na malém vleku a je určena dětem od 7 do 15 let. \nKaždá sobota dopoledne 8:30 až 10:00 od 7.5. \nDětem se věnujeme individuálně v rámci skupiny. Cena je 259 Kč za trénink a obsahuje jízdné\, trenér a zapůjčení vybavení. Z důvodu omezené kapacity míst a vybavení pro děti své registrace do školy prosím posílejte na adresu info@wakechomutov.cz.\nPokud máte nějaké dotazy\, tak mi zavolejte na tel.: 778 500 800 a vše probereme. \n 
URL:https://visit.chomutov.cz/kalendar/skolicka-wakeboardingu/
LOCATION:Wakepark Chomutov\, Mostecká č.e. 22\, Chomutov\, 43001
CATEGORIES:pro děti,sportovní akce,vzdělávání
ATTACH;FMTTYPE=image/jpeg:https://visit.chomutov.cz/wp-content/uploads/2021/11/Wakepark_2-Velke.jpg
END:VEVENT
END:VCALENDAR