BEGIN:VCALENDAR
VERSION:2.0
PRODID:-//Visit Chomutov - ECPv5.14.2.1//NONSGML v1.0//EN
CALSCALE:GREGORIAN
METHOD:PUBLISH
X-WR-CALNAME:Visit Chomutov
X-ORIGINAL-URL:https://visit.chomutov.cz
X-WR-CALDESC:Akce na Visit Chomutov
REFRESH-INTERVAL;VALUE=DURATION:PT1H
X-Robots-Tag:noindex
X-PUBLISHED-TTL:PT1H
BEGIN:VTIMEZONE
TZID:Europe/Prague
BEGIN:DAYLIGHT
TZOFFSETFROM:+0100
TZOFFSETTO:+0200
TZNAME:CEST
DTSTART:20260329T010000
END:DAYLIGHT
BEGIN:STANDARD
TZOFFSETFROM:+0200
TZOFFSETTO:+0100
TZNAME:CET
DTSTART:20261025T010000
END:STANDARD
END:VTIMEZONE
BEGIN:VEVENT
DTSTART;TZID=Europe/Prague:20260321T090000
DTEND;TZID=Europe/Prague:20260321T090000
DTSTAMP:20260421T105801
CREATED:20230220T151546Z
LAST-MODIFIED:20260303T100605Z
UID:3459-1774083600-1774083600@visit.chomutov.cz
SUMMARY:Jarní cena nejmladšího žactva
DESCRIPTION:plavecké závody\nUPOZORNĚNÍ: PRO VEŘEJNOST JE BAZÉN UZAVŘEN\, ZÁBAVNÍ ČÁST BUDE VEŘEJNOSTI PŘÍSTUPNA.
URL:https://visit.chomutov.cz/kalendar/jarni-cena-nejmladsiho-zactva/
LOCATION:Aquasvět\, Mostecká 5887\, Chomutov
CATEGORIES:pro děti,sportovní akce
ATTACH;FMTTYPE=image/jpeg:https://visit.chomutov.cz/wp-content/uploads/2022/11/plavani.jpg
ORGANIZER;CN="TJ%20Sl%C3%A1vie%20Chomutov":MAILTO:slcho@slaviechomutov.cz
END:VEVENT
END:VCALENDAR