BEGIN:VCALENDAR
VERSION:2.0
PRODID:-//Visit Chomutov - ECPv5.14.2.1//NONSGML v1.0//EN
CALSCALE:GREGORIAN
METHOD:PUBLISH
X-WR-CALNAME:Visit Chomutov
X-ORIGINAL-URL:https://visit.chomutov.cz
X-WR-CALDESC:Akce na Visit Chomutov
REFRESH-INTERVAL;VALUE=DURATION:PT1H
X-Robots-Tag:noindex
X-PUBLISHED-TTL:PT1H
BEGIN:VTIMEZONE
TZID:Europe/Prague
BEGIN:DAYLIGHT
TZOFFSETFROM:+0100
TZOFFSETTO:+0200
TZNAME:CEST
DTSTART:20260329T010000
END:DAYLIGHT
BEGIN:STANDARD
TZOFFSETFROM:+0200
TZOFFSETTO:+0100
TZNAME:CET
DTSTART:20261025T010000
END:STANDARD
END:VTIMEZONE
BEGIN:VEVENT
DTSTART;TZID=Europe/Prague:20260222T130000
DTEND;TZID=Europe/Prague:20260222T150000
DTSTAMP:20260421T123403
CREATED:20260203T140059Z
LAST-MODIFIED:20260203T140059Z
UID:11957-1771765200-1771772400@visit.chomutov.cz
SUMMARY:Rodinné zápolení - Masopust na ledu
DESCRIPTION:
URL:https://visit.chomutov.cz/kalendar/rodinne-zapoleni-masopust-na-ledu-2/
LOCATION:Rocknet Aréna – zimní stadion\, Mostecká 5773\, Chomutov
CATEGORIES:pro děti
ATTACH;FMTTYPE=image/jpeg:https://visit.chomutov.cz/wp-content/uploads/2026/02/chomutov-rz-A3-masopust-2601.jpg
ORGANIZER;CN="Statut%C3%A1rn%C3%AD%20m%C4%9Bsto%20Chomutov":MAILTO:infocentrum@chomutov.cz
END:VEVENT
BEGIN:VEVENT
DTSTART;TZID=Europe/Prague:20260222T160000
DTEND;TZID=Europe/Prague:20260222T173000
DTSTAMP:20260421T123403
CREATED:20260203T135939Z
LAST-MODIFIED:20260203T135939Z
UID:11954-1771776000-1771781400@visit.chomutov.cz
SUMMARY:Dárek
DESCRIPTION:pohádkové představení divadla NaOko
URL:https://visit.chomutov.cz/kalendar/darek-2/
LOCATION:Kulturní dům KASS\, Zahradní 5341\, Chomutov
CATEGORIES:divadlo,pro děti
ATTACH;FMTTYPE=image/jpeg:https://visit.chomutov.cz/wp-content/uploads/2022/11/naoko-logo.jpg
ORGANIZER;CN="Divadlo%20NaOko":MAILTO:info@divadlonaoko.cz
END:VEVENT
END:VCALENDAR