BEGIN:VCALENDAR
VERSION:2.0
PRODID:-//Visit Chomutov - ECPv5.14.2.1//NONSGML v1.0//EN
CALSCALE:GREGORIAN
METHOD:PUBLISH
X-WR-CALNAME:Visit Chomutov
X-ORIGINAL-URL:https://visit.chomutov.cz
X-WR-CALDESC:Akce na Visit Chomutov
REFRESH-INTERVAL;VALUE=DURATION:PT1H
X-Robots-Tag:noindex
X-PUBLISHED-TTL:PT1H
BEGIN:VTIMEZONE
TZID:Europe/Prague
BEGIN:DAYLIGHT
TZOFFSETFROM:+0100
TZOFFSETTO:+0200
TZNAME:CEST
DTSTART:20250330T010000
END:DAYLIGHT
BEGIN:STANDARD
TZOFFSETFROM:+0200
TZOFFSETTO:+0100
TZNAME:CET
DTSTART:20251026T010000
END:STANDARD
END:VTIMEZONE
BEGIN:VEVENT
DTSTART;TZID=Europe/Prague:20251229T090000
DTEND;TZID=Europe/Prague:20251229T120000
DTSTAMP:20260421T135744
CREATED:20251201T145148Z
LAST-MODIFIED:20251201T145148Z
UID:11811-1766998800-1767009600@visit.chomutov.cz
SUMMARY:Workshop - Inteligence plazů a testování jejich smyslů
DESCRIPTION:Objevte\, jak fascinující a chytří mohou být hadi\, ještěři a želvy. Tento den je zaměřený na praktické pokusy\, při kterých společně prozkoumáme\, jak plazi vnímají svět kolem sebe.
URL:https://visit.chomutov.cz/kalendar/workshop-inteligence-plazu-a-testovani-jejich-smyslu-2/
LOCATION:REPTILclub\, Jiráskova 4140\, Chomutov\, 43003
CATEGORIES:pro děti,vzdělávání
ATTACH;FMTTYPE=image/jpeg:https://visit.chomutov.cz/wp-content/uploads/2025/12/Inteligence-plazu.jpg
END:VEVENT
END:VCALENDAR