BEGIN:VCALENDAR
VERSION:2.0
PRODID:-//Visit Chomutov - ECPv5.14.2.1//NONSGML v1.0//EN
CALSCALE:GREGORIAN
METHOD:PUBLISH
X-WR-CALNAME:Visit Chomutov
X-ORIGINAL-URL:https://visit.chomutov.cz
X-WR-CALDESC:Akce na Visit Chomutov
REFRESH-INTERVAL;VALUE=DURATION:PT1H
X-Robots-Tag:noindex
X-PUBLISHED-TTL:PT1H
BEGIN:VTIMEZONE
TZID:Europe/Prague
BEGIN:DAYLIGHT
TZOFFSETFROM:+0100
TZOFFSETTO:+0200
TZNAME:CEST
DTSTART:20250330T010000
END:DAYLIGHT
BEGIN:STANDARD
TZOFFSETFROM:+0200
TZOFFSETTO:+0100
TZNAME:CET
DTSTART:20251026T010000
END:STANDARD
END:VTIMEZONE
BEGIN:VEVENT
DTSTART;VALUE=DATE:20251128
DTEND;VALUE=DATE:20251130
DTSTAMP:20260421T200752
CREATED:20251104T071449Z
LAST-MODIFIED:20251104T075302Z
UID:11384-1764288000-1764460799@visit.chomutov.cz
SUMMARY:Malé oči
DESCRIPTION:12. ročník dětského filmového festivalu\n29.11. 13.00-17.00 Doprovodný program filmového festivalu-animační dílny
URL:https://visit.chomutov.cz/kalendar/male-oci-2/
LOCATION:Kino Svět
CATEGORIES:pro děti
ATTACH;FMTTYPE=image/jpeg:https://visit.chomutov.cz/wp-content/uploads/2025/11/Male-oci-2025.jpg
END:VEVENT
BEGIN:VEVENT
DTSTART;VALUE=DATE:20251129
DTEND;VALUE=DATE:20251225
DTSTAMP:20260421T200752
CREATED:20221018T075356Z
LAST-MODIFIED:20251118T112906Z
UID:2673-1764374400-1766620799@visit.chomutov.cz
SUMMARY:Chomutovské Vánoce
DESCRIPTION:    \n \n \nStatutární město Chomutov děkuje za podporu skupině ČEZ a.s. při rozsvěcení vánočního stromu v našem městě na náměstí 1. máje. \nStatutární město Chomutov děkuje za podporu Severočeským dolům Group\, členu skupiny ČEZ pomáháme za podporu akce Chomutovské Vánoce 2025. \n     
URL:https://visit.chomutov.cz/kalendar/chomutovske-vanoce/
CATEGORIES:pro děti,Vánoce,zábavní pořady
ATTACH;FMTTYPE=image/jpeg:https://visit.chomutov.cz/wp-content/uploads/2022/10/chomutov_vanoce_A3_2025_1_PRESS-page-001-scaled.jpg
ORGANIZER;CN="Statut%C3%A1rn%C3%AD%20m%C4%9Bsto%20Chomutov":MAILTO:infocentrum@chomutov.cz
END:VEVENT
BEGIN:VEVENT
DTSTART;TZID=Europe/Prague:20251129T090000
DTEND;TZID=Europe/Prague:20251129T120000
DTSTAMP:20260421T200752
CREATED:20251104T075135Z
LAST-MODIFIED:20251104T075135Z
UID:11408-1764406800-1764417600@visit.chomutov.cz
SUMMARY:Den pro dětskou knihu
DESCRIPTION:výprodej vyřazených dětských knih\, předčítání a tvořivá vánoční dílna
URL:https://visit.chomutov.cz/kalendar/den-pro-detskou-knihu-3/
LOCATION:Chomutovská knihovna\, Palackého 4995\, Chomutov
CATEGORIES:pro děti
ATTACH;FMTTYPE=image/jpeg:https://visit.chomutov.cz/wp-content/uploads/2025/11/detska-kiha.jpg
END:VEVENT
END:VCALENDAR