BEGIN:VCALENDAR
VERSION:2.0
PRODID:-//Visit Chomutov - ECPv5.14.2.1//NONSGML v1.0//EN
CALSCALE:GREGORIAN
METHOD:PUBLISH
X-WR-CALNAME:Visit Chomutov
X-ORIGINAL-URL:https://visit.chomutov.cz
X-WR-CALDESC:Akce na Visit Chomutov
REFRESH-INTERVAL;VALUE=DURATION:PT1H
X-Robots-Tag:noindex
X-PUBLISHED-TTL:PT1H
BEGIN:VTIMEZONE
TZID:Europe/Prague
BEGIN:DAYLIGHT
TZOFFSETFROM:+0100
TZOFFSETTO:+0200
TZNAME:CEST
DTSTART:20250330T010000
END:DAYLIGHT
BEGIN:STANDARD
TZOFFSETFROM:+0200
TZOFFSETTO:+0100
TZNAME:CET
DTSTART:20251026T010000
END:STANDARD
END:VTIMEZONE
BEGIN:VEVENT
DTSTART;TZID=Europe/Prague:20251107T150000
DTEND;TZID=Europe/Prague:20251107T150000
DTSTAMP:20260421T200752
CREATED:20220523T154701Z
LAST-MODIFIED:20251103T153838Z
UID:1319-1762527600-1762527600@visit.chomutov.cz
SUMMARY:Knihovnický pisálek
DESCRIPTION:Kroužek tvůrčího psaní pro děti a mládež\, který vede spisovatelka Renata Šindelářová.\nAkce se koná v Bublině – 2. patro\, vedle dětského oddělení.
URL:https://visit.chomutov.cz/kalendar/knihovnicky-pisalek/
LOCATION:Chomutovská knihovna\, Palackého 4995\, Chomutov
CATEGORIES:pro děti
ATTACH;FMTTYPE=image/jpeg:https://visit.chomutov.cz/wp-content/uploads/2022/05/pexels-picjumbocom-210661-scaled.jpg
END:VEVENT
END:VCALENDAR