BEGIN:VCALENDAR
VERSION:2.0
PRODID:-//Visit Chomutov - ECPv5.14.2.1//NONSGML v1.0//EN
CALSCALE:GREGORIAN
METHOD:PUBLISH
X-WR-CALNAME:Visit Chomutov
X-ORIGINAL-URL:https://visit.chomutov.cz
X-WR-CALDESC:Akce na Visit Chomutov
REFRESH-INTERVAL;VALUE=DURATION:PT1H
X-Robots-Tag:noindex
X-PUBLISHED-TTL:PT1H
BEGIN:VTIMEZONE
TZID:Europe/Prague
BEGIN:DAYLIGHT
TZOFFSETFROM:+0100
TZOFFSETTO:+0200
TZNAME:CEST
DTSTART:20250330T010000
END:DAYLIGHT
BEGIN:STANDARD
TZOFFSETFROM:+0200
TZOFFSETTO:+0100
TZNAME:CET
DTSTART:20251026T010000
END:STANDARD
END:VTIMEZONE
BEGIN:VEVENT
DTSTART;TZID=Europe/Prague:20251019T130000
DTEND;TZID=Europe/Prague:20251019T170000
DTSTAMP:20260421T214541
CREATED:20250926T062940Z
LAST-MODIFIED:20250926T064133Z
UID:10918-1760878800-1760893200@visit.chomutov.cz
SUMMARY:Harampádí/Gerumpelausstellung
DESCRIPTION:Prodejní charitativní výstava.\nSoučástí výstavy je i přednáška „Sběr harampádí\, proč\, kdy a jak“ Martina Krska\, a divadelní představení pro děti.
URL:https://visit.chomutov.cz/kalendar/harampadi-gerumpelausstellung/
LOCATION:Kulisárna\, B. Němcové 552/32\, Chomutov
CATEGORIES:pro děti,vzdělávání,zábavní pořady
ATTACH;FMTTYPE=image/png:https://visit.chomutov.cz/wp-content/uploads/2025/09/Harampadi-vystava.png
ORGANIZER;CN="%C5%BDensk%C3%BD%20spolek%2C%20z.%20s.":MAILTO:zenskyspolek@seznam.cz
END:VEVENT
END:VCALENDAR