BEGIN:VCALENDAR
VERSION:2.0
PRODID:-//Visit Chomutov - ECPv5.14.2.1//NONSGML v1.0//EN
CALSCALE:GREGORIAN
METHOD:PUBLISH
X-WR-CALNAME:Visit Chomutov
X-ORIGINAL-URL:https://visit.chomutov.cz
X-WR-CALDESC:Akce na Visit Chomutov
REFRESH-INTERVAL;VALUE=DURATION:PT1H
X-Robots-Tag:noindex
X-PUBLISHED-TTL:PT1H
BEGIN:VTIMEZONE
TZID:Europe/Prague
BEGIN:DAYLIGHT
TZOFFSETFROM:+0100
TZOFFSETTO:+0200
TZNAME:CEST
DTSTART:20250330T010000
END:DAYLIGHT
BEGIN:STANDARD
TZOFFSETFROM:+0200
TZOFFSETTO:+0100
TZNAME:CET
DTSTART:20251026T010000
END:STANDARD
END:VTIMEZONE
BEGIN:VEVENT
DTSTART;VALUE=DATE:20250712
DTEND;VALUE=DATE:20250912
DTSTAMP:20260422T041959
CREATED:20250626T124341Z
LAST-MODIFIED:20250627T080537Z
UID:10373-1752278400-1757635199@visit.chomutov.cz
SUMMARY:Hra o penízky slečny Grétičky
DESCRIPTION:pro děti do 12 let
URL:https://visit.chomutov.cz/kalendar/hra-o-penizky-slecny-greticky/
LOCATION:Oblastní muzeum v Chomutově – hlavní budova\, Palackého 86\, Chomutov\, Česká republika
CATEGORIES:pro děti
ATTACH;FMTTYPE=image/jpeg:https://visit.chomutov.cz/wp-content/uploads/2025/06/o-zlate-penizky.jpg
ORGANIZER;CN="Oblastn%C3%AD%20muzeum%20v%20Chomutov%C4%9B":MAILTO:sekretariat@muzeumchomutov.cz
END:VEVENT
BEGIN:VEVENT
DTSTART;TZID=Europe/Prague:20250804T140000
DTEND;TZID=Europe/Prague:20250804T140000
DTSTAMP:20260422T041959
CREATED:20250717T052212Z
LAST-MODIFIED:20250717T052212Z
UID:10475-1754316000-1754316000@visit.chomutov.cz
SUMMARY:Kouzelník Široun
DESCRIPTION:představení nejen pro děti
URL:https://visit.chomutov.cz/kalendar/kouzelnik-siroun/
LOCATION:Atrium\, nám. 1. máje\, Chomutov
CATEGORIES:pro děti
ATTACH;FMTTYPE=image/jpeg:https://visit.chomutov.cz/wp-content/uploads/2025/07/kouzelnik-web-002-scaled.jpg
END:VEVENT
BEGIN:VEVENT
DTSTART;TZID=Europe/Prague:20250807T100000
DTEND;TZID=Europe/Prague:20250807T100000
DTSTAMP:20260422T041959
CREATED:20250806T154011Z
LAST-MODIFIED:20250806T154011Z
UID:10544-1754560800-1754560800@visit.chomutov.cz
SUMMARY:O princezně\, Luciášovi a makových buchtách
DESCRIPTION:pohádka pro děti (soubor CziDivadlo Praha)
URL:https://visit.chomutov.cz/kalendar/o-princezne-luciasovi-a-makovych-buchtach/
LOCATION:Letní kino\, Přemyslova 4752\, Chomutov
CATEGORIES:divadlo,pro děti
ATTACH;FMTTYPE=image/png:https://visit.chomutov.cz/wp-content/uploads/2025/08/Makove-buchty.png
END:VEVENT
BEGIN:VEVENT
DTSTART;TZID=Europe/Prague:20250812T100000
DTEND;TZID=Europe/Prague:20250812T140000
DTSTAMP:20260422T041959
CREATED:20250806T154110Z
LAST-MODIFIED:20250806T154110Z
UID:10547-1754992800-1755007200@visit.chomutov.cz
SUMMARY:Letní rodinné čtení
DESCRIPTION:
URL:https://visit.chomutov.cz/kalendar/letni-rodinne-cteni/
LOCATION:Kamencové jezero\, Tomáše ze Štítného 5971\, Chomutov
CATEGORIES:pro děti
ATTACH;FMTTYPE=image/jpeg:https://visit.chomutov.cz/wp-content/uploads/2025/08/chomutovka-letni-cteni-1200x1500px-2507.jpg
END:VEVENT
BEGIN:VEVENT
DTSTART;TZID=Europe/Prague:20250816T110000
DTEND;TZID=Europe/Prague:20250816T140000
DTSTAMP:20260422T041959
CREATED:20250807T140222Z
LAST-MODIFIED:20250807T140222Z
UID:10597-1755342000-1755352800@visit.chomutov.cz
SUMMARY:Léto ve Wakeparku
DESCRIPTION:8. akce Rodinného zápolení
URL:https://visit.chomutov.cz/kalendar/leto-ve-wakeparku/
LOCATION:Wakepark Chomutov\, Mostecká č.e. 22\, Chomutov\, 43001
CATEGORIES:pro děti,sportovní akce
ATTACH;FMTTYPE=image/jpeg:https://visit.chomutov.cz/wp-content/uploads/2025/08/chomutov-rz-A5-leko-ve-wakeparku-2507-page-001.jpg
ORGANIZER;CN="Statut%C3%A1rn%C3%AD%20m%C4%9Bsto%20Chomutov":MAILTO:infocentrum@chomutov.cz
END:VEVENT
BEGIN:VEVENT
DTSTART;TZID=Europe/Prague:20250821T100000
DTEND;TZID=Europe/Prague:20250821T100000
DTSTAMP:20260422T041959
CREATED:20250806T154314Z
LAST-MODIFIED:20250806T154314Z
UID:10550-1755770400-1755770400@visit.chomutov.cz
SUMMARY:O Budulínkovi
DESCRIPTION:pohádka pro děti (soubor Kapsa Andělská Hora)
URL:https://visit.chomutov.cz/kalendar/o-budulinkovi/
LOCATION:Letní kino\, Přemyslova 4752\, Chomutov
CATEGORIES:divadlo,pro děti
ATTACH;FMTTYPE=image/jpeg:https://visit.chomutov.cz/wp-content/uploads/2025/08/Budulinek.jpg
END:VEVENT
END:VCALENDAR