BEGIN:VCALENDAR
VERSION:2.0
PRODID:-//Visit Chomutov - ECPv5.14.2.1//NONSGML v1.0//EN
CALSCALE:GREGORIAN
METHOD:PUBLISH
X-WR-CALNAME:Visit Chomutov
X-ORIGINAL-URL:https://visit.chomutov.cz
X-WR-CALDESC:Akce na Visit Chomutov
REFRESH-INTERVAL;VALUE=DURATION:PT1H
X-Robots-Tag:noindex
X-PUBLISHED-TTL:PT1H
BEGIN:VTIMEZONE
TZID:Europe/Prague
BEGIN:DAYLIGHT
TZOFFSETFROM:+0100
TZOFFSETTO:+0200
TZNAME:CEST
DTSTART:20250330T010000
END:DAYLIGHT
BEGIN:STANDARD
TZOFFSETFROM:+0200
TZOFFSETTO:+0100
TZNAME:CET
DTSTART:20251026T010000
END:STANDARD
END:VTIMEZONE
BEGIN:VEVENT
DTSTART;TZID=Europe/Prague:20250504T150000
DTEND;TZID=Europe/Prague:20250504T150000
DTSTAMP:20260422T175729
CREATED:20250423T140015Z
LAST-MODIFIED:20250423T140015Z
UID:9762-1746370800-1746370800@visit.chomutov.cz
SUMMARY:Ferda Mravenec
DESCRIPTION:nedělní pohádka pro děti a jejich rodiče \nDobrodružství šikovného mravence s červeným šátkem\, jeho popleteného přítele Brouka Pytlíka\, půvabné\, ale trochu nafoukané Berušky\, mrzutého hlemýždě a ostatních brouků a broučků z jednoho palouku. Chybět nebudou ani chytlavé písničky\, které si děti prozpěvují už při odchodu z představení.
URL:https://visit.chomutov.cz/kalendar/ferda-mravenec/
LOCATION:Městské divadlo\, Boženy Němcové 552/32\, Chomutov
CATEGORIES:pro děti
ATTACH;FMTTYPE=image/jpeg:https://visit.chomutov.cz/wp-content/uploads/2025/04/Ferda-mravenec.jpg
END:VEVENT
BEGIN:VEVENT
DTSTART;TZID=Europe/Prague:20250505T100000
DTEND;TZID=Europe/Prague:20250505T110000
DTSTAMP:20260422T175729
CREATED:20250502T082544Z
LAST-MODIFIED:20250502T082728Z
UID:9818-1746439200-1746442800@visit.chomutov.cz
SUMMARY:Háďata - setkání s plazy pro nejmenší
DESCRIPTION:Jste na mateřské dovolené a hledáte zábavu pro sebe a své ratolesti?\nChcete si odpočinout od stereotypu domácnosti a zažít něco nového? Přijďte do REPTILclubu a užijte si jedinečný zážitek – kontakt s plazy! Vaše děti se setkají s fascinujícími tvory a vy si užijete čas mimo domov\, vše pod mým odborným dohledem a v bezpečí.\nVhodné pro děti od 1 roku\nVstupné:\n150 Kč za rodinu (1 dospělý + 1 dítě)\nKaždý další účastník: 70 Kč\nPlatba hotově nebo pomocí QR kódu.\nMaximální počet účastníků ve skupině je 10\, tak si nezapomeňte rezervovat místo včas na www.reptilclub.cz. Zobrazovat míň\nChomutov
URL:https://visit.chomutov.cz/kalendar/hadata-setkani-s-plazy-pro-nejmensi/
LOCATION:REPTILclub\, Jiráskova 4140\, Chomutov\, 43003
CATEGORIES:pro děti,zábavní pořady
ATTACH;FMTTYPE=image/jpeg:https://visit.chomutov.cz/wp-content/uploads/2025/05/Hadata.jpg
END:VEVENT
BEGIN:VEVENT
DTSTART;VALUE=DATE:20250506
DTEND;VALUE=DATE:20250513
DTSTAMP:20260422T175729
CREATED:20250502T063435Z
LAST-MODIFIED:20250502T063435Z
UID:9768-1746489600-1747094399@visit.chomutov.cz
SUMMARY:Palachovka spolu podruhé\, aneb Společně jsme silní
DESCRIPTION:výstava dětských prací a fotografií děti z Mateřské školy Palachova Chomutov\, Barvička Kadaň a žáci Základní školy speciální Palachova Chomutov a Schule Christian Felix Weisse Annaberg – Buchholz\, vernisáž výstav 6.5. v 16.00 hodin
URL:https://visit.chomutov.cz/kalendar/palachovka-spolu-podruhe-aneb-spolecne-jsme-silni/
LOCATION:Kostel sv. Kateřiny\, Chelčického 100\, Chomutov
CATEGORIES:pro děti,výstavy
ATTACH;FMTTYPE=image/jpeg:https://visit.chomutov.cz/wp-content/uploads/2025/05/Palachovka.jpg
END:VEVENT
BEGIN:VEVENT
DTSTART;TZID=Europe/Prague:20250512T100000
DTEND;TZID=Europe/Prague:20250512T110000
DTSTAMP:20260422T175729
CREATED:20250502T082756Z
LAST-MODIFIED:20250502T082756Z
UID:9823-1747044000-1747047600@visit.chomutov.cz
SUMMARY:Háďata - setkání s plazy pro nejmenší
DESCRIPTION:Jste na mateřské dovolené a hledáte zábavu pro sebe a své ratolesti?\nChcete si odpočinout od stereotypu domácnosti a zažít něco nového? Přijďte do REPTILclubu a užijte si jedinečný zážitek – kontakt s plazy! Vaše děti se setkají s fascinujícími tvory a vy si užijete čas mimo domov\, vše pod mým odborným dohledem a v bezpečí.\nVhodné pro děti od 1 roku\nVstupné:\n150 Kč za rodinu (1 dospělý + 1 dítě)\nKaždý další účastník: 70 Kč\nPlatba hotově nebo pomocí QR kódu.\nMaximální počet účastníků ve skupině je 10\, tak si nezapomeňte rezervovat místo včas na www.reptilclub.cz. Zobrazovat míň\nChomutov
URL:https://visit.chomutov.cz/kalendar/hadata-setkani-s-plazy-pro-nejmensi-2/
LOCATION:REPTILclub\, Jiráskova 4140\, Chomutov\, 43003
CATEGORIES:pro děti,zábavní pořady
ATTACH;FMTTYPE=image/jpeg:https://visit.chomutov.cz/wp-content/uploads/2025/05/Hadata.jpg
END:VEVENT
BEGIN:VEVENT
DTSTART;TZID=Europe/Prague:20250517T120000
DTEND;TZID=Europe/Prague:20250517T153000
DTSTAMP:20260422T175729
CREATED:20250423T123639Z
LAST-MODIFIED:20250423T130027Z
UID:9753-1747483200-1747495800@visit.chomutov.cz
SUMMARY:Den u koní
DESCRIPTION:5. akce Rodinného zápolení
URL:https://visit.chomutov.cz/kalendar/den-u-koni/
CATEGORIES:pro děti
ATTACH;FMTTYPE=image/jpeg:https://visit.chomutov.cz/wp-content/uploads/2025/04/chomutov-rz-A3-plakat-den-u-koni-2504.jpg
ORGANIZER;CN="Statut%C3%A1rn%C3%AD%20m%C4%9Bsto%20Chomutov":MAILTO:infocentrum@chomutov.cz
END:VEVENT
BEGIN:VEVENT
DTSTART;TZID=Europe/Prague:20250519T100000
DTEND;TZID=Europe/Prague:20250519T110000
DTSTAMP:20260422T175729
CREATED:20250502T082805Z
LAST-MODIFIED:20250502T082805Z
UID:9825-1747648800-1747652400@visit.chomutov.cz
SUMMARY:Háďata - setkání s plazy pro nejmenší
DESCRIPTION:Jste na mateřské dovolené a hledáte zábavu pro sebe a své ratolesti?\nChcete si odpočinout od stereotypu domácnosti a zažít něco nového? Přijďte do REPTILclubu a užijte si jedinečný zážitek – kontakt s plazy! Vaše děti se setkají s fascinujícími tvory a vy si užijete čas mimo domov\, vše pod mým odborným dohledem a v bezpečí.\nVhodné pro děti od 1 roku\nVstupné:\n150 Kč za rodinu (1 dospělý + 1 dítě)\nKaždý další účastník: 70 Kč\nPlatba hotově nebo pomocí QR kódu.\nMaximální počet účastníků ve skupině je 10\, tak si nezapomeňte rezervovat místo včas na www.reptilclub.cz. Zobrazovat míň\nChomutov
URL:https://visit.chomutov.cz/kalendar/hadata-setkani-s-plazy-pro-nejmensi-3/
LOCATION:REPTILclub\, Jiráskova 4140\, Chomutov\, 43003
CATEGORIES:pro děti,zábavní pořady
ATTACH;FMTTYPE=image/jpeg:https://visit.chomutov.cz/wp-content/uploads/2025/05/Hadata.jpg
END:VEVENT
BEGIN:VEVENT
DTSTART;TZID=Europe/Prague:20250519T150000
DTEND;TZID=Europe/Prague:20250520T180000
DTSTAMP:20260422T175729
CREATED:20250507T091734Z
LAST-MODIFIED:20250507T091802Z
UID:9890-1747666800-1747764000@visit.chomutov.cz
SUMMARY:Přijímací talentové zkoušky
DESCRIPTION:
URL:https://visit.chomutov.cz/kalendar/prijimaci-talentove-zkousky/
LOCATION:ZUŠ T. G. Masaryka\, nám. T. G. Masaryka 1626\, Chomutov
CATEGORIES:pro děti,vzdělávání
ATTACH;FMTTYPE=image/jpeg:https://visit.chomutov.cz/wp-content/uploads/2025/05/pexels-pavel-danilyuk-7521205.jpg
END:VEVENT
BEGIN:VEVENT
DTSTART;TZID=Europe/Prague:20250522T150000
DTEND;TZID=Europe/Prague:20250522T150000
DTSTAMP:20260422T175729
CREATED:20250515T064734Z
LAST-MODIFIED:20250515T064734Z
UID:9955-1747926000-1747926000@visit.chomutov.cz
SUMMARY:Mateřinkové písňobraní
DESCRIPTION:přehlídka pěveckých sborů chomutovských mateřských škol
URL:https://visit.chomutov.cz/kalendar/materinkove-pisnobrani-3/
LOCATION:Atrium\, nám. 1. máje\, Chomutov
CATEGORIES:koncert,pro děti
ATTACH;FMTTYPE=image/jpeg:https://visit.chomutov.cz/wp-content/uploads/2025/05/Pisnobrani.jpeg
END:VEVENT
BEGIN:VEVENT
DTSTART;VALUE=DATE:20250524
DTEND;VALUE=DATE:20250526
DTSTAMP:20260422T175729
CREATED:20250122T094209Z
LAST-MODIFIED:20250522T053316Z
UID:8960-1748044800-1748217599@visit.chomutov.cz
SUMMARY:Chomutovské slavnosti 2025
DESCRIPTION:      
URL:https://visit.chomutov.cz/kalendar/chomutovske-slavnosti-2025/
LOCATION:Městský park\, Čelakovského\, Chomutov
CATEGORIES:pro děti,zábavní pořady
ATTACH;FMTTYPE=image/jpeg:https://visit.chomutov.cz/wp-content/uploads/2025/01/chomutov-slavnosti-2025.jpg
ORGANIZER;CN="Statut%C3%A1rn%C3%AD%20m%C4%9Bsto%20Chomutov":MAILTO:infocentrum@chomutov.cz
END:VEVENT
BEGIN:VEVENT
DTSTART;TZID=Europe/Prague:20250526T100000
DTEND;TZID=Europe/Prague:20250526T110000
DTSTAMP:20260422T175729
CREATED:20250502T082818Z
LAST-MODIFIED:20250502T082818Z
UID:9827-1748253600-1748257200@visit.chomutov.cz
SUMMARY:Háďata - setkání s plazy pro nejmenší
DESCRIPTION:Jste na mateřské dovolené a hledáte zábavu pro sebe a své ratolesti?\nChcete si odpočinout od stereotypu domácnosti a zažít něco nového? Přijďte do REPTILclubu a užijte si jedinečný zážitek – kontakt s plazy! Vaše děti se setkají s fascinujícími tvory a vy si užijete čas mimo domov\, vše pod mým odborným dohledem a v bezpečí.\nVhodné pro děti od 1 roku\nVstupné:\n150 Kč za rodinu (1 dospělý + 1 dítě)\nKaždý další účastník: 70 Kč\nPlatba hotově nebo pomocí QR kódu.\nMaximální počet účastníků ve skupině je 10\, tak si nezapomeňte rezervovat místo včas na www.reptilclub.cz. Zobrazovat míň\nChomutov
URL:https://visit.chomutov.cz/kalendar/hadata-setkani-s-plazy-pro-nejmensi-4/
LOCATION:REPTILclub\, Jiráskova 4140\, Chomutov\, 43003
CATEGORIES:pro děti,zábavní pořady
ATTACH;FMTTYPE=image/jpeg:https://visit.chomutov.cz/wp-content/uploads/2025/05/Hadata.jpg
END:VEVENT
BEGIN:VEVENT
DTSTART;TZID=Europe/Prague:20250531T140000
DTEND;TZID=Europe/Prague:20250531T140000
DTSTAMP:20260422T175729
CREATED:20250519T144931Z
LAST-MODIFIED:20250519T144931Z
UID:10066-1748700000-1748700000@visit.chomutov.cz
SUMMARY:Den dětí v Admi
DESCRIPTION:Přijďte s námi oslavit Den dětí tak\, jak si to zaslouží – se spoustou radosti\, barev\, hudby a zábavy pro malé i velké!\nČeká vás odpoledne plné aktivit na naší zahrádce:\n– DJ s dětskými hity\n– skákací hrad\n– malování na obličej\n– sladká cukrová vata\n– maskoti\, se kterými se děti mohou vyfotit\n– občerstvení\nVstup ZDARMA\, skvělá nálada zaručena.
URL:https://visit.chomutov.cz/kalendar/den-deti-v-admi/
LOCATION:Admi Restaurant & Bar\, Bezručova 5609\, Chomutov\, 43003
CATEGORIES:pro děti
ATTACH;FMTTYPE=image/jpeg:https://visit.chomutov.cz/wp-content/uploads/2025/05/Den-deti-v-Admi.jpg
END:VEVENT
END:VCALENDAR