BEGIN:VCALENDAR
VERSION:2.0
PRODID:-//Visit Chomutov - ECPv5.14.2.1//NONSGML v1.0//EN
CALSCALE:GREGORIAN
METHOD:PUBLISH
X-WR-CALNAME:Visit Chomutov
X-ORIGINAL-URL:https://visit.chomutov.cz
X-WR-CALDESC:Akce na Visit Chomutov
REFRESH-INTERVAL;VALUE=DURATION:PT1H
X-Robots-Tag:noindex
X-PUBLISHED-TTL:PT1H
BEGIN:VTIMEZONE
TZID:Europe/Prague
BEGIN:DAYLIGHT
TZOFFSETFROM:+0100
TZOFFSETTO:+0200
TZNAME:CEST
DTSTART:20230326T010000
END:DAYLIGHT
BEGIN:STANDARD
TZOFFSETFROM:+0200
TZOFFSETTO:+0100
TZNAME:CET
DTSTART:20231029T010000
END:STANDARD
BEGIN:DAYLIGHT
TZOFFSETFROM:+0100
TZOFFSETTO:+0200
TZNAME:CEST
DTSTART:20240331T010000
END:DAYLIGHT
BEGIN:STANDARD
TZOFFSETFROM:+0200
TZOFFSETTO:+0100
TZNAME:CET
DTSTART:20241027T010000
END:STANDARD
END:VTIMEZONE
BEGIN:VEVENT
DTSTART;TZID=Europe/Prague:20231117T200000
DTEND;TZID=Europe/Prague:20231117T200000
DTSTAMP:20260424T192325
CREATED:20231030T155810Z
LAST-MODIFIED:20231030T155810Z
UID:5408-1700251200-1700251200@visit.chomutov.cz
SUMMARY:Vibe festival
DESCRIPTION:Vystoupí Jakub Děkan\, Refew\, Jaroslav Olah\, Tripp.
URL:https://visit.chomutov.cz/kalendar/vibe-festival/
LOCATION:Městské divadlo\, Boženy Němcové 552/32\, Chomutov
CATEGORIES:koncert
ATTACH;FMTTYPE=image/jpeg:https://visit.chomutov.cz/wp-content/uploads/2023/10/Vibe-festival.jpg
END:VEVENT
BEGIN:VEVENT
DTSTART;TZID=Europe/Prague:20231123T190000
DTEND;TZID=Europe/Prague:20231123T190000
DTSTAMP:20260424T192325
CREATED:20231030T163533Z
LAST-MODIFIED:20231030T163533Z
UID:5418-1700766000-1700766000@visit.chomutov.cz
SUMMARY:Helena Vondráčková - Show 23
DESCRIPTION:
URL:https://visit.chomutov.cz/kalendar/helena-vondrackova-show-23/
LOCATION:Městské divadlo\, Boženy Němcové 552/32\, Chomutov
CATEGORIES:koncert
ATTACH;FMTTYPE=image/png:https://visit.chomutov.cz/wp-content/uploads/2023/10/Vondrackova.png
END:VEVENT
BEGIN:VEVENT
DTSTART;TZID=Europe/Prague:20231126T180000
DTEND;TZID=Europe/Prague:20231126T180000
DTSTAMP:20260424T192325
CREATED:20231031T071755Z
LAST-MODIFIED:20231031T071809Z
UID:5429-1701021600-1701021600@visit.chomutov.cz
SUMMARY:Předadventní koncert Madrigal
DESCRIPTION:Vokálně instrumentální soubor pod uměleckým vedením MgA. Hany Ondráčkové.
URL:https://visit.chomutov.cz/kalendar/predadventni-koncert-madrigal/
LOCATION:Galerie Lurago\, Palackého 85\, Chomutov
CATEGORIES:koncert,Vánoce
ATTACH;FMTTYPE=image/jpeg:https://visit.chomutov.cz/wp-content/uploads/2023/02/Madrigal.jpg
END:VEVENT
BEGIN:VEVENT
DTSTART;TZID=Europe/Prague:20231126T200000
DTEND;TZID=Europe/Prague:20231126T200000
DTSTAMP:20260424T192325
CREATED:20231031T071925Z
LAST-MODIFIED:20231031T072435Z
UID:5431-1701028800-1701028800@visit.chomutov.cz
SUMMARY:Janek Ledecký - Sliby se mají plnit o Vánocích
DESCRIPTION:
URL:https://visit.chomutov.cz/kalendar/janek-ledecky-sliby-se-maji-plnit-o-vanocich/
LOCATION:Městské divadlo\, Boženy Němcové 552/32\, Chomutov
CATEGORIES:koncert,Vánoce
ATTACH;FMTTYPE=image/png:https://visit.chomutov.cz/wp-content/uploads/2023/10/Ledecky.png
END:VEVENT
BEGIN:VEVENT
DTSTART;TZID=Europe/Prague:20231130T180000
DTEND;TZID=Europe/Prague:20231130T180000
DTSTAMP:20260424T192325
CREATED:20231031T073532Z
LAST-MODIFIED:20231031T073532Z
UID:5437-1701367200-1701367200@visit.chomutov.cz
SUMMARY:Charitativní koncert spolku Parent project
DESCRIPTION:
URL:https://visit.chomutov.cz/kalendar/charitativni-koncert-spolku-parent-project/
LOCATION:Kostel sv. Kateřiny\, Chelčického 100\, Chomutov
CATEGORIES:koncert
ATTACH;FMTTYPE=image/jpeg:https://visit.chomutov.cz/wp-content/uploads/2022/05/DSC09775-HDR.jpg
ORGANIZER;CN="Oblastn%C3%AD%20muzeum%20v%20Chomutov%C4%9B":MAILTO:sekretariat@muzeumchomutov.cz
END:VEVENT
BEGIN:VEVENT
DTSTART;TZID=Europe/Prague:20231201T180000
DTEND;TZID=Europe/Prague:20231201T180000
DTSTAMP:20260424T192325
CREATED:20231127T123931Z
LAST-MODIFIED:20231127T124015Z
UID:5808-1701453600-1701453600@visit.chomutov.cz
SUMMARY:Petra Börnerová Trio - koncert
DESCRIPTION:
URL:https://visit.chomutov.cz/kalendar/petra-bornerova-trio-koncert/
LOCATION:Café Atrium\, Palackého 85\, Chomutov
CATEGORIES:koncert
ATTACH;FMTTYPE=image/jpeg:https://visit.chomutov.cz/wp-content/uploads/2023/11/Bornerova.jpg
ORGANIZER;CN="Masopust%2C%20z.s.":MAILTO:info@masopustspolek.cz
END:VEVENT
BEGIN:VEVENT
DTSTART;TZID=Europe/Prague:20231203T180000
DTEND;TZID=Europe/Prague:20231203T180000
DTSTAMP:20260424T192325
CREATED:20231127T124425Z
LAST-MODIFIED:20231127T124425Z
UID:5812-1701626400-1701626400@visit.chomutov.cz
SUMMARY:1. Adventní koncert
DESCRIPTION:Vystoupí Smíšený pěvecký sbor HLAHOL a Komorní orchestr města Chomutova.
URL:https://visit.chomutov.cz/kalendar/1-adventni-koncert/
LOCATION:Kostel sv. Ignáce\, nám. 1. máje\, Chomutov
CATEGORIES:koncert,Vánoce
ATTACH;FMTTYPE=image/jpeg:https://visit.chomutov.cz/wp-content/uploads/2023/11/Vanoce-v-knihovne.jpg
END:VEVENT
BEGIN:VEVENT
DTSTART;TZID=Europe/Prague:20231204T181500
DTEND;TZID=Europe/Prague:20231204T181500
DTSTAMP:20260424T192325
CREATED:20231127T125243Z
LAST-MODIFIED:20231127T125528Z
UID:5815-1701713700-1701713700@visit.chomutov.cz
SUMMARY:Adventní koncert žáků Soni Salvequartové
DESCRIPTION:
URL:https://visit.chomutov.cz/kalendar/adventni-koncert-zaku-soni-salvequartove/
LOCATION:ZUŠ T. G. Masaryka\, nám. T. G. Masaryka 1626\, Chomutov
CATEGORIES:koncert,Vánoce
ATTACH;FMTTYPE=image/jpeg:https://visit.chomutov.cz/wp-content/uploads/2023/11/pexels-laura-james-6102008.jpg
END:VEVENT
BEGIN:VEVENT
DTSTART;TZID=Europe/Prague:20231205T190000
DTEND;TZID=Europe/Prague:20231205T190000
DTSTAMP:20260424T192325
CREATED:20231127T130152Z
LAST-MODIFIED:20231127T130152Z
UID:5818-1701802800-1701802800@visit.chomutov.cz
SUMMARY:Vánoční koncert Big Bandu Zdeňka Tölga s Leonou Machálkovou
DESCRIPTION:
URL:https://visit.chomutov.cz/kalendar/vanocni-koncert-big-bandu-zdenka-tolga-s-leonou-machalkovou/
LOCATION:Městské divadlo\, Boženy Němcové 552/32\, Chomutov
CATEGORIES:koncert,Vánoce
ATTACH;FMTTYPE=image/jpeg:https://visit.chomutov.cz/wp-content/uploads/2023/11/Machalkova.jpg
END:VEVENT
BEGIN:VEVENT
DTSTART;TZID=Europe/Prague:20231206T170000
DTEND;TZID=Europe/Prague:20231206T170000
DTSTAMP:20260424T192325
CREATED:20231127T130241Z
LAST-MODIFIED:20231127T130241Z
UID:5821-1701882000-1701882000@visit.chomutov.cz
SUMMARY:Vánoční koncert třídy M. Kubíkové
DESCRIPTION:
URL:https://visit.chomutov.cz/kalendar/vanocni-koncert-tridy-m-kubikove/
LOCATION:ZUŠ T. G. Masaryka\, nám. T. G. Masaryka 1626\, Chomutov
CATEGORIES:koncert,Vánoce
ATTACH;FMTTYPE=image/jpeg:https://visit.chomutov.cz/wp-content/uploads/2023/11/pexels-laura-james-6102008.jpg
END:VEVENT
BEGIN:VEVENT
DTSTART;TZID=Europe/Prague:20231207T170000
DTEND;TZID=Europe/Prague:20231207T170000
DTSTAMP:20260424T192325
CREATED:20231127T130817Z
LAST-MODIFIED:20231127T131804Z
UID:5826-1701968400-1701968400@visit.chomutov.cz
SUMMARY:Koncert Rajče Band
DESCRIPTION:
URL:https://visit.chomutov.cz/kalendar/koncert-rajce-band/
LOCATION:Café Atrium\, Palackého 85\, Chomutov
CATEGORIES:koncert
ATTACH;FMTTYPE=image/jpeg:https://visit.chomutov.cz/wp-content/uploads/2022/05/cafe-atrium.jpg
ORGANIZER;CN="Masopust%2C%20z.s.":MAILTO:info@masopustspolek.cz
END:VEVENT
BEGIN:VEVENT
DTSTART;TZID=Europe/Prague:20231208T180000
DTEND;TZID=Europe/Prague:20231208T180000
DTSTAMP:20260424T192325
CREATED:20231127T134316Z
LAST-MODIFIED:20231127T134316Z
UID:5832-1702058400-1702058400@visit.chomutov.cz
SUMMARY:Předvánoční koncert Vox Cantabilis
DESCRIPTION:
URL:https://visit.chomutov.cz/kalendar/predvanocni-koncert-vox-cantabilis/
CATEGORIES:koncert,Vánoce
ATTACH;FMTTYPE=image/jpeg:https://visit.chomutov.cz/wp-content/uploads/2023/11/Vanocni-Vox-Cantabilis.jpg
END:VEVENT
BEGIN:VEVENT
DTSTART;TZID=Europe/Prague:20231209T170000
DTEND;TZID=Europe/Prague:20231209T170000
DTSTAMP:20260424T192325
CREATED:20231127T134716Z
LAST-MODIFIED:20231127T134716Z
UID:5835-1702141200-1702141200@visit.chomutov.cz
SUMMARY:Adventní koncert Unisono
DESCRIPTION:
URL:https://visit.chomutov.cz/kalendar/adventni-koncert-unisono/
LOCATION:Kostel sv. Kateřiny\, Chelčického 100\, Chomutov
CATEGORIES:koncert,Vánoce
ATTACH;FMTTYPE=image/png:https://visit.chomutov.cz/wp-content/uploads/2023/11/unisono.png
ORGANIZER;CN="Oblastn%C3%AD%20muzeum%20v%20Chomutov%C4%9B":MAILTO:sekretariat@muzeumchomutov.cz
END:VEVENT
BEGIN:VEVENT
DTSTART;TZID=Europe/Prague:20231209T180000
DTEND;TZID=Europe/Prague:20231209T200000
DTSTAMP:20260424T192325
CREATED:20231116T121705Z
LAST-MODIFIED:20231116T121720Z
UID:5719-1702144800-1702152000@visit.chomutov.cz
SUMMARY:Jak jsi krásné jazzulátko
DESCRIPTION:Tradiční vánoční koncert Dixieland Party band.
URL:https://visit.chomutov.cz/kalendar/jak-jsi-krasne-jazzulatko/
LOCATION:Jacques café\, Puchmayerova 118/9\, Chomutov\, 43001
CATEGORIES:koncert,Vánoce
ATTACH;FMTTYPE=image/jpeg:https://visit.chomutov.cz/wp-content/uploads/2023/11/Jak-jsi-krasne-jazzulatko-page-001.jpg
END:VEVENT
BEGIN:VEVENT
DTSTART;TZID=Europe/Prague:20231210T180000
DTEND;TZID=Europe/Prague:20231210T180000
DTSTAMP:20260424T192325
CREATED:20231127T140141Z
LAST-MODIFIED:20231127T140214Z
UID:5841-1702231200-1702231200@visit.chomutov.cz
SUMMARY:2. adventní koncert
DESCRIPTION:Vystoupí pěvecký sbor VENTILKY ZUŠ Jirkov.
URL:https://visit.chomutov.cz/kalendar/2-adventni-koncert/
LOCATION:Kostel sv. Ignáce\, nám. 1. máje\, Chomutov
CATEGORIES:koncert,Vánoce
ATTACH;FMTTYPE=image/jpeg:https://visit.chomutov.cz/wp-content/uploads/2023/11/Vanoce-v-knihovne.jpg
END:VEVENT
BEGIN:VEVENT
DTSTART;TZID=Europe/Prague:20231212T180000
DTEND;TZID=Europe/Prague:20231212T180000
DTSTAMP:20260424T192325
CREATED:20231127T142733Z
LAST-MODIFIED:20231127T142733Z
UID:5846-1702404000-1702404000@visit.chomutov.cz
SUMMARY:Koncert klavírních souborů
DESCRIPTION:
URL:https://visit.chomutov.cz/kalendar/koncert-klavirnich-souboru-2/
LOCATION:ZUŠ T. G. Masaryka\, nám. T. G. Masaryka 1626\, Chomutov
CATEGORIES:koncert
ATTACH;FMTTYPE=image/jpeg:https://visit.chomutov.cz/wp-content/uploads/2023/03/pexels-cottonbro-studio-4033340.jpg
END:VEVENT
BEGIN:VEVENT
DTSTART;TZID=Europe/Prague:20231213T180000
DTEND;TZID=Europe/Prague:20231213T180000
DTSTAMP:20260424T192325
CREATED:20231127T144532Z
LAST-MODIFIED:20231127T144532Z
UID:5851-1702490400-1702490400@visit.chomutov.cz
SUMMARY:Hrajeme si pro radost
DESCRIPTION:
URL:https://visit.chomutov.cz/kalendar/hrajeme-si-pro-radost-3/
LOCATION:ZUŠ T. G. Masaryka\, nám. T. G. Masaryka 1626\, Chomutov
CATEGORIES:koncert
ATTACH;FMTTYPE=image/jpeg:https://visit.chomutov.cz/wp-content/uploads/2023/01/pexels-buchkiste-4841308.jpg
END:VEVENT
BEGIN:VEVENT
DTSTART;TZID=Europe/Prague:20231213T190000
DTEND;TZID=Europe/Prague:20231213T190000
DTSTAMP:20260424T192325
CREATED:20231127T143240Z
LAST-MODIFIED:20231127T143251Z
UID:5848-1702494000-1702494000@visit.chomutov.cz
SUMMARY:Staročeské Vánoce - Česká mše vánoční J. J. Ryby
DESCRIPTION:České koledy v provedení ženského pěveckého sboru Clavis Cordium\, dále hudbu A. Vivaldiho\, zazní i Česká mše vánoční. Spoluúčinkuje Festivalový orchestr Petra Macka.
URL:https://visit.chomutov.cz/kalendar/staroceske-vanoce-ceska-mse-vanocni-j-j-ryby/
LOCATION:Městské divadlo\, Boženy Němcové 552/32\, Chomutov
CATEGORIES:koncert,Vánoce
ATTACH;FMTTYPE=image/jpeg:https://visit.chomutov.cz/wp-content/uploads/2023/11/Macek-Staroceske-Vanoce-page-001-scaled.jpg
END:VEVENT
BEGIN:VEVENT
DTSTART;TZID=Europe/Prague:20231214T180000
DTEND;TZID=Europe/Prague:20231214T180000
DTSTAMP:20260424T192325
CREATED:20231127T144620Z
LAST-MODIFIED:20231127T144620Z
UID:5853-1702576800-1702576800@visit.chomutov.cz
SUMMARY:Vánoční koncert žáků školy
DESCRIPTION:
URL:https://visit.chomutov.cz/kalendar/vanocni-koncert-zaku-skoly/
LOCATION:ZUŠ T. G. Masaryka\, nám. T. G. Masaryka 1626\, Chomutov
CATEGORIES:koncert,Vánoce
ATTACH;FMTTYPE=image/jpeg:https://visit.chomutov.cz/wp-content/uploads/2023/11/pexels-laura-james-6102008.jpg
END:VEVENT
BEGIN:VEVENT
DTSTART;TZID=Europe/Prague:20231216T160000
DTEND;TZID=Europe/Prague:20231216T160000
DTSTAMP:20260424T192325
CREATED:20231127T145732Z
LAST-MODIFIED:20231127T145732Z
UID:5857-1702742400-1702742400@visit.chomutov.cz
SUMMARY:Adventní koncert Comodo
DESCRIPTION:
URL:https://visit.chomutov.cz/kalendar/adventni-koncert-comodo/
LOCATION:Kostel sv. Kateřiny\, Chelčického 100\, Chomutov
CATEGORIES:koncert,Vánoce
ATTACH;FMTTYPE=image/jpeg:https://visit.chomutov.cz/wp-content/uploads/2023/11/Comodo.jpg
ORGANIZER;CN="Oblastn%C3%AD%20muzeum%20v%20Chomutov%C4%9B":MAILTO:sekretariat@muzeumchomutov.cz
END:VEVENT
BEGIN:VEVENT
DTSTART;VALUE=DATE:20231217
DTEND;VALUE=DATE:20231218
DTSTAMP:20260424T192325
CREATED:20231127T151015Z
LAST-MODIFIED:20231127T151731Z
UID:5865-1702771200-1702857599@visit.chomutov.cz
SUMMARY:3. adventní koncert
DESCRIPTION:Loutna česká a host František Kreuzmann.\n15.00 – galerie Lurago\n18.00 – kostel sv. Ignáce
URL:https://visit.chomutov.cz/kalendar/3-adventni-koncert/
CATEGORIES:koncert,Vánoce
ATTACH;FMTTYPE=image/jpeg:https://visit.chomutov.cz/wp-content/uploads/2023/11/Vanoce-v-knihovne.jpg
END:VEVENT
BEGIN:VEVENT
DTSTART;TZID=Europe/Prague:20231217T170000
DTEND;TZID=Europe/Prague:20231217T170000
DTSTAMP:20260424T192325
CREATED:20231127T152040Z
LAST-MODIFIED:20231127T152040Z
UID:5867-1702832400-1702832400@visit.chomutov.cz
SUMMARY:Adventní koncert Aurum
DESCRIPTION:
URL:https://visit.chomutov.cz/kalendar/adventni-koncert-aurum/
LOCATION:Kostel sv. Kateřiny\, Chelčického 100\, Chomutov
CATEGORIES:koncert,Vánoce
ATTACH;FMTTYPE=image/png:https://visit.chomutov.cz/wp-content/uploads/2023/11/prosinec.png
ORGANIZER;CN="Oblastn%C3%AD%20muzeum%20v%20Chomutov%C4%9B":MAILTO:sekretariat@muzeumchomutov.cz
END:VEVENT
BEGIN:VEVENT
DTSTART;TZID=Europe/Prague:20231218T170000
DTEND;TZID=Europe/Prague:20231218T170000
DTSTAMP:20260424T192325
CREATED:20231127T152138Z
LAST-MODIFIED:20231127T152138Z
UID:5870-1702918800-1702918800@visit.chomutov.cz
SUMMARY:Vánoční koncert klavíristů ze třídy Lenky Novákové
DESCRIPTION:
URL:https://visit.chomutov.cz/kalendar/vanocni-koncert-klaviristu-ze-tridy-lenky-novakove/
LOCATION:ZUŠ T. G. Masaryka\, nám. T. G. Masaryka 1626\, Chomutov
CATEGORIES:koncert,Vánoce
ATTACH;FMTTYPE=image/jpeg:https://visit.chomutov.cz/wp-content/uploads/2023/11/pexels-laura-james-6102008.jpg
END:VEVENT
BEGIN:VEVENT
DTSTART;TZID=Europe/Prague:20231219T170000
DTEND;TZID=Europe/Prague:20231219T170000
DTSTAMP:20260424T192325
CREATED:20231127T152216Z
LAST-MODIFIED:20231127T152216Z
UID:5872-1703005200-1703005200@visit.chomutov.cz
SUMMARY:Vánoční koncert žáků třídy S. Müllerové
DESCRIPTION:
URL:https://visit.chomutov.cz/kalendar/vanocni-koncert-zaku-tridy-s-mullerove/
LOCATION:ZUŠ T. G. Masaryka\, nám. T. G. Masaryka 1626\, Chomutov
CATEGORIES:koncert,Vánoce
ATTACH;FMTTYPE=image/jpeg:https://visit.chomutov.cz/wp-content/uploads/2023/11/pexels-laura-james-6102008.jpg
END:VEVENT
BEGIN:VEVENT
DTSTART;TZID=Europe/Prague:20231219T180000
DTEND;TZID=Europe/Prague:20231219T180000
DTSTAMP:20260424T192325
CREATED:20231127T163549Z
LAST-MODIFIED:20231127T163549Z
UID:5914-1703008800-1703008800@visit.chomutov.cz
SUMMARY:Adventní koncert Anonym
DESCRIPTION:
URL:https://visit.chomutov.cz/kalendar/adventni-koncert-anonym/
LOCATION:Kostel sv. Kateřiny\, Chelčického 100\, Chomutov
CATEGORIES:koncert,Vánoce
ATTACH;FMTTYPE=image/png:https://visit.chomutov.cz/wp-content/uploads/2023/11/prosinec.png
ORGANIZER;CN="Oblastn%C3%AD%20muzeum%20v%20Chomutov%C4%9B":MAILTO:sekretariat@muzeumchomutov.cz
END:VEVENT
BEGIN:VEVENT
DTSTART;TZID=Europe/Prague:20231220T170000
DTEND;TZID=Europe/Prague:20231220T170000
DTSTAMP:20260424T192325
CREATED:20231127T153102Z
LAST-MODIFIED:20231127T153102Z
UID:5876-1703091600-1703091600@visit.chomutov.cz
SUMMARY:Šťastné a veselé
DESCRIPTION:Koncert pěveckých sborů ZŠ Písečná – Berušky I\, Berušky II. a Hlásek.
URL:https://visit.chomutov.cz/kalendar/stastne-a-vesele/
LOCATION:Galerie Lurago\, Palackého 85\, Chomutov
CATEGORIES:koncert,Vánoce
ATTACH;FMTTYPE=image/jpeg:https://visit.chomutov.cz/wp-content/uploads/2023/05/Berusky.jpg
END:VEVENT
BEGIN:VEVENT
DTSTART;TZID=Europe/Prague:20231221T170000
DTEND;TZID=Europe/Prague:20231221T170000
DTSTAMP:20260424T192325
CREATED:20231127T153211Z
LAST-MODIFIED:20231127T153211Z
UID:5878-1703178000-1703178000@visit.chomutov.cz
SUMMARY:Vánoční koncert třídy Taťány Černé
DESCRIPTION:
URL:https://visit.chomutov.cz/kalendar/vanocni-koncert-tridy-tatany-cerne/
LOCATION:ZUŠ T. G. Masaryka\, nám. T. G. Masaryka 1626\, Chomutov
CATEGORIES:koncert,Vánoce
ATTACH;FMTTYPE=image/jpeg:https://visit.chomutov.cz/wp-content/uploads/2023/11/pexels-laura-james-6102008.jpg
END:VEVENT
BEGIN:VEVENT
DTSTART;TZID=Europe/Prague:20240109T190000
DTEND;TZID=Europe/Prague:20240109T190000
DTSTAMP:20260424T192325
CREATED:20231102T072448Z
LAST-MODIFIED:20231218T090104Z
UID:5556-1704826800-1704826800@visit.chomutov.cz
SUMMARY:Vánoční koncert - Komorní orchestr Felixe Slováčka jr.
DESCRIPTION:
URL:https://visit.chomutov.cz/kalendar/vanocni-koncert-komorni-orchestr-felixe-slovacka-jr/
LOCATION:Městské divadlo\, Boženy Němcové 552/32\, Chomutov
CATEGORIES:koncert
ATTACH;FMTTYPE=image/jpeg:https://visit.chomutov.cz/wp-content/uploads/2023/11/FB_IMG_1698702187379-e1702890042366.jpg
END:VEVENT
BEGIN:VEVENT
DTSTART;TZID=Europe/Prague:20240110T163000
DTEND;TZID=Europe/Prague:20240110T163000
DTSTAMP:20260424T192325
CREATED:20231218T090228Z
LAST-MODIFIED:20231218T090228Z
UID:6068-1704904200-1704904200@visit.chomutov.cz
SUMMARY:Sněhová vločka
DESCRIPTION:Venku mrzne\, fouká\, sněží\, sluníčko nám svítí stěží. Honem rychle mezi nás\, zpříjemnit si tento čas! Představí se Vám žáci z klavírní třídy Veroniky Melkové.
URL:https://visit.chomutov.cz/kalendar/snehova-vlocka-2/
LOCATION:ZUŠ T. G. Masaryka\, nám. T. G. Masaryka 1626\, Chomutov
CATEGORIES:koncert
ATTACH;FMTTYPE=image/jpeg:https://visit.chomutov.cz/wp-content/uploads/2023/03/pexels-cottonbro-studio-4033340.jpg
END:VEVENT
BEGIN:VEVENT
DTSTART;TZID=Europe/Prague:20240117T190000
DTEND;TZID=Europe/Prague:20240117T190000
DTSTAMP:20260424T192325
CREATED:20231218T090806Z
LAST-MODIFIED:20231218T090806Z
UID:6070-1705518000-1705518000@visit.chomutov.cz
SUMMARY:Koncert pro Mr. Shakespeara
DESCRIPTION:Vystoupí Richard Tesařík\, Jan Sklenář\, Ctirad Götz\, Tereza Nekudová\, Andrea Holá\, Milan Malinovský\, Lucie Palonciová\, Simona Zástěrová\, Matěj Štrunc a Kapela osamělých srdcí.
URL:https://visit.chomutov.cz/kalendar/koncert-pro-mr-shakespeara/
LOCATION:Městské divadlo\, Boženy Němcové 552/32\, Chomutov
CATEGORIES:koncert
ATTACH;FMTTYPE=image/jpeg:https://visit.chomutov.cz/wp-content/uploads/2023/12/Mistr-Shakespear.jpg
END:VEVENT
END:VCALENDAR