BEGIN:VCALENDAR
VERSION:2.0
PRODID:-//Visit Chomutov - ECPv5.14.2.1//NONSGML v1.0//EN
CALSCALE:GREGORIAN
METHOD:PUBLISH
X-WR-CALNAME:Visit Chomutov
X-ORIGINAL-URL:https://visit.chomutov.cz
X-WR-CALDESC:Akce na Visit Chomutov
REFRESH-INTERVAL;VALUE=DURATION:PT1H
X-Robots-Tag:noindex
X-PUBLISHED-TTL:PT1H
BEGIN:VTIMEZONE
TZID:Europe/Prague
BEGIN:DAYLIGHT
TZOFFSETFROM:+0100
TZOFFSETTO:+0200
TZNAME:CEST
DTSTART:20230326T010000
END:DAYLIGHT
BEGIN:STANDARD
TZOFFSETFROM:+0200
TZOFFSETTO:+0100
TZNAME:CET
DTSTART:20231029T010000
END:STANDARD
END:VTIMEZONE
BEGIN:VEVENT
DTSTART;TZID=Europe/Prague:20230522T180000
DTEND;TZID=Europe/Prague:20230522T180000
DTSTAMP:20260424T151224
CREATED:20230502T114738Z
LAST-MODIFIED:20230502T115014Z
UID:3794-1684778400-1684778400@visit.chomutov.cz
SUMMARY:Hrajeme si pro radost - květnový koncert žáků smyčcového oddělení
DESCRIPTION:
URL:https://visit.chomutov.cz/kalendar/hrajeme-si-pro-radost-kvetnovy-koncert-zaku-smyccoveho-oddeleni-2/
LOCATION:ZUŠ T. G. Masaryka\, nám. T. G. Masaryka 1626\, Chomutov
CATEGORIES:koncert
ATTACH;FMTTYPE=image/jpeg:https://visit.chomutov.cz/wp-content/uploads/2022/05/pexels-cottonbro-7095726-scaled.jpg
END:VEVENT
BEGIN:VEVENT
DTSTART;TZID=Europe/Prague:20230524T170000
DTEND;TZID=Europe/Prague:20230524T170000
DTSTAMP:20260424T151224
CREATED:20230503T070429Z
LAST-MODIFIED:20230503T070429Z
UID:3829-1684947600-1684947600@visit.chomutov.cz
SUMMARY:Třídní koncert klavírní třídy J. Justýnové
DESCRIPTION:
URL:https://visit.chomutov.cz/kalendar/tridni-koncert-klavirni-tridy-j-justynove/
LOCATION:ZUŠ T. G. Masaryka\, nám. T. G. Masaryka 1626\, Chomutov
CATEGORIES:koncert
ATTACH;FMTTYPE=image/jpeg:https://visit.chomutov.cz/wp-content/uploads/2023/03/pexels-cottonbro-studio-4033340.jpg
END:VEVENT
BEGIN:VEVENT
DTSTART;TZID=Europe/Prague:20230524T190000
DTEND;TZID=Europe/Prague:20230524T190000
DTSTAMP:20260424T151224
CREATED:20230503T070643Z
LAST-MODIFIED:20230503T070643Z
UID:3831-1684954800-1684954800@visit.chomutov.cz
SUMMARY:Petr Hapka a jeho potměšilí hosté
DESCRIPTION:
URL:https://visit.chomutov.cz/kalendar/petr-hapka-a-jeho-potmesili-hoste-2/
LOCATION:Městské divadlo\, Boženy Němcové 552/32\, Chomutov
CATEGORIES:koncert
ATTACH;FMTTYPE=image/jpeg:https://visit.chomutov.cz/wp-content/uploads/2023/05/Hapka.jpeg
END:VEVENT
BEGIN:VEVENT
DTSTART;TZID=Europe/Prague:20230525T150000
DTEND;TZID=Europe/Prague:20230525T150000
DTSTAMP:20260424T151224
CREATED:20230503T072517Z
LAST-MODIFIED:20230503T072517Z
UID:3834-1685026800-1685026800@visit.chomutov.cz
SUMMARY:Mateřinkové písňobraní
DESCRIPTION:Přehlídka pěveckých sborů mateřských škol.
URL:https://visit.chomutov.cz/kalendar/materinkove-pisnobrani/
CATEGORIES:koncert
ATTACH;FMTTYPE=image/jpeg:https://visit.chomutov.cz/wp-content/uploads/2023/05/Materinka1.jpg
END:VEVENT
BEGIN:VEVENT
DTSTART;VALUE=DATE:20230526
DTEND;VALUE=DATE:20230528
DTSTAMP:20260424T151224
CREATED:20230503T073313Z
LAST-MODIFIED:20230503T073313Z
UID:3837-1685059200-1685231999@visit.chomutov.cz
SUMMARY:Květenles
DESCRIPTION:multižánrový hudební festival
URL:https://visit.chomutov.cz/kalendar/kvetenles-2/
LOCATION:Bývalý letní stadion\, Tyršova\, Chomutov
CATEGORIES:koncert
ATTACH;FMTTYPE=image/jpeg:https://visit.chomutov.cz/wp-content/uploads/2023/05/Kvetenles-2023.jpg
END:VEVENT
BEGIN:VEVENT
DTSTART;TZID=Europe/Prague:20230526T163000
DTEND;TZID=Europe/Prague:20230526T163000
DTSTAMP:20260424T151224
CREATED:20230503T073627Z
LAST-MODIFIED:20230503T073627Z
UID:3840-1685118600-1685118600@visit.chomutov.cz
SUMMARY:Fusion Factory
DESCRIPTION:koncert hudební skupiny Gymnázia Chomutov
URL:https://visit.chomutov.cz/kalendar/fusion-factory/
LOCATION:Atrium\, nám. 1. máje\, Chomutov
CATEGORIES:koncert
ATTACH;FMTTYPE=image/jpeg:https://visit.chomutov.cz/wp-content/uploads/2023/05/Fusion-Factory-logo.jpg
END:VEVENT
BEGIN:VEVENT
DTSTART;TZID=Europe/Prague:20230526T200000
DTEND;TZID=Europe/Prague:20230526T200000
DTSTAMP:20260424T151224
CREATED:20230503T074902Z
LAST-MODIFIED:20230503T074902Z
UID:3843-1685131200-1685131200@visit.chomutov.cz
SUMMARY:Koncert Tellemarkk
DESCRIPTION:
URL:https://visit.chomutov.cz/kalendar/koncert-tellemarkk/
LOCATION:Sklepení Osudu\, Revoluční 48/13\, Chomutov
CATEGORIES:koncert
ATTACH;FMTTYPE=image/jpeg:https://visit.chomutov.cz/wp-content/uploads/2023/05/Sporgy-Chomutovsky-vytvarny-salon-2023.jpg
END:VEVENT
BEGIN:VEVENT
DTSTART;TZID=Europe/Prague:20230529T180000
DTEND;TZID=Europe/Prague:20230529T180000
DTSTAMP:20260424T151224
CREATED:20230503T075729Z
LAST-MODIFIED:20230503T075729Z
UID:3848-1685383200-1685383200@visit.chomutov.cz
SUMMARY:Májový klavírní koncert třídy Lenky Novákové
DESCRIPTION:
URL:https://visit.chomutov.cz/kalendar/majovy-klavirni-koncert-tridy-lenky-novakove/
LOCATION:ZUŠ T. G. Masaryka\, nám. T. G. Masaryka 1626\, Chomutov
CATEGORIES:koncert
ATTACH;FMTTYPE=image/jpeg:https://visit.chomutov.cz/wp-content/uploads/2023/03/pexels-cottonbro-studio-4033340.jpg
END:VEVENT
BEGIN:VEVENT
DTSTART;TZID=Europe/Prague:20230530T190000
DTEND;TZID=Europe/Prague:20230530T190000
DTSTAMP:20260424T151224
CREATED:20230503T080014Z
LAST-MODIFIED:20230503T080033Z
UID:3850-1685473200-1685473200@visit.chomutov.cz
SUMMARY:Hudební festival Ludwiga van Beethovena
DESCRIPTION:Vystoupí Jaroslav Tůma – cembalo.
URL:https://visit.chomutov.cz/kalendar/hudebni-festival-ludwiga-van-beethovena/
LOCATION:Chomutovská knihovna\, Palackého 4995\, Chomutov
CATEGORIES:koncert
ATTACH;FMTTYPE=image/jpeg:https://visit.chomutov.cz/wp-content/uploads/2023/05/Festival-Ludwiga-van-Beethovena.jpg
END:VEVENT
BEGIN:VEVENT
DTSTART;TZID=Europe/Prague:20230613T180000
DTEND;TZID=Europe/Prague:20230613T180000
DTSTAMP:20260424T151224
CREATED:20230525T070546Z
LAST-MODIFIED:20230525T070852Z
UID:3955-1686679200-1686679200@visit.chomutov.cz
SUMMARY:Absolventský koncert ZUŠ T. G. Masaryka Chomutov
DESCRIPTION:
URL:https://visit.chomutov.cz/kalendar/absolventsky-koncert-zus-t-g-masaryka-chomutov/
LOCATION:ZUŠ T. G. Masaryka\, nám. T. G. Masaryka 1626\, Chomutov
CATEGORIES:koncert
ATTACH;FMTTYPE=image/jpeg:https://visit.chomutov.cz/wp-content/uploads/2023/01/pexels-buchkiste-4841308.jpg
END:VEVENT
BEGIN:VEVENT
DTSTART;TZID=Europe/Prague:20230615T180000
DTEND;TZID=Europe/Prague:20230615T180000
DTSTAMP:20260424T151224
CREATED:20230525T070917Z
LAST-MODIFIED:20230525T070920Z
UID:3959-1686852000-1686852000@visit.chomutov.cz
SUMMARY:Absolventský koncert ZUŠ T. G. Masaryka Chomutov
DESCRIPTION:
URL:https://visit.chomutov.cz/kalendar/absolventsky-koncert-zus-t-g-masaryka-chomutov-2/
LOCATION:ZUŠ T. G. Masaryka\, nám. T. G. Masaryka 1626\, Chomutov
CATEGORIES:koncert
ATTACH;FMTTYPE=image/jpeg:https://visit.chomutov.cz/wp-content/uploads/2023/01/pexels-buchkiste-4841308.jpg
END:VEVENT
BEGIN:VEVENT
DTSTART;TZID=Europe/Prague:20230622T150000
DTEND;TZID=Europe/Prague:20230622T150000
DTSTAMP:20260424T151224
CREATED:20230525T074348Z
LAST-MODIFIED:20230525T074348Z
UID:3969-1687446000-1687446000@visit.chomutov.cz
SUMMARY:Koncert tří bandů
DESCRIPTION:Koncert jazzových big bandů – Tequila ZUŠ Chomutov\, Big Band ZUŠ Chabařovice a hostem bude Bharata Jazz Quartet.
URL:https://visit.chomutov.cz/kalendar/koncert-tri-bandu/
LOCATION:ZUŠ T. G. Masaryka\, nám. T. G. Masaryka 1626\, Chomutov
CATEGORIES:koncert
ATTACH;FMTTYPE=image/jpeg:https://visit.chomutov.cz/wp-content/uploads/2022/11/tequila-band.jpg
END:VEVENT
BEGIN:VEVENT
DTSTART;VALUE=DATE:20230705
DTEND;VALUE=DATE:20230727
DTSTAMP:20260424T151224
CREATED:20230628T064046Z
LAST-MODIFIED:20230628T064358Z
UID:4281-1688515200-1690415999@visit.chomutov.cz
SUMMARY:Koncerty dechové hudby
DESCRIPTION:každou středu od 16.30
URL:https://visit.chomutov.cz/kalendar/koncerty-dechove-hudby/
LOCATION:Městský park\, Čelakovského\, Chomutov
CATEGORIES:koncert
ATTACH;FMTTYPE=image/jpeg:https://visit.chomutov.cz/wp-content/uploads/2023/06/FINALE-CERVENEC-scaled.jpg
ORGANIZER;CN="Statut%C3%A1rn%C3%AD%20m%C4%9Bsto%20Chomutov":MAILTO:infocentrum@chomutov.cz
END:VEVENT
BEGIN:VEVENT
DTSTART;TZID=Europe/Prague:20230708T183000
DTEND;TZID=Europe/Prague:20230708T183000
DTSTAMP:20260424T151224
CREATED:20230628T065427Z
LAST-MODIFIED:20230628T065802Z
UID:4291-1688841000-1688841000@visit.chomutov.cz
SUMMARY:Tři sestry - Open Air Tour 2023
DESCRIPTION:koncert
URL:https://visit.chomutov.cz/kalendar/tri-sestry-koncert/
LOCATION:Letní kino\, Přemyslova 4752\, Chomutov
CATEGORIES:koncert
ATTACH;FMTTYPE=image/png:https://visit.chomutov.cz/wp-content/uploads/2023/06/Tri-sestry.png
END:VEVENT
BEGIN:VEVENT
DTSTART;TZID=Europe/Prague:20230722T190000
DTEND;TZID=Europe/Prague:20230722T190000
DTSTAMP:20260424T151224
CREATED:20230721T105636Z
LAST-MODIFIED:20230721T105641Z
UID:4328-1690052400-1690052400@visit.chomutov.cz
SUMMARY:Trubadúrka Sar
DESCRIPTION:
URL:https://visit.chomutov.cz/kalendar/trubadurka-sar/
LOCATION:Kostel sv. Kateřiny\, Chelčického 100\, Chomutov
CATEGORIES:koncert
ATTACH;FMTTYPE=image/jpeg:https://visit.chomutov.cz/wp-content/uploads/2023/07/Trubadurka-Sar-scaled.jpg
ORGANIZER;CN="Oblastn%C3%AD%20muzeum%20v%20Chomutov%C4%9B":MAILTO:sekretariat@muzeumchomutov.cz
END:VEVENT
BEGIN:VEVENT
DTSTART;TZID=Europe/Prague:20230801T180000
DTEND;TZID=Europe/Prague:20230831T213000
DTSTAMP:20260424T151224
CREATED:20230628T070322Z
LAST-MODIFIED:20230725T103417Z
UID:4297-1690912800-1693517400@visit.chomutov.cz
SUMMARY:Hudební večery v Dřeváku
DESCRIPTION:Každou středu a čtvrtek 18.00-21.30 h. Vystoupí Makovec a Nepřátelé rytmu. \n2.\, 3.\, 9.\, 10.\, 16.\, 17.\, 23.\, 24.\, 30. a 31.8.
URL:https://visit.chomutov.cz/kalendar/hudebni-vecery-v-drevaku/
LOCATION:Kamencové jezero\, Tomáše ze Štítného 5971\, Chomutov
CATEGORIES:koncert,zábavní pořady
ATTACH;FMTTYPE=image/jpeg:https://visit.chomutov.cz/wp-content/uploads/2023/06/4DB5FAF5-5B47-4BC7-AC35-0961A0AE39E5.jpg
END:VEVENT
BEGIN:VEVENT
DTSTART;TZID=Europe/Prague:20230819T200000
DTEND;TZID=Europe/Prague:20230821T200000
DTSTAMP:20260424T151224
CREATED:20230725T105339Z
LAST-MODIFIED:20230725T105419Z
UID:4337-1692475200-1692648000@visit.chomutov.cz
SUMMARY:Metallica M72 World Tour  - přímý přenos
DESCRIPTION:Živé vysílání z Arlingtonu v Texasu\, kdy turné Metallicy M72 World Tour vtrhne na plátna kin po celém světě.
URL:https://visit.chomutov.cz/kalendar/metallica-m72-world-tour-primy-prenos/
CATEGORIES:koncert
ATTACH;FMTTYPE=image/jpeg:https://visit.chomutov.cz/wp-content/uploads/2023/07/Metallica.jpg
END:VEVENT
BEGIN:VEVENT
DTSTART;VALUE=DATE:20230824
DTEND;VALUE=DATE:20230827
DTSTAMP:20260424T151224
CREATED:20230627T121847Z
LAST-MODIFIED:20230717T054712Z
UID:4258-1692835200-1693094399@visit.chomutov.cz
SUMMARY:Moody Moon Noize Festival
DESCRIPTION:4. ročník  butikového festivalu oživí hned několik pozoruhodných městských prostor – sklepení oblastního muzea\, kostel sv. Ignáce\, městský park nebo jezuitskou kolej. Nebude chybět projekce filmu s živou hudbou\, známá jména ani zbrusu nové objevy.
URL:https://visit.chomutov.cz/kalendar/moody-moon-noize-festival/
CATEGORIES:koncert,zábavní pořady
ATTACH;FMTTYPE=image/jpeg:https://visit.chomutov.cz/wp-content/uploads/2023/06/Moody-Moon-Noize-page-001-scaled.jpg
ORGANIZER;CN="Kuprosp%C4%9Bchu%2C%20z.%20s.":MAILTO:info@kuprospechu.org
END:VEVENT
BEGIN:VEVENT
DTSTART;TZID=Europe/Prague:20230909T150000
DTEND;TZID=Europe/Prague:20230909T150000
DTSTAMP:20260424T151224
CREATED:20230821T070220Z
LAST-MODIFIED:20230821T070227Z
UID:4451-1694271600-1694271600@visit.chomutov.cz
SUMMARY:Indian Summer
DESCRIPTION:
URL:https://visit.chomutov.cz/kalendar/indian-summer/
LOCATION:Atrium\, nám. 1. máje\, Chomutov
CATEGORIES:koncert
ATTACH;FMTTYPE=image/jpeg:https://visit.chomutov.cz/wp-content/uploads/2023/08/Indian-summer-2023-scaled.jpg
END:VEVENT
BEGIN:VEVENT
DTSTART;TZID=Europe/Prague:20230915T190000
DTEND;TZID=Europe/Prague:20230915T190000
DTSTAMP:20260424T151224
CREATED:20230825T083235Z
LAST-MODIFIED:20230825T083235Z
UID:4543-1694804400-1694804400@visit.chomutov.cz
SUMMARY:Bezručák MiniFest -  POKÁČ / PEKAŘ / VOJTAANO
DESCRIPTION:
URL:https://visit.chomutov.cz/kalendar/bezrucak-minifest-pokac-pekar-vojtaano/
LOCATION:Hřebíkárna\, Bezručova 5877\, Chomutov
CATEGORIES:koncert,zábavní pořady
ATTACH;FMTTYPE=image/jpeg:https://visit.chomutov.cz/wp-content/uploads/2023/08/Bezrucak-minifest.jpg
END:VEVENT
BEGIN:VEVENT
DTSTART;TZID=Europe/Prague:20230921T190000
DTEND;TZID=Europe/Prague:20230921T190000
DTSTAMP:20260424T151224
CREATED:20230825T094208Z
LAST-MODIFIED:20230825T094208Z
UID:4553-1695322800-1695322800@visit.chomutov.cz
SUMMARY:Václav Noid Bárta & Bek Bek Clan
DESCRIPTION:
URL:https://visit.chomutov.cz/kalendar/vaclav-noid-barta-bek-bek-clan/
LOCATION:Městské divadlo\, Boženy Němcové 552/32\, Chomutov
CATEGORIES:koncert
ATTACH;FMTTYPE=image/jpeg:https://visit.chomutov.cz/wp-content/uploads/2023/08/vaclav-noid-barta-a-kapela-bek-bek-clan.jpg
END:VEVENT
BEGIN:VEVENT
DTSTART;TZID=Europe/Prague:20231005T190000
DTEND;TZID=Europe/Prague:20231005T190000
DTSTAMP:20260424T151224
CREATED:20230926T113922Z
LAST-MODIFIED:20230926T114044Z
UID:5139-1696532400-1696532400@visit.chomutov.cz
SUMMARY:Film & Classic music Chomutov
DESCRIPTION:Koncert filmové a klasické hudby v podání komorního orchestru Českého rozhlasu.
URL:https://visit.chomutov.cz/kalendar/film-classic-music-chomutov/
LOCATION:Městské divadlo\, Boženy Němcové 552/32\, Chomutov
CATEGORIES:koncert
ATTACH;FMTTYPE=image/jpeg:https://visit.chomutov.cz/wp-content/uploads/2023/09/plakat1.jpg
END:VEVENT
BEGIN:VEVENT
DTSTART;TZID=Europe/Prague:20231006T160000
DTEND;TZID=Europe/Prague:20231006T160000
DTSTAMP:20260424T151224
CREATED:20230922T100848Z
LAST-MODIFIED:20230922T100848Z
UID:4990-1696608000-1696608000@visit.chomutov.cz
SUMMARY:Laco Deczi & Celula New York
DESCRIPTION:Legendární jazzman Laco Deczi zavítá i se svojí kapelou Celula New York do Cafe 44!\nV případě nepřízně počasí je zajištěný nedaleký koncertní sál.
URL:https://visit.chomutov.cz/kalendar/laco-deczi-celula-new-york/
LOCATION:Cafe 44\, Revoluční 44\, Chomutov\, 43001
CATEGORIES:koncert
ATTACH;FMTTYPE=image/jpeg:https://visit.chomutov.cz/wp-content/uploads/2023/09/laco_deczi.jpg
END:VEVENT
BEGIN:VEVENT
DTSTART;TZID=Europe/Prague:20231007T080000
DTEND;TZID=Europe/Prague:20231007T170000
DTSTAMP:20260424T151224
CREATED:20230922T101319Z
LAST-MODIFIED:20230922T101344Z
UID:4993-1696665600-1696698000@visit.chomutov.cz
SUMMARY:Muzika před kaféčkem
DESCRIPTION:Vystoupí kapely Island Mint (indie/alternative) a Waste (neogrunge).
URL:https://visit.chomutov.cz/kalendar/muzika-pred-kafeckem/
LOCATION:Cafe 44\, Revoluční 44\, Chomutov\, 43001
CATEGORIES:koncert
ATTACH;FMTTYPE=image/jpeg:https://visit.chomutov.cz/wp-content/uploads/2023/09/cafe44-islandmint.jpg
ORGANIZER;CN="Kuprosp%C4%9Bchu%2C%20z.%20s.":MAILTO:info@kuprospechu.org
END:VEVENT
BEGIN:VEVENT
DTSTART;TZID=Europe/Prague:20231008T150000
DTEND;TZID=Europe/Prague:20231008T150000
DTSTAMP:20260424T151224
CREATED:20230918T061420Z
LAST-MODIFIED:20230918T061420Z
UID:4671-1696777200-1696777200@visit.chomutov.cz
SUMMARY:Jirkovský písňovar
DESCRIPTION:Koncert vybraných pěveckých sborů z 16. ročníku soutěžního festivalu sborové populární hudby.
URL:https://visit.chomutov.cz/kalendar/jirkovsky-pisnovar-2/
LOCATION:Atrium\, nám. 1. máje\, Chomutov
CATEGORIES:koncert
ATTACH;FMTTYPE=image/jpeg:https://visit.chomutov.cz/wp-content/uploads/2023/06/DSC04620.jpg
END:VEVENT
BEGIN:VEVENT
DTSTART;TZID=Europe/Prague:20231016T190000
DTEND;TZID=Europe/Prague:20231016T190000
DTSTAMP:20260424T151224
CREATED:20230915T071654Z
LAST-MODIFIED:20230915T071654Z
UID:4665-1697482800-1697482800@visit.chomutov.cz
SUMMARY:Romantické nokturno
DESCRIPTION:Zahajovací koncert 33. sezóny Festivalového orchestru Petra Macka. 
URL:https://visit.chomutov.cz/kalendar/romanticke-nokturno/
LOCATION:Městské divadlo\, Boženy Němcové 552/32\, Chomutov
CATEGORIES:koncert
ATTACH;FMTTYPE=image/jpeg:https://visit.chomutov.cz/wp-content/uploads/2023/09/Romanticke-nokturno-page-001-scaled.jpg
END:VEVENT
BEGIN:VEVENT
DTSTART;TZID=Europe/Prague:20231018T180000
DTEND;TZID=Europe/Prague:20231018T180000
DTSTAMP:20260424T151224
CREATED:20220926T121725Z
LAST-MODIFIED:20230926T122420Z
UID:2557-1697652000-1697652000@visit.chomutov.cz
SUMMARY:Hrajeme si pro radost
DESCRIPTION:První koncert školního roku smyčcového oddělení ZUŠ T. G. Masaryka
URL:https://visit.chomutov.cz/kalendar/hrajeme-si-pro-radost-2/
LOCATION:ZUŠ T. G. Masaryka\, nám. T. G. Masaryka 1626\, Chomutov
CATEGORIES:koncert
ATTACH;FMTTYPE=image/jpeg:https://visit.chomutov.cz/wp-content/uploads/2022/05/pexels-cottonbro-7095726-scaled.jpg
END:VEVENT
BEGIN:VEVENT
DTSTART;TZID=Europe/Prague:20231019T170000
DTEND;TZID=Europe/Prague:20231019T170000
DTSTAMP:20260424T151224
CREATED:20230918T064009Z
LAST-MODIFIED:20230918T064713Z
UID:4675-1697734800-1697734800@visit.chomutov.cz
SUMMARY:Koncert skupin Elegance a 13. komnata
DESCRIPTION:
URL:https://visit.chomutov.cz/kalendar/koncert-skupin-elegance-a-13-komnata/
LOCATION:Atrium\, nám. 1. máje\, Chomutov
CATEGORIES:koncert
ATTACH;FMTTYPE=image/jpeg:https://visit.chomutov.cz/wp-content/uploads/2023/06/DSC04620.jpg
END:VEVENT
BEGIN:VEVENT
DTSTART;TZID=Europe/Prague:20231025T190000
DTEND;TZID=Europe/Prague:20231025T190000
DTSTAMP:20260424T151224
CREATED:20230927T111617Z
LAST-MODIFIED:20230927T111617Z
UID:5172-1698260400-1698260400@visit.chomutov.cz
SUMMARY:Swingový večer k výročí vzniku Československa
DESCRIPTION:K tanci i poslechu hrají Kateřina Steinerová & Her Swing Boys.
URL:https://visit.chomutov.cz/kalendar/swingovy-vecer-k-vyroci-vzniku-ceskoslovenska/
LOCATION:Městské divadlo\, Boženy Němcové 552/32\, Chomutov
CATEGORIES:koncert,plesy
ATTACH;FMTTYPE=image/jpeg:https://visit.chomutov.cz/wp-content/uploads/2023/09/swingovy-vecer-k-105-vyroci-ceskoslovenska.jpg
END:VEVENT
BEGIN:VEVENT
DTSTART;TZID=Europe/Prague:20231101T190000
DTEND;TZID=Europe/Prague:20231101T190000
DTSTAMP:20260424T151224
CREATED:20231030T082956Z
LAST-MODIFIED:20231030T082956Z
UID:5375-1698865200-1698865200@visit.chomutov.cz
SUMMARY:Poklad na stříbrném plátně
DESCRIPTION:Ondřej Havelka a jeho Melody Makers.
URL:https://visit.chomutov.cz/kalendar/poklad-na-stribrnem-platne/
LOCATION:Městské divadlo\, Boženy Němcové 552/32\, Chomutov
CATEGORIES:koncert,zábavní pořady
ATTACH;FMTTYPE=image/png:https://visit.chomutov.cz/wp-content/uploads/2023/10/Havelka.png
END:VEVENT
END:VCALENDAR