BEGIN:VCALENDAR
VERSION:2.0
PRODID:-//Visit Chomutov - ECPv5.14.2.1//NONSGML v1.0//EN
CALSCALE:GREGORIAN
METHOD:PUBLISH
X-WR-CALNAME:Visit Chomutov
X-ORIGINAL-URL:https://visit.chomutov.cz
X-WR-CALDESC:Akce na Visit Chomutov
REFRESH-INTERVAL;VALUE=DURATION:PT1H
X-Robots-Tag:noindex
X-PUBLISHED-TTL:PT1H
BEGIN:VTIMEZONE
TZID:Europe/Prague
BEGIN:DAYLIGHT
TZOFFSETFROM:+0100
TZOFFSETTO:+0200
TZNAME:CEST
DTSTART:20250330T010000
END:DAYLIGHT
BEGIN:STANDARD
TZOFFSETFROM:+0200
TZOFFSETTO:+0100
TZNAME:CET
DTSTART:20251026T010000
END:STANDARD
END:VTIMEZONE
BEGIN:VEVENT
DTSTART;TZID=Europe/Prague:20250425T183000
DTEND;TZID=Europe/Prague:20250425T183000
DTSTAMP:20260425T203343
CREATED:20250327T065351Z
LAST-MODIFIED:20250327T065351Z
UID:9643-1745605800-1745605800@visit.chomutov.cz
SUMMARY:Šimon Koleček - hudební vystoupení
DESCRIPTION:
URL:https://visit.chomutov.cz/kalendar/simon-kolecek-hudebni-vystoupeni/
LOCATION:Cafe Kolečko\, nám. 1. máje 7\, Chomutov\, 43001
CATEGORIES:koncert
ATTACH;FMTTYPE=image/jpeg:https://visit.chomutov.cz/wp-content/uploads/2025/03/Simon-Kolecek.jpg
END:VEVENT
BEGIN:VEVENT
DTSTART;TZID=Europe/Prague:20250426T150000
DTEND;TZID=Europe/Prague:20250426T220000
DTSTAMP:20260425T203343
CREATED:20250326T150620Z
LAST-MODIFIED:20250326T150700Z
UID:9607-1745679600-1745704800@visit.chomutov.cz
SUMMARY:April open air
DESCRIPTION:W69\, D o k r u h u\, Bitches From Eden\, Jablkoň\, Zrní
URL:https://visit.chomutov.cz/kalendar/april-open-air-3/
LOCATION:Atrium\, nám. 1. máje\, Chomutov
CATEGORIES:koncert
ATTACH;FMTTYPE=image/jpeg:https://visit.chomutov.cz/wp-content/uploads/2025/03/April-Open-Air-scaled.jpg
END:VEVENT
BEGIN:VEVENT
DTSTART;TZID=Europe/Prague:20250426T170000
DTEND;TZID=Europe/Prague:20250426T170000
DTSTAMP:20260425T203343
CREATED:20250327T070030Z
LAST-MODIFIED:20250327T070030Z
UID:9652-1745686800-1745686800@visit.chomutov.cz
SUMMARY:Velikonoční koncert sboru Aurum
DESCRIPTION:
URL:https://visit.chomutov.cz/kalendar/velikonocni-koncert-sboru-aurum/
LOCATION:Kostel sv. Kateřiny\, Chelčického 100\, Chomutov
CATEGORIES:koncert
ATTACH;FMTTYPE=image/jpeg:https://visit.chomutov.cz/wp-content/uploads/2025/03/Aurum.jpg
ORGANIZER;CN="Oblastn%C3%AD%20muzeum%20v%20Chomutov%C4%9B":MAILTO:sekretariat@muzeumchomutov.cz
END:VEVENT
BEGIN:VEVENT
DTSTART;TZID=Europe/Prague:20250427T170000
DTEND;TZID=Europe/Prague:20250427T170000
DTSTAMP:20260425T203343
CREATED:20250327T065818Z
LAST-MODIFIED:20250327T065818Z
UID:9649-1745773200-1745773200@visit.chomutov.cz
SUMMARY:ExperiPent: Koncert a křest alba
DESCRIPTION:Vokální těleso ExperiPent vystoupí v chomutovském klubu DOLE\, kde pokřtí své první album.
URL:https://visit.chomutov.cz/kalendar/experipent-koncert-a-krest-alba/
LOCATION:Klub Dole\, Kosmonautů 4554\, Chomutov\, 43001
CATEGORIES:koncert
ATTACH;FMTTYPE=image/jpeg:https://visit.chomutov.cz/wp-content/uploads/2025/03/Experipent-klub-Dole.jpg
END:VEVENT
BEGIN:VEVENT
DTSTART;TZID=Europe/Prague:20250430T190000
DTEND;TZID=Europe/Prague:20250430T190000
DTSTAMP:20260425T203343
CREATED:20250326T080207Z
LAST-MODIFIED:20250326T080207Z
UID:9465-1746039600-1746039600@visit.chomutov.cz
SUMMARY:Koncert skupiny Fragile
DESCRIPTION:FRAGILE je slovenská vokální skupina složená z výrazných pěveckých osobností\, které bez použití hudebních nástrojů\, tedy a cappella\, interpretují známé světové hity.
URL:https://visit.chomutov.cz/kalendar/koncert-skupiny-fragile/
LOCATION:Městské divadlo\, Boženy Němcové 552/32\, Chomutov
CATEGORIES:koncert
ATTACH;FMTTYPE=image/jpeg:https://visit.chomutov.cz/wp-content/uploads/2025/03/Fragile.jpg
END:VEVENT
BEGIN:VEVENT
DTSTART;TZID=Europe/Prague:20250506T190000
DTEND;TZID=Europe/Prague:20250506T190000
DTSTAMP:20260425T203343
CREATED:20250502T070354Z
LAST-MODIFIED:20250502T070354Z
UID:9779-1746558000-1746558000@visit.chomutov.cz
SUMMARY:Lenka Filipová - koncert
DESCRIPTION:Lenka Filipová česká zpěvačka\, šansoniérka\, kytaristka\, hudební skladatelka a textařka. „Kytara u nás doma ležela opřená o stěnu\, a tak jsem jí prostě vzala do ruky\, bylo mi 9 let“. Přelomové bylo setkání s francouzským písničkářem Francisem Cabrelem a píseň Zamilovaná\, kterou Cabrel složil a česky ji otextoval Zdeněk Rytíř\, píseň dodnes platí za její největší hit. Nikdy také zcela neopustila svoji původní profesi klasické sólové kytaristky\, což nakonec vyústilo v několik LP desek věnovaných pouze klasické kytarové hudbě. Příznivý ohlas měly i její písničky věnované dětskému publiku. To vše ji vyneslo až do první desítky v popularitě českých zpěvaček v anketě Zlatý slavík. Dostalo se jí i celé řady mezinárodních uznání a ocenění. V současné době se také nově věnuje hře na elektrofonickou kytaru. Hosté: Sean Barry – akordeon\, keltská harfa\, Jára Bárta – klavír\, el. piano.
URL:https://visit.chomutov.cz/kalendar/lenka-filipova-koncert-2/
LOCATION:Městské divadlo\, Boženy Němcové 552/32\, Chomutov
CATEGORIES:koncert
ATTACH;FMTTYPE=image/jpeg:https://visit.chomutov.cz/wp-content/uploads/2025/05/Filipova.jpg
END:VEVENT
BEGIN:VEVENT
DTSTART;TZID=Europe/Prague:20250510T170000
DTEND;TZID=Europe/Prague:20250510T170000
DTSTAMP:20260425T203343
CREATED:20250502T071222Z
LAST-MODIFIED:20250502T071306Z
UID:9785-1746896400-1746896400@visit.chomutov.cz
SUMMARY:20 let Cafe 44 - The Silver Spoons & Mydy
DESCRIPTION:Cafe 44 slaví 20 let! \nPROGRAM:\n17:00 | OPEN + warm-up music\n19:30 | THE SILVER SPOONS\n21:30 | MYDY\n22:30 | DJs afterparty\nMYDY je česká hudební skupina z Prahy vzniklá v roce 2012. Hraje fúzi electroswingu a dalších stylů elektronické hudby\, kterou sama nazývá glamtronic. Jde o zábavný\, chytlavý\, ale přitom propracovaný a inteligentní electropop s řadou odkazů na různé retro styly. Jako teprve druhá česká kapela vystoupili na legendárním Glastonbury festivalu v Anglii. Kapela je v současnosti jedním z nejvíce exportovaných hudebních uskupení z České republiky.\nTHE SILVER SPOONS je česká\, anglicky zpívající indie rocková kapela. Na konci roku 2018 vydali písničku „He’s Got My Money Now“\, kterou nahráli v Los Angeles s českým producentem Jonnym Andělem a Danny Saberem\, který produkoval Rolling Stones\, Davida Bowieho či U2. V února 2025 kapela vydala druhé album Groundbreaking Senses. Zobrazovat míň
URL:https://visit.chomutov.cz/kalendar/20-let-cafe-44-the-silver-spoons-mydy/
LOCATION:Cafe 44\, Revoluční 44\, Chomutov\, 43001
CATEGORIES:koncert
ATTACH;FMTTYPE=image/jpeg:https://visit.chomutov.cz/wp-content/uploads/2025/05/20-let-Cafe-44.jpg
END:VEVENT
BEGIN:VEVENT
DTSTART;TZID=Europe/Prague:20250510T190000
DTEND;TZID=Europe/Prague:20250510T190000
DTSTAMP:20260425T203343
CREATED:20250502T072300Z
LAST-MODIFIED:20250502T072307Z
UID:9788-1746903600-1746903600@visit.chomutov.cz
SUMMARY:Queen Show
DESCRIPTION:tribute známé skupiny Queen
URL:https://visit.chomutov.cz/kalendar/queen-show/
LOCATION:Městské divadlo\, Boženy Němcové 552/32\, Chomutov
CATEGORIES:koncert
ATTACH;FMTTYPE=image/jpeg:https://visit.chomutov.cz/wp-content/uploads/2025/05/Queen-show.jpg
END:VEVENT
BEGIN:VEVENT
DTSTART;TZID=Europe/Prague:20250512T190000
DTEND;TZID=Europe/Prague:20250512T190000
DTSTAMP:20260425T203343
CREATED:20250505T152839Z
LAST-MODIFIED:20250505T152839Z
UID:9866-1747076400-1747076400@visit.chomutov.cz
SUMMARY:Marian Vojtko a Bohuš Matuš: Jdi za štěstím
DESCRIPTION:známí zpěváci zpívají písně Karla Gotta
URL:https://visit.chomutov.cz/kalendar/marian-vojtko-a-bohus-matus-jdi-za-stestim/
LOCATION:Městské divadlo\, Boženy Němcové 552/32\, Chomutov
CATEGORIES:koncert
ATTACH;FMTTYPE=image/jpeg:https://visit.chomutov.cz/wp-content/uploads/2025/05/Jdi-za-stestim.jpg
END:VEVENT
BEGIN:VEVENT
DTSTART;TZID=Europe/Prague:20250513T170000
DTEND;TZID=Europe/Prague:20250513T170000
DTSTAMP:20260425T203343
CREATED:20250519T134808Z
LAST-MODIFIED:20250519T135356Z
UID:10025-1747155600-1747155600@visit.chomutov.cz
SUMMARY:Hřebejkárna 2025
DESCRIPTION:Další ročník nekompromisního punk-ska-rockového mejdanu v chomutovském areálu Hřebíkárna. Letos se můžete těšit na tyto kapely:\nLINE UP:\n17:00 – open doors\n18:00-19:00 VOLANT\n19:30-20:30 TOTÁLNÍ NASAZENÍ\n21:00-22:00 SPS\n22:30-23:30 VISION DAYS\nVstupenky seženete jako každý rok\, POUZE v areálu Hřebíkárna.
URL:https://visit.chomutov.cz/kalendar/hrebejkarna-2025/
LOCATION:Hřebíkárna\, Bezručova 5877\, Chomutov
CATEGORIES:koncert
ATTACH;FMTTYPE=image/jpeg:https://visit.chomutov.cz/wp-content/uploads/2025/05/Hrebejkarna.jpg
END:VEVENT
BEGIN:VEVENT
DTSTART;TZID=Europe/Prague:20250513T190000
DTEND;TZID=Europe/Prague:20250513T190000
DTSTAMP:20260425T203343
CREATED:20250505T153059Z
LAST-MODIFIED:20250505T153059Z
UID:9869-1747162800-1747162800@visit.chomutov.cz
SUMMARY:Krásná hudba slavných skladatelů
DESCRIPTION:koncert Festivalového orchestru Petra Macka
URL:https://visit.chomutov.cz/kalendar/krasna-hudba-slavnych-skladatelu/
LOCATION:Městské divadlo\, Boženy Němcové 552/32\, Chomutov
CATEGORIES:koncert
ATTACH;FMTTYPE=image/jpeg:https://visit.chomutov.cz/wp-content/uploads/2025/05/Macek-Krasna-hudba-page-001-scaled.jpg
END:VEVENT
BEGIN:VEVENT
DTSTART;TZID=Europe/Prague:20250514T150000
DTEND;TZID=Europe/Prague:20250514T180000
DTSTAMP:20260425T203343
CREATED:20250505T153428Z
LAST-MODIFIED:20250505T153539Z
UID:9872-1747234800-1747245600@visit.chomutov.cz
SUMMARY:ZUŠ Open
DESCRIPTION:
URL:https://visit.chomutov.cz/kalendar/zus-open/
LOCATION:Kulisárna\, B. Němcové 552/32\, Chomutov
CATEGORIES:koncert
ATTACH;FMTTYPE=image/jpeg:https://visit.chomutov.cz/wp-content/uploads/2025/05/pexels-lucasallmann-442540.jpg
END:VEVENT
BEGIN:VEVENT
DTSTART;TZID=Europe/Prague:20250517T160000
DTEND;TZID=Europe/Prague:20250517T220000
DTSTAMP:20260425T203343
CREATED:20250505T134637Z
LAST-MODIFIED:20250505T134637Z
UID:9834-1747497600-1747519200@visit.chomutov.cz
SUMMARY:Laco Deczi & Celula New York
DESCRIPTION:Legendární jazzman Laco Deczi zavítá i se svojí kapelou Celula New York potřetí do chomutovského Cafe 44. Od svého vstupu na profesionální hudební scénu před více než padesáti lety byl Laco jejím enfant terrible a punc výjimečnosti mu zůstal dodnes. Navzdory tehdy převládajícímu West Coast jazzu začal prosazovat explozivní hard bop podle svého velkého vzoru Clifforda Browna. Tento styl později spojil do působivé symbiózy s elektrickou jazz-rockovou fúzí Milese Davise\, v jejímž duchu se odvíjí Decziho hudba dodnes. \n16:00 Otevření koncertního prostoru\n16:20 Promítání MS v hokeji /Česko vs. Kazachstán/\n20:00 LACO DECZI & CELULA NEW YORK
URL:https://visit.chomutov.cz/kalendar/laco-deczi-celula-new-york-3/
LOCATION:Cafe 44\, Revoluční 44\, Chomutov\, 43001
CATEGORIES:koncert
ATTACH;FMTTYPE=image/jpeg:https://visit.chomutov.cz/wp-content/uploads/2025/05/Laco-Deczi.jpg
END:VEVENT
BEGIN:VEVENT
DTSTART;TZID=Europe/Prague:20250517T200000
DTEND;TZID=Europe/Prague:20250517T200000
DTSTAMP:20260425T203343
CREATED:20250505T154405Z
LAST-MODIFIED:20250505T154405Z
UID:9881-1747512000-1747512000@visit.chomutov.cz
SUMMARY:Kultura pod hvězdami - Čas růží
DESCRIPTION:Odhalení příběhu starého obrazu\, který v sobě skrývá osud jedné velké celoživotní lásky! Čas růží Vás pobaví i dojme. Výpravnou koncertní verzi doplňují jak kulisy\, tak krásné kostýmy účinkujících.
URL:https://visit.chomutov.cz/kalendar/kultura-pod-hvezdami-cas-ruzi/
LOCATION:Letní kino\, Přemyslova 4752\, Chomutov
CATEGORIES:koncert
ATTACH;FMTTYPE=image/jpeg:https://visit.chomutov.cz/wp-content/uploads/2025/05/Kultura-po-hvezdami-Cas-ruzi.jpg
END:VEVENT
BEGIN:VEVENT
DTSTART;TZID=Europe/Prague:20250518T200000
DTEND;TZID=Europe/Prague:20250518T200000
DTSTAMP:20260425T203343
CREATED:20250505T154754Z
LAST-MODIFIED:20250505T154754Z
UID:9887-1747598400-1747598400@visit.chomutov.cz
SUMMARY:Kultura pod hvězdami - Dracula
DESCRIPTION:Nejúspěšnější český muzikál Dracula je na scéně už 30 let. Při té příležitosti na Vás čeká i překvapení\, které jste na Kultuře pod hvězdami ještě neviděli! \nV letech 1995-1998 ho vidělo rekordních 1\,2 milionů diváků\, což je dosud nevídaný a nepřekonaný český muzikálový rekord! Téměř hned byl nazván českým muzikálem století. \nMuzikál vznikl na námět Stokerova románu Drákula\, kterého se však drží jen velmi volně. Děj se odehrává v 15. století\, v 19. století a v neurčité blízké budoucnosti. Představovat více Draculu není třeba. Pod širým nebem se v rámci koncertní verze muzikálu rozezní písně Vím\, že jsi se mnou\, Nespravedlivý Bůh\, Jsi můj pán a další.
URL:https://visit.chomutov.cz/kalendar/kultura-pod-hvezdami-dracula-2/
LOCATION:Letní kino\, Přemyslova 4752\, Chomutov
CATEGORIES:koncert
ATTACH;FMTTYPE=image/jpeg:https://visit.chomutov.cz/wp-content/uploads/2025/05/Kultura-po-hvezdami-Dracula.jpg
END:VEVENT
BEGIN:VEVENT
DTSTART;TZID=Europe/Prague:20250522T150000
DTEND;TZID=Europe/Prague:20250522T150000
DTSTAMP:20260425T203343
CREATED:20250515T064734Z
LAST-MODIFIED:20250515T064734Z
UID:9955-1747926000-1747926000@visit.chomutov.cz
SUMMARY:Mateřinkové písňobraní
DESCRIPTION:přehlídka pěveckých sborů chomutovských mateřských škol
URL:https://visit.chomutov.cz/kalendar/materinkove-pisnobrani-3/
LOCATION:Atrium\, nám. 1. máje\, Chomutov
CATEGORIES:koncert,pro děti
ATTACH;FMTTYPE=image/jpeg:https://visit.chomutov.cz/wp-content/uploads/2025/05/Pisnobrani.jpeg
END:VEVENT
BEGIN:VEVENT
DTSTART;VALUE=DATE:20250523
DTEND;VALUE=DATE:20250524
DTSTAMP:20260425T203343
CREATED:20250515T090033Z
LAST-MODIFIED:20250515T090033Z
UID:9992-1747958400-1748044799@visit.chomutov.cz
SUMMARY:Funky town
DESCRIPTION:Vystoupí DJS: Bobesh 23\, Mania©\, Funky Breaks\, Liquid DNB
URL:https://visit.chomutov.cz/kalendar/funky-town/
LOCATION:Café Rouge\, Chelčického 100\, Chomutov
CATEGORIES:koncert
ATTACH;FMTTYPE=image/png:https://visit.chomutov.cz/wp-content/uploads/2025/05/Rouge-kveten.png
END:VEVENT
BEGIN:VEVENT
DTSTART;VALUE=DATE:20250524
DTEND;VALUE=DATE:20250525
DTSTAMP:20260425T203343
CREATED:20250515T090514Z
LAST-MODIFIED:20250515T090514Z
UID:9995-1748044800-1748131199@visit.chomutov.cz
SUMMARY:Løwda Hiphøp Jam
DESCRIPTION:Vyastoupí DJS a Live: Sub$ønic 23\, Highlife Bøy$\, Sl€wa\, Kubake\, Stróťa
URL:https://visit.chomutov.cz/kalendar/lowda-hiphop-jam/
LOCATION:Café Rouge\, Chelčického 100\, Chomutov
CATEGORIES:koncert
ATTACH;FMTTYPE=image/png:https://visit.chomutov.cz/wp-content/uploads/2025/05/Rouge-kveten.png
END:VEVENT
BEGIN:VEVENT
DTSTART;TZID=Europe/Prague:20250524T173000
DTEND;TZID=Europe/Prague:20250524T173000
DTSTAMP:20260425T203343
CREATED:20250505T151547Z
LAST-MODIFIED:20250505T151547Z
UID:9850-1748107800-1748107800@visit.chomutov.cz
SUMMARY:Tři sestry - 40 let open air tour 2025
DESCRIPTION:Vstupenky v síti Ticketstream.
URL:https://visit.chomutov.cz/kalendar/tri-sestry-40-let-open-air-tour-2025/
LOCATION:Letní kino\, Přemyslova 4752\, Chomutov
CATEGORIES:koncert
ATTACH;FMTTYPE=image/jpeg:https://visit.chomutov.cz/wp-content/uploads/2025/05/Tri-sestry.jpg
END:VEVENT
BEGIN:VEVENT
DTSTART;TZID=Europe/Prague:20250527T180000
DTEND;TZID=Europe/Prague:20250527T180000
DTSTAMP:20260425T203343
CREATED:20250515T070703Z
LAST-MODIFIED:20250515T070759Z
UID:9968-1748368800-1748368800@visit.chomutov.cz
SUMMARY:Hudební festival Ludwiga van Beethovena
DESCRIPTION:Zemlinského kvarteto
URL:https://visit.chomutov.cz/kalendar/hudebni-festival-ludwiga-van-beethovena-3/
LOCATION:Kostel sv. Ignáce\, nám. 1. máje\, Chomutov
CATEGORIES:koncert
ATTACH;FMTTYPE=image/jpeg:https://visit.chomutov.cz/wp-content/uploads/2025/05/Hudebni-festival-Ludwiga-van-Beethovena.jpg
END:VEVENT
BEGIN:VEVENT
DTSTART;TZID=Europe/Prague:20250530T190000
DTEND;TZID=Europe/Prague:20250530T190000
DTSTAMP:20260425T203343
CREATED:20250423T121619Z
LAST-MODIFIED:20250423T121619Z
UID:9743-1748631600-1748631600@visit.chomutov.cz
SUMMARY:Koncert filmové hudby Hanse Zimmera
DESCRIPTION:Připravte se na jedinečný večer\, který vás zavede do světa nejikoničtější filmové hudby. Městské divadlo Chomutov přivítá symfonický orchestr Grande Orchestra\, který představí mistrovská díla slavného skladatele Hansa Zimmera v rámci exkluzivního koncertu. \nTento koncert je povinností pro všechny milovníky filmové hudby! Přijďte si užít nezapomenutelný večer plný emocí a hudebních skvostů\, které definovaly moderní kinematografii. \nHans Zimmer je německý hudební skladatel\, který se proslavil díky své práci na filmových soundtrackech. Je známý svou schopností přinést intenzitu a emocionální hloubku do filmového vyprávění prostřednictvím hudby. Mezi jeho nejúspěšnější filmy patří Počátek\, Interstellar\, Duna či Gladiátor\, které získaly srdce publika po celém světě. Zimmerova tvorba mu vynesla řadu ocenění\, včetně dvou oscarů\, tří zlatých glóbů\, čtyř Grammy – celkem 37 ocenění. \nNenechte si ujít tuto jedinečnou příležitost prožít hudbu Hansa Zimmera naživo v podání skvělého  Západočeského symfonického orchestru! Vstupenky jsou již v prodeji. Zajistěte si svá místa a připravte se na hudební zážitek\, který nikdy nezapomenete.
URL:https://visit.chomutov.cz/kalendar/koncert-filmove-hudby-hanse-zimmera/
LOCATION:Městské divadlo\, Boženy Němcové 552/32\, Chomutov
CATEGORIES:koncert
ATTACH;FMTTYPE=image/jpeg:https://visit.chomutov.cz/wp-content/uploads/2025/04/Hans-Zimmer.jpg
END:VEVENT
BEGIN:VEVENT
DTSTART;VALUE=DATE:20250531
DTEND;VALUE=DATE:20250601
DTSTAMP:20260425T203343
CREATED:20250515T090623Z
LAST-MODIFIED:20250523T085604Z
UID:9997-1748649600-1748735999@visit.chomutov.cz
SUMMARY:Dark Disco
DESCRIPTION:Vystoupí DJS: Maneki Neko\, Local Support (Indie Dance\, Italo\, Synth Pop)
URL:https://visit.chomutov.cz/kalendar/dark-disco/
LOCATION:Café Rouge\, Chelčického 100\, Chomutov
CATEGORIES:koncert
ATTACH;FMTTYPE=image/png:https://visit.chomutov.cz/wp-content/uploads/2025/05/Rouge-kveten.png
END:VEVENT
BEGIN:VEVENT
DTSTART;TZID=Europe/Prague:20250604T180000
DTEND;TZID=Europe/Prague:20250604T180000
DTSTAMP:20260425T203343
CREATED:20250526T081253Z
LAST-MODIFIED:20250528T082014Z
UID:10107-1749060000-1749060000@visit.chomutov.cz
SUMMARY:Svatodušní koncert
DESCRIPTION:sbor řídí Zdeněk Pavlovský
URL:https://visit.chomutov.cz/kalendar/svatodusni-koncert/
LOCATION:Kostel sv. Kateřiny\, Chelčického 100\, Chomutov
CATEGORIES:koncert
ATTACH;FMTTYPE=image/jpeg:https://visit.chomutov.cz/wp-content/uploads/2025/05/svatodusni-koncert.jpg
ORGANIZER;CN="Oblastn%C3%AD%20muzeum%20v%20Chomutov%C4%9B":MAILTO:sekretariat@muzeumchomutov.cz
END:VEVENT
BEGIN:VEVENT
DTSTART;TZID=Europe/Prague:20250605T190000
DTEND;TZID=Europe/Prague:20250605T190000
DTSTAMP:20260425T203343
CREATED:20250519T142207Z
LAST-MODIFIED:20250519T142207Z
UID:10045-1749150000-1749150000@visit.chomutov.cz
SUMMARY:Šimon Bilina - koncert
DESCRIPTION:Koncert autorských i převzatých písní v podání známého herce a zpěváka Šimona Biliny.\nMezi jeho zatím největší projekty patří jedna z hlavních rolí v rodinném seriálu televize Prima ZOO (role Adama „Haďáka“ Hrušky)\, dvojrole v muzikálu Jana Svěráka a Tomáše Kluse Branický zázrak\, role v kriminálkách (Odznak Vysočina\, Šéfka) a mnoho dalších. V divadle ho aktuálně můžete vidět v inscenaci Vojna a mír (Divadlo ABC).\nZ jeho autorské tvorby je známá píseň „To svý“\, novinka „Slunečnice“ a především duet s Davidem Stypkou „Nebreč“. Videoklip k této písni má na YouTube přes 1\,2 milionů zhlédnutí.
URL:https://visit.chomutov.cz/kalendar/simon-bilina-koncert/
LOCATION:Městské divadlo\, Boženy Němcové 552/32\, Chomutov
CATEGORIES:koncert
ATTACH;FMTTYPE=image/jpeg:https://visit.chomutov.cz/wp-content/uploads/2025/05/Simon-Bilina.jpg
END:VEVENT
BEGIN:VEVENT
DTSTART;TZID=Europe/Prague:20250606T190000
DTEND;TZID=Europe/Prague:20250606T190000
DTSTAMP:20260425T203343
CREATED:20250528T101351Z
LAST-MODIFIED:20250528T101407Z
UID:10239-1749236400-1749236400@visit.chomutov.cz
SUMMARY:Hudební produkce v Kulisárně - Travesti Show
DESCRIPTION:
URL:https://visit.chomutov.cz/kalendar/hudebni-produkce-v-kulisarne/
LOCATION:Kulisárna\, B. Němcové 552/32\, Chomutov
CATEGORIES:koncert
ATTACH;FMTTYPE=image/jpeg:https://visit.chomutov.cz/wp-content/uploads/2025/05/Kulisarna-cerven.jpeg
END:VEVENT
BEGIN:VEVENT
DTSTART;TZID=Europe/Prague:20250606T200000
DTEND;TZID=Europe/Prague:20250606T200000
DTSTAMP:20260425T203343
CREATED:20250519T140401Z
LAST-MODIFIED:20250523T101853Z
UID:10031-1749240000-1749240000@visit.chomutov.cz
SUMMARY:Wohnout
DESCRIPTION:Oblíbená hudební skupina WOHNOUT míří do Letního kina v Chomutově!\nFanoušci se mohou těšit na nestárnoucí hity napříč téměř třicetiletou existencí této skupiny a doposud deseti vydanými alby. Díky délce svojí existence a vyrovnané kvalitě svojí tvorby patří k jistotám domácí hudební scény.\nProgram:\n18:30 – otevření areálu\n20.00 – 20.45 MANIAC\n21.00 – 22.40 WOHNOUT\nVstupné: 490 Kč
URL:https://visit.chomutov.cz/kalendar/wohnout/
LOCATION:Letní kino\, Přemyslova 4752\, Chomutov
CATEGORIES:koncert
ATTACH;FMTTYPE=image/jpeg:https://visit.chomutov.cz/wp-content/uploads/2025/05/Wohnout-Chomutov-2025.jpg
END:VEVENT
BEGIN:VEVENT
DTSTART;TZID=Europe/Prague:20250607T190000
DTEND;TZID=Europe/Prague:20250607T190000
DTSTAMP:20260425T203343
CREATED:20250528T101442Z
LAST-MODIFIED:20250528T101442Z
UID:10243-1749322800-1749322800@visit.chomutov.cz
SUMMARY:Hudební produkce v Kulisárně - Duo Farao
DESCRIPTION:
URL:https://visit.chomutov.cz/kalendar/hudebni-produkce-v-kulisarne-2/
LOCATION:Kulisárna\, B. Němcové 552/32\, Chomutov
CATEGORIES:koncert
ATTACH;FMTTYPE=image/jpeg:https://visit.chomutov.cz/wp-content/uploads/2025/05/Kulisarna-cerven.jpeg
END:VEVENT
BEGIN:VEVENT
DTSTART;TZID=Europe/Prague:20250611T093000
DTEND;TZID=Europe/Prague:20250611T093000
DTSTAMP:20260425T203343
CREATED:20250523T125928Z
LAST-MODIFIED:20250523T125928Z
UID:10101-1749634200-1749634200@visit.chomutov.cz
SUMMARY:Dixieland partyband
DESCRIPTION:Koncert u příležitosti ukončení 25. ročníku Akademie 3. věku.
URL:https://visit.chomutov.cz/kalendar/dixieland-partyband/
LOCATION:Atrium\, nám. 1. máje\, Chomutov
CATEGORIES:koncert,vzdělávání
ATTACH;FMTTYPE=image/jpeg:https://visit.chomutov.cz/wp-content/uploads/2025/05/A3v-ukonceni-scaled.jpg
END:VEVENT
BEGIN:VEVENT
DTSTART;TZID=Europe/Prague:20250611T173000
DTEND;TZID=Europe/Prague:20250611T173000
DTSTAMP:20260425T203343
CREATED:20250526T102706Z
LAST-MODIFIED:20250526T102706Z
UID:10117-1749663000-1749663000@visit.chomutov.cz
SUMMARY:Jarní koncert dětských pěveckých sborů
DESCRIPTION:Jarní koncert dětských pěveckých sborů Berušky I\, Berušky II a Hlásek
URL:https://visit.chomutov.cz/kalendar/jarni-koncert-detskych-peveckych-sboru/
LOCATION:Galerie Lurago\, Palackého 85\, Chomutov
CATEGORIES:koncert
ATTACH;FMTTYPE=image/jpeg:https://visit.chomutov.cz/wp-content/uploads/2023/05/Berusky.jpg
END:VEVENT
BEGIN:VEVENT
DTSTART;VALUE=DATE:20250612
DTEND;VALUE=DATE:20250615
DTSTAMP:20260425T203343
CREATED:20250522T073140Z
LAST-MODIFIED:20250522T073148Z
UID:10081-1749686400-1749945599@visit.chomutov.cz
SUMMARY:ČEZfest 2025
DESCRIPTION:
URL:https://visit.chomutov.cz/kalendar/cezfest-2025/
LOCATION:Bývalý letní stadion\, Tyršova\, Chomutov
CATEGORIES:koncert,pro děti,sportovní akce,zábavní pořady
ATTACH;FMTTYPE=image/png:https://visit.chomutov.cz/wp-content/uploads/2025/05/CEZfest-Chomutov-2025.png
END:VEVENT
END:VCALENDAR