BEGIN:VCALENDAR
VERSION:2.0
PRODID:-//Visit Chomutov - ECPv5.14.2.1//NONSGML v1.0//EN
CALSCALE:GREGORIAN
METHOD:PUBLISH
X-WR-CALNAME:Visit Chomutov
X-ORIGINAL-URL:https://visit.chomutov.cz
X-WR-CALDESC:Akce na Visit Chomutov
REFRESH-INTERVAL;VALUE=DURATION:PT1H
X-Robots-Tag:noindex
X-PUBLISHED-TTL:PT1H
BEGIN:VTIMEZONE
TZID:Europe/Prague
BEGIN:DAYLIGHT
TZOFFSETFROM:+0100
TZOFFSETTO:+0200
TZNAME:CEST
DTSTART:20250330T010000
END:DAYLIGHT
BEGIN:STANDARD
TZOFFSETFROM:+0200
TZOFFSETTO:+0100
TZNAME:CET
DTSTART:20251026T010000
END:STANDARD
END:VTIMEZONE
BEGIN:VEVENT
DTSTART;TZID=Europe/Prague:20250324T170000
DTEND;TZID=Europe/Prague:20250324T170000
DTSTAMP:20260425T162852
CREATED:20250304T130905Z
LAST-MODIFIED:20250304T130905Z
UID:9327-1742835600-1742835600@visit.chomutov.cz
SUMMARY:Třídní koncert
DESCRIPTION:
URL:https://visit.chomutov.cz/kalendar/tridni-koncert-2/
LOCATION:ZUŠ T. G. Masaryka\, nám. T. G. Masaryka 1626\, Chomutov
CATEGORIES:koncert
ATTACH;FMTTYPE=image/jpeg:https://visit.chomutov.cz/wp-content/uploads/2023/01/pexels-buchkiste-4841308.jpg
END:VEVENT
BEGIN:VEVENT
DTSTART;TZID=Europe/Prague:20250326T080000
DTEND;TZID=Europe/Prague:20250326T170000
DTSTAMP:20260425T162852
CREATED:20250326T074936Z
LAST-MODIFIED:20250326T075120Z
UID:9452-1742976000-1743008400@visit.chomutov.cz
SUMMARY:Duo Jamaha - Žije to tour 2025
DESCRIPTION:Nový koncertní program\, nové turné\, nová koncertní šou plná melodických\, rytmických skladeb od oblíbeného DUO JAMAHA. V programu zazní nové autorské skladby z nového CD – ŽIJE TO!\nPo úspěšném turné ROZTOČÍME TO!\, které vidělo na Slovensku a v Čechách tisíce lidí a získalo zlatou desku\, přichází další nové turné s novými písněmi. Nebudou chybět známé hity\, které znáte z televize a rádií. Vše bude doplněné záhoráckým humorem a Stand Up vystoupením\, který zaručí skvělou zábavu a odreagování pro všechny generace.
URL:https://visit.chomutov.cz/kalendar/duo-jamaha-zije-to-tour-2025/
LOCATION:Městské divadlo\, Boženy Němcové 552/32\, Chomutov
CATEGORIES:koncert
ATTACH;FMTTYPE=image/jpeg:https://visit.chomutov.cz/wp-content/uploads/2025/03/Duo-Jamaha-Tour-2025.jpg
END:VEVENT
BEGIN:VEVENT
DTSTART;TZID=Europe/Prague:20250327T180000
DTEND;TZID=Europe/Prague:20250327T180000
DTSTAMP:20260425T162852
CREATED:20240222T114455Z
LAST-MODIFIED:20250304T132922Z
UID:6378-1743098400-1743098400@visit.chomutov.cz
SUMMARY:Koncert učitelů
DESCRIPTION:
URL:https://visit.chomutov.cz/kalendar/koncert-ucitelu/
LOCATION:ZUŠ T. G. Masaryka\, nám. T. G. Masaryka 1626\, Chomutov
CATEGORIES:koncert
ATTACH;FMTTYPE=image/jpeg:https://visit.chomutov.cz/wp-content/uploads/2023/03/pexels-cottonbro-studio-4033340.jpg
END:VEVENT
BEGIN:VEVENT
DTSTART;TZID=Europe/Prague:20250328T190000
DTEND;TZID=Europe/Prague:20250328T190000
DTSTAMP:20260425T162852
CREATED:20250304T132841Z
LAST-MODIFIED:20250304T132841Z
UID:9340-1743188400-1743188400@visit.chomutov.cz
SUMMARY:Koncert - Black Tar Jesus a Oči vlka
DESCRIPTION:
URL:https://visit.chomutov.cz/kalendar/koncert-black-tar-jesus-a-oci-vlka/
LOCATION:Druhé PATRO\, Ruská 17\, Chomutov
CATEGORIES:koncert
ATTACH;FMTTYPE=image/jpeg:https://visit.chomutov.cz/wp-content/uploads/2025/03/1257809-800.jpg
END:VEVENT
BEGIN:VEVENT
DTSTART;TZID=Europe/Prague:20250329T170000
DTEND;TZID=Europe/Prague:20250329T170000
DTSTAMP:20260425T162852
CREATED:20250304T132253Z
LAST-MODIFIED:20250304T132253Z
UID:9337-1743267600-1743267600@visit.chomutov.cz
SUMMARY:Kollárovci CZ Tour 2025
DESCRIPTION:
URL:https://visit.chomutov.cz/kalendar/kollarovci-cz-tour-2025/
LOCATION:Městské divadlo\, Boženy Němcové 552/32\, Chomutov
CATEGORIES:koncert,zábavní pořady
ATTACH;FMTTYPE=image/jpeg:https://visit.chomutov.cz/wp-content/uploads/2025/03/Kollarovci.jpg
END:VEVENT
BEGIN:VEVENT
DTSTART;TZID=Europe/Prague:20250331T190000
DTEND;TZID=Europe/Prague:20250331T190000
DTSTAMP:20260425T162852
CREATED:20250304T131939Z
LAST-MODIFIED:20250304T132023Z
UID:9334-1743447600-1743447600@visit.chomutov.cz
SUMMARY:Vojtěch Dyk - Intimity s klavírem
DESCRIPTION:
URL:https://visit.chomutov.cz/kalendar/vojtech-dyk-intimity-s-klavirem/
LOCATION:Městské divadlo\, Boženy Němcové 552/32\, Chomutov
CATEGORIES:koncert,zábavní pořady
ATTACH;FMTTYPE=image/jpeg:https://visit.chomutov.cz/wp-content/uploads/2025/03/Vojtech-Dyk.jpg
END:VEVENT
BEGIN:VEVENT
DTSTART;TZID=Europe/Prague:20250403T170000
DTEND;TZID=Europe/Prague:20250403T183000
DTSTAMP:20260425T162852
CREATED:20250326T064109Z
LAST-MODIFIED:20250326T064109Z
UID:9425-1743699600-1743705000@visit.chomutov.cz
SUMMARY:Koncert oddělení populárního zpěvu
DESCRIPTION:
URL:https://visit.chomutov.cz/kalendar/koncert-oddeleni-popularniho-zpevu/
LOCATION:ZUŠ T. G. Masaryka\, nám. T. G. Masaryka 1626\, Chomutov
CATEGORIES:koncert
ATTACH;FMTTYPE=image/jpeg:https://visit.chomutov.cz/wp-content/uploads/2022/05/pexels-pixabay-164829-scaled.jpg
END:VEVENT
BEGIN:VEVENT
DTSTART;TZID=Europe/Prague:20250404T200000
DTEND;TZID=Europe/Prague:20250404T200000
DTSTAMP:20260425T162852
CREATED:20250326T075444Z
LAST-MODIFIED:20250326T075444Z
UID:9456-1743796800-1743796800@visit.chomutov.cz
SUMMARY:Koncert Torro G a Trepifajksl
DESCRIPTION:
URL:https://visit.chomutov.cz/kalendar/koncert-torro-g-a-trepifajksl/
LOCATION:Klub Dole\, Kosmonautů 4554\, Chomutov\, 43001
CATEGORIES:koncert
ATTACH;FMTTYPE=image/jpeg:https://visit.chomutov.cz/wp-content/uploads/2025/03/Klub-Dole-Torro-G.jpg
END:VEVENT
BEGIN:VEVENT
DTSTART;TZID=Europe/Prague:20250405T200000
DTEND;TZID=Europe/Prague:20250405T200000
DTSTAMP:20260425T162852
CREATED:20250326T082312Z
LAST-MODIFIED:20250328T101745Z
UID:9480-1743883200-1743883200@visit.chomutov.cz
SUMMARY:Grunge Resonance
DESCRIPTION:Memory akce na počest úmrtí Kurta Cobaina a Layna Stayleho\, dvou zásadních osobností rockové historie.\nVšechny tři účinkující spojuje jedno slovo\, GRUNGE! Niobe i Waste míchají prvky různých rockových žánrů\, nicméně odkaz ze Seattlu je v obou kapelách silně zakořeněn. Gate of Seattle je projekt členů z kapely Nucený Výsek hrající cover verze legendárních kapel jako jsou Pearl Jam\, Rage Against the Machine\, Nirvana a mnoho dalších.
URL:https://visit.chomutov.cz/kalendar/grunge-resonance/
LOCATION:Klub Dole\, Kosmonautů 4554\, Chomutov\, 43001
CATEGORIES:koncert
ATTACH;FMTTYPE=image/jpeg:https://visit.chomutov.cz/wp-content/uploads/2025/03/Grunge-Resonance.jpg
END:VEVENT
BEGIN:VEVENT
DTSTART;TZID=Europe/Prague:20250408T190000
DTEND;TZID=Europe/Prague:20250408T190000
DTSTAMP:20260425T162852
CREATED:20250326T065920Z
LAST-MODIFIED:20250326T065920Z
UID:9433-1744138800-1744138800@visit.chomutov.cz
SUMMARY:Hudba pro dobrou náladu
DESCRIPTION:vystoupí J. Pavlica\, J. Oplt\, I. Brožová\, Liana Sass\, doprovází Festivalový orchestr Petra Macka.
URL:https://visit.chomutov.cz/kalendar/hudba-pro-dobrou-naladu/
LOCATION:Městské divadlo\, Boženy Němcové 552/32\, Chomutov
CATEGORIES:koncert
ATTACH;FMTTYPE=image/jpeg:https://visit.chomutov.cz/wp-content/uploads/2021/11/Divadlo_interier-Velke.jpg
END:VEVENT
BEGIN:VEVENT
DTSTART;TZID=Europe/Prague:20250410T180000
DTEND;TZID=Europe/Prague:20250410T190000
DTSTAMP:20260425T162852
CREATED:20250326T070034Z
LAST-MODIFIED:20250326T070034Z
UID:9435-1744308000-1744311600@visit.chomutov.cz
SUMMARY:Koncert\,  kde se na pódiu setkají žáci\, jejich učitelé a rodiče
DESCRIPTION:
URL:https://visit.chomutov.cz/kalendar/koncert-kde-se-na-podiu-setkaji-zaci-jejich-ucitele-a-rodice/
LOCATION:ZUŠ T. G. Masaryka\, nám. T. G. Masaryka 1626\, Chomutov
CATEGORIES:koncert
ATTACH;FMTTYPE=image/jpeg:https://visit.chomutov.cz/wp-content/uploads/2023/01/pexels-buchkiste-4841308.jpg
END:VEVENT
BEGIN:VEVENT
DTSTART;TZID=Europe/Prague:20250410T190000
DTEND;TZID=Europe/Prague:20250410T190000
DTSTAMP:20260425T162852
CREATED:20250326T070317Z
LAST-MODIFIED:20250326T070351Z
UID:9437-1744311600-1744311600@visit.chomutov.cz
SUMMARY:Bestiář
DESCRIPTION:Představte si\, že by váš život byl jako divadelní představení\, plný emocí\, vášní a nečekaných zvratů. To je Bestiář – muzikál na motivy románu Barbary Nesvadbové\, který vám ukáže\, jak láska může být krásná i komplikovaná zároveň. S hudbou Petra Maláska a texty písní od Václava Kopty\, tento muzikál přináší příběh\, který vás chytne za srdce.
URL:https://visit.chomutov.cz/kalendar/bestiar/
LOCATION:Městské divadlo\, Boženy Němcové 552/32\, Chomutov
CATEGORIES:koncert
ATTACH;FMTTYPE=image/jpeg:https://visit.chomutov.cz/wp-content/uploads/2025/03/Bestiar.jpg
END:VEVENT
BEGIN:VEVENT
DTSTART;TZID=Europe/Prague:20250411T190000
DTEND;TZID=Europe/Prague:20250411T210000
DTSTAMP:20260425T162852
CREATED:20250326T075711Z
LAST-MODIFIED:20250326T075711Z
UID:9459-1744398000-1744405200@visit.chomutov.cz
SUMMARY:Lucie Bílá - Recitál
DESCRIPTION:Recitál několikanásobné zlaté slavice Lucie Bílé za klavírního doprovodu Petra Maláska. Těšit se můžete na jedinečný hudební zážitek v podání toho nejlepšího hlasu české hudební scény.\nPředprodej v síti Ticketstream a v Informačním centru Chomutov.
URL:https://visit.chomutov.cz/kalendar/lucie-bila-recital/
LOCATION:Městské divadlo\, Boženy Němcové 552/32\, Chomutov
CATEGORIES:koncert
ATTACH;FMTTYPE=image/jpeg:https://visit.chomutov.cz/wp-content/uploads/2025/03/Bila-Recital.jpg
END:VEVENT
BEGIN:VEVENT
DTSTART;TZID=Europe/Prague:20250411T200000
DTEND;TZID=Europe/Prague:20250411T200000
DTSTAMP:20260425T162852
CREATED:20250326T074348Z
LAST-MODIFIED:20250326T074348Z
UID:9446-1744401600-1744401600@visit.chomutov.cz
SUMMARY:Jumpeck a Lakestoppers
DESCRIPTION:
URL:https://visit.chomutov.cz/kalendar/jumpeck-a-lakestoppers/
LOCATION:Klub Dole\, Kosmonautů 4554\, Chomutov\, 43001
CATEGORIES:koncert
ATTACH;FMTTYPE=image/jpeg:https://visit.chomutov.cz/wp-content/uploads/2025/03/Klub-Dole-Jumpeck-a-Lakestoppers.jpg
END:VEVENT
BEGIN:VEVENT
DTSTART;TZID=Europe/Prague:20250411T200000
DTEND;TZID=Europe/Prague:20250411T200000
DTSTAMP:20260425T162852
CREATED:20250326T074701Z
LAST-MODIFIED:20250326T074701Z
UID:9449-1744401600-1744401600@visit.chomutov.cz
SUMMARY:25 let Huháče: Animal Resources a W69
DESCRIPTION:Další z řady koncertů k letošnímu výročí konání koncertů v Huháči.\nTentokrát k nám přijedou kamarádi z Karlovarska se svým našlapaným crossoverem\, Animal Resources.\nJako doprovod vystoupí lokální banda W69 se svým krušnohorským dirty blues.
URL:https://visit.chomutov.cz/kalendar/25-let-huhace-animal-resources-a-w69/
CATEGORIES:koncert
ATTACH;FMTTYPE=image/jpeg:https://visit.chomutov.cz/wp-content/uploads/2025/03/Animal-Resources.jpg
END:VEVENT
BEGIN:VEVENT
DTSTART;TZID=Europe/Prague:20250412T180000
DTEND;TZID=Europe/Prague:20250412T180000
DTSTAMP:20260425T162852
CREATED:20250326T101829Z
LAST-MODIFIED:20250326T101829Z
UID:9510-1744480800-1744480800@visit.chomutov.cz
SUMMARY:Vítání jara s Madrigalem
DESCRIPTION:koncert vokálně instrumentálního souboru
URL:https://visit.chomutov.cz/kalendar/vitani-jara-s-madrigalem-3/
LOCATION:Galerie Lurago\, Palackého 85\, Chomutov
CATEGORIES:koncert
ATTACH;FMTTYPE=image/jpeg:https://visit.chomutov.cz/wp-content/uploads/2025/03/Madrigal-scaled.jpg
END:VEVENT
BEGIN:VEVENT
DTSTART;TZID=Europe/Prague:20250412T193000
DTEND;TZID=Europe/Prague:20250412T193000
DTSTAMP:20260425T162852
CREATED:20250327T081340Z
LAST-MODIFIED:20250327T081340Z
UID:9665-1744486200-1744486200@visit.chomutov.cz
SUMMARY:Taskent a Atomy nevadí
DESCRIPTION:
URL:https://visit.chomutov.cz/kalendar/taskent-a-atomy-nevadi/
LOCATION:Klub Dole\, Kosmonautů 4554\, Chomutov\, 43001
CATEGORIES:koncert
ATTACH;FMTTYPE=image/jpeg:https://visit.chomutov.cz/wp-content/uploads/2025/03/Klub-Dole-Taskent.jpg
END:VEVENT
BEGIN:VEVENT
DTSTART;TZID=Europe/Prague:20250415T170000
DTEND;TZID=Europe/Prague:20250415T180000
DTSTAMP:20260425T162852
CREATED:20250326T143552Z
LAST-MODIFIED:20250326T143552Z
UID:9576-1744736400-1744740000@visit.chomutov.cz
SUMMARY:Podvečer s klavírem
DESCRIPTION:
URL:https://visit.chomutov.cz/kalendar/podvecer-s-klavirem-3/
LOCATION:ZUŠ T. G. Masaryka\, nám. T. G. Masaryka 1626\, Chomutov
CATEGORIES:koncert
ATTACH;FMTTYPE=image/jpeg:https://visit.chomutov.cz/wp-content/uploads/2023/03/pexels-cottonbro-studio-4033340.jpg
END:VEVENT
BEGIN:VEVENT
DTSTART;TZID=Europe/Prague:20250416T170000
DTEND;TZID=Europe/Prague:20250416T180000
DTSTAMP:20260425T162852
CREATED:20241102T172517Z
LAST-MODIFIED:20250326T145633Z
UID:8225-1744822800-1744826400@visit.chomutov.cz
SUMMARY:My jsme malí muzikanti
DESCRIPTION:koncert začínajících muzikantů\, vystoupení žáků baletního i výtvarného oboru
URL:https://visit.chomutov.cz/kalendar/my-jsme-mali-muzikanti-4/
LOCATION:ZUŠ T. G. Masaryka\, nám. T. G. Masaryka 1626\, Chomutov
CATEGORIES:koncert
ATTACH;FMTTYPE=image/jpeg:https://visit.chomutov.cz/wp-content/uploads/2023/01/pexels-quoc-bao-2118045.jpg
END:VEVENT
BEGIN:VEVENT
DTSTART;TZID=Europe/Prague:20250417T190000
DTEND;TZID=Europe/Prague:20250417T190000
DTSTAMP:20260425T162852
CREATED:20250326T081623Z
LAST-MODIFIED:20250326T081623Z
UID:9471-1744916400-1744916400@visit.chomutov.cz
SUMMARY:Devět hrozných Tour
DESCRIPTION:Hejtman & Panychida & Destroy
URL:https://visit.chomutov.cz/kalendar/devet-hroznych-tour/
LOCATION:Kulisárna\, B. Němcové 552/32\, Chomutov
CATEGORIES:koncert
ATTACH;FMTTYPE=image/jpeg:https://visit.chomutov.cz/wp-content/uploads/2025/03/Devet-hroznych-tour.jpg
END:VEVENT
BEGIN:VEVENT
DTSTART;TZID=Europe/Prague:20250417T200000
DTEND;TZID=Europe/Prague:20250417T200000
DTSTAMP:20260425T162852
CREATED:20250326T150853Z
LAST-MODIFIED:20250326T150919Z
UID:9611-1744920000-1744920000@visit.chomutov.cz
SUMMARY:Pan Lynx - Rockové Velikonoce
DESCRIPTION:Pan Lynx je nový hudebně výtvarný projekt Michala Skořepy (ex-Stroy) a jeho kresleného alter ega – mystického Pana Lynxe. Pan Lynx je napůl rys a napůl člověk\, Michal. Poté\, co se Michalovi zjevil\, vtáhl ho do hlubin jeho vlastního pomyslného vnitřního lesa\, aby tak vznikla debutová deska o sebepoznání jménem „Kdo se bojí\, musí do lesa“.
URL:https://visit.chomutov.cz/kalendar/pan-lynx-rockove-velikonoce/
LOCATION:Městské divadlo\, Boženy Němcové 552/32\, Chomutov
CATEGORIES:koncert
ATTACH;FMTTYPE=image/jpeg:https://visit.chomutov.cz/wp-content/uploads/2025/03/Pan-Lynx.jpg
END:VEVENT
BEGIN:VEVENT
DTSTART;TZID=Europe/Prague:20250418T210000
DTEND;TZID=Europe/Prague:20250418T210000
DTSTAMP:20260425T162852
CREATED:20250327T081224Z
LAST-MODIFIED:20250327T081224Z
UID:9662-1745010000-1745010000@visit.chomutov.cz
SUMMARY:Drum&Bass\, RaggaJungle
DESCRIPTION:Vystoupí Offchuck (ImperialSouljahs)\, Slowly (HighineBeats)\, Tsube (T-River Sound)\, Harihor (ImperialSouljahs)
URL:https://visit.chomutov.cz/kalendar/drumbass-raggajungle/
LOCATION:Klub Dole\, Kosmonautů 4554\, Chomutov\, 43001
CATEGORIES:koncert
ATTACH;FMTTYPE=image/jpeg:https://visit.chomutov.cz/wp-content/uploads/2025/03/DrumBass-Huhac.jpg
END:VEVENT
BEGIN:VEVENT
DTSTART;TZID=Europe/Prague:20250422T190000
DTEND;TZID=Europe/Prague:20250422T190000
DTSTAMP:20260425T162852
CREATED:20250326T070551Z
LAST-MODIFIED:20250326T073751Z
UID:9440-1745348400-1745348400@visit.chomutov.cz
SUMMARY:O5 a Radeček
DESCRIPTION:O5 a Radeček je šumperská hudební skupina\, jejíž tvorba se postupně vyvíjí od folku přes folk-rock až k rocku.\nKaždý rok odehrají stovky koncertů a účinkují na největších tuzemských festivalech např. Benátská noc\, Colours of Ostrava\, Jam Rock\, Votvírák\, Natruc.\nK nejznámějším hitům patří HORY\, I tak to za to stojí\, Vloupám se\, Máš mě na svědomí\, Budu rád\, Sex ve sprše či LOVEní.
URL:https://visit.chomutov.cz/kalendar/o5-a-radecek/
LOCATION:Městské divadlo\, Boženy Němcové 552/32\, Chomutov
CATEGORIES:koncert
ATTACH;FMTTYPE=image/jpeg:https://visit.chomutov.cz/wp-content/uploads/2025/03/O5-a-Radecek.jpg
END:VEVENT
BEGIN:VEVENT
DTSTART;TZID=Europe/Prague:20250424T170000
DTEND;TZID=Europe/Prague:20250424T170000
DTSTAMP:20260425T162852
CREATED:20250327T063220Z
LAST-MODIFIED:20250327T063220Z
UID:9626-1745514000-1745514000@visit.chomutov.cz
SUMMARY:Velikonoční koncert sboru Hlahol
DESCRIPTION:
URL:https://visit.chomutov.cz/kalendar/velikonocni-koncert-sboru-hlahol/
LOCATION:Kostel sv. Kateřiny\, Chelčického 100\, Chomutov
CATEGORIES:koncert
ATTACH;FMTTYPE=image/jpeg:https://visit.chomutov.cz/wp-content/uploads/2025/03/Velikonocni-koncert-Hlahol.jpg
ORGANIZER;CN="Oblastn%C3%AD%20muzeum%20v%20Chomutov%C4%9B":MAILTO:sekretariat@muzeumchomutov.cz
END:VEVENT
BEGIN:VEVENT
DTSTART;TZID=Europe/Prague:20250425T183000
DTEND;TZID=Europe/Prague:20250425T183000
DTSTAMP:20260425T162852
CREATED:20250327T065351Z
LAST-MODIFIED:20250327T065351Z
UID:9643-1745605800-1745605800@visit.chomutov.cz
SUMMARY:Šimon Koleček - hudební vystoupení
DESCRIPTION:
URL:https://visit.chomutov.cz/kalendar/simon-kolecek-hudebni-vystoupeni/
LOCATION:Cafe Kolečko\, nám. 1. máje 7\, Chomutov\, 43001
CATEGORIES:koncert
ATTACH;FMTTYPE=image/jpeg:https://visit.chomutov.cz/wp-content/uploads/2025/03/Simon-Kolecek.jpg
END:VEVENT
BEGIN:VEVENT
DTSTART;TZID=Europe/Prague:20250426T150000
DTEND;TZID=Europe/Prague:20250426T220000
DTSTAMP:20260425T162852
CREATED:20250326T150620Z
LAST-MODIFIED:20250326T150700Z
UID:9607-1745679600-1745704800@visit.chomutov.cz
SUMMARY:April open air
DESCRIPTION:W69\, D o k r u h u\, Bitches From Eden\, Jablkoň\, Zrní
URL:https://visit.chomutov.cz/kalendar/april-open-air-3/
LOCATION:Atrium\, nám. 1. máje\, Chomutov
CATEGORIES:koncert
ATTACH;FMTTYPE=image/jpeg:https://visit.chomutov.cz/wp-content/uploads/2025/03/April-Open-Air-scaled.jpg
END:VEVENT
BEGIN:VEVENT
DTSTART;TZID=Europe/Prague:20250426T170000
DTEND;TZID=Europe/Prague:20250426T170000
DTSTAMP:20260425T162852
CREATED:20250327T070030Z
LAST-MODIFIED:20250327T070030Z
UID:9652-1745686800-1745686800@visit.chomutov.cz
SUMMARY:Velikonoční koncert sboru Aurum
DESCRIPTION:
URL:https://visit.chomutov.cz/kalendar/velikonocni-koncert-sboru-aurum/
LOCATION:Kostel sv. Kateřiny\, Chelčického 100\, Chomutov
CATEGORIES:koncert
ATTACH;FMTTYPE=image/jpeg:https://visit.chomutov.cz/wp-content/uploads/2025/03/Aurum.jpg
ORGANIZER;CN="Oblastn%C3%AD%20muzeum%20v%20Chomutov%C4%9B":MAILTO:sekretariat@muzeumchomutov.cz
END:VEVENT
BEGIN:VEVENT
DTSTART;TZID=Europe/Prague:20250427T170000
DTEND;TZID=Europe/Prague:20250427T170000
DTSTAMP:20260425T162852
CREATED:20250327T065818Z
LAST-MODIFIED:20250327T065818Z
UID:9649-1745773200-1745773200@visit.chomutov.cz
SUMMARY:ExperiPent: Koncert a křest alba
DESCRIPTION:Vokální těleso ExperiPent vystoupí v chomutovském klubu DOLE\, kde pokřtí své první album.
URL:https://visit.chomutov.cz/kalendar/experipent-koncert-a-krest-alba/
LOCATION:Klub Dole\, Kosmonautů 4554\, Chomutov\, 43001
CATEGORIES:koncert
ATTACH;FMTTYPE=image/jpeg:https://visit.chomutov.cz/wp-content/uploads/2025/03/Experipent-klub-Dole.jpg
END:VEVENT
BEGIN:VEVENT
DTSTART;TZID=Europe/Prague:20250430T190000
DTEND;TZID=Europe/Prague:20250430T190000
DTSTAMP:20260425T162852
CREATED:20250326T080207Z
LAST-MODIFIED:20250326T080207Z
UID:9465-1746039600-1746039600@visit.chomutov.cz
SUMMARY:Koncert skupiny Fragile
DESCRIPTION:FRAGILE je slovenská vokální skupina složená z výrazných pěveckých osobností\, které bez použití hudebních nástrojů\, tedy a cappella\, interpretují známé světové hity.
URL:https://visit.chomutov.cz/kalendar/koncert-skupiny-fragile/
LOCATION:Městské divadlo\, Boženy Němcové 552/32\, Chomutov
CATEGORIES:koncert
ATTACH;FMTTYPE=image/jpeg:https://visit.chomutov.cz/wp-content/uploads/2025/03/Fragile.jpg
END:VEVENT
BEGIN:VEVENT
DTSTART;TZID=Europe/Prague:20250506T190000
DTEND;TZID=Europe/Prague:20250506T190000
DTSTAMP:20260425T162852
CREATED:20250502T070354Z
LAST-MODIFIED:20250502T070354Z
UID:9779-1746558000-1746558000@visit.chomutov.cz
SUMMARY:Lenka Filipová - koncert
DESCRIPTION:Lenka Filipová česká zpěvačka\, šansoniérka\, kytaristka\, hudební skladatelka a textařka. „Kytara u nás doma ležela opřená o stěnu\, a tak jsem jí prostě vzala do ruky\, bylo mi 9 let“. Přelomové bylo setkání s francouzským písničkářem Francisem Cabrelem a píseň Zamilovaná\, kterou Cabrel složil a česky ji otextoval Zdeněk Rytíř\, píseň dodnes platí za její největší hit. Nikdy také zcela neopustila svoji původní profesi klasické sólové kytaristky\, což nakonec vyústilo v několik LP desek věnovaných pouze klasické kytarové hudbě. Příznivý ohlas měly i její písničky věnované dětskému publiku. To vše ji vyneslo až do první desítky v popularitě českých zpěvaček v anketě Zlatý slavík. Dostalo se jí i celé řady mezinárodních uznání a ocenění. V současné době se také nově věnuje hře na elektrofonickou kytaru. Hosté: Sean Barry – akordeon\, keltská harfa\, Jára Bárta – klavír\, el. piano.
URL:https://visit.chomutov.cz/kalendar/lenka-filipova-koncert-2/
LOCATION:Městské divadlo\, Boženy Němcové 552/32\, Chomutov
CATEGORIES:koncert
ATTACH;FMTTYPE=image/jpeg:https://visit.chomutov.cz/wp-content/uploads/2025/05/Filipova.jpg
END:VEVENT
END:VCALENDAR