BEGIN:VCALENDAR
VERSION:2.0
PRODID:-//Visit Chomutov - ECPv5.14.2.1//NONSGML v1.0//EN
CALSCALE:GREGORIAN
METHOD:PUBLISH
X-WR-CALNAME:Visit Chomutov
X-ORIGINAL-URL:https://visit.chomutov.cz
X-WR-CALDESC:Akce na Visit Chomutov
REFRESH-INTERVAL;VALUE=DURATION:PT1H
X-Robots-Tag:noindex
X-PUBLISHED-TTL:PT1H
BEGIN:VTIMEZONE
TZID:Europe/Prague
BEGIN:DAYLIGHT
TZOFFSETFROM:+0100
TZOFFSETTO:+0200
TZNAME:CEST
DTSTART:20240331T010000
END:DAYLIGHT
BEGIN:STANDARD
TZOFFSETFROM:+0200
TZOFFSETTO:+0100
TZNAME:CET
DTSTART:20241027T010000
END:STANDARD
END:VTIMEZONE
BEGIN:VEVENT
DTSTART;TZID=Europe/Prague:20240613T160000
DTEND;TZID=Europe/Prague:20240613T160000
DTSTAMP:20260425T052438
CREATED:20240529T131238Z
LAST-MODIFIED:20240529T131313Z
UID:7190-1718294400-1718294400@visit.chomutov.cz
SUMMARY:Koncert tří bandů
DESCRIPTION:vystoupí Big Band ZUŠ Teplice • Tequila Band ZUŠ Chomutov • OTTO Hejnic Trio & Osian Roberts
URL:https://visit.chomutov.cz/kalendar/koncert-tri-bandu-2/
LOCATION:ZUŠ T. G. Masaryka\, nám. T. G. Masaryka 1626\, Chomutov
CATEGORIES:koncert
ATTACH;FMTTYPE=image/jpeg:https://visit.chomutov.cz/wp-content/uploads/2024/05/Koncert-tri-bandu-page-001.jpg
END:VEVENT
BEGIN:VEVENT
DTSTART;TZID=Europe/Prague:20240615T180000
DTEND;TZID=Europe/Prague:20240615T200000
DTSTAMP:20260425T052438
CREATED:20240604T092622Z
LAST-MODIFIED:20240604T092622Z
UID:7261-1718474400-1718481600@visit.chomutov.cz
SUMMARY:Filmový koncert
DESCRIPTION:zábavné pěvecké\, taneční i divadelní představení divadla NaOko Chomutov
URL:https://visit.chomutov.cz/kalendar/filmovy-koncert/
LOCATION:Kulturní dům KASS\, Zahradní 5341\, Chomutov
CATEGORIES:koncert
ATTACH;FMTTYPE=image/jpeg:https://visit.chomutov.cz/wp-content/uploads/2022/11/naoko-logo.jpg
ORGANIZER;CN="Divadlo%20NaOko":MAILTO:info@divadlonaoko.cz
END:VEVENT
BEGIN:VEVENT
DTSTART;TZID=Europe/Prague:20240621T173000
DTEND;TZID=Europe/Prague:20240621T173000
DTSTAMP:20260425T052438
CREATED:20240604T085036Z
LAST-MODIFIED:20240604T085903Z
UID:7242-1718991000-1718991000@visit.chomutov.cz
SUMMARY:Oldies párty se skupinou Fontána
DESCRIPTION:
URL:https://visit.chomutov.cz/kalendar/oldies-party-se-skupinou-fontana/
LOCATION:Atrium\, nám. 1. máje\, Chomutov
CATEGORIES:koncert
ATTACH;FMTTYPE=image/jpeg:https://visit.chomutov.cz/wp-content/uploads/2024/06/Fontana-Oldies.jpg
END:VEVENT
BEGIN:VEVENT
DTSTART;TZID=Europe/Prague:20240621T200000
DTEND;TZID=Europe/Prague:20240621T200000
DTSTAMP:20260425T052438
CREATED:20240320T131314Z
LAST-MODIFIED:20240320T131314Z
UID:6556-1719000000-1719000000@visit.chomutov.cz
SUMMARY:Marie Rottrová - Lady Soul
DESCRIPTION:galakoncert
URL:https://visit.chomutov.cz/kalendar/marie-rottrova-lady-soul/
LOCATION:Letní kino\, Přemyslova 4752\, Chomutov
CATEGORIES:koncert
ATTACH;FMTTYPE=image/jpeg:https://visit.chomutov.cz/wp-content/uploads/2024/03/Marie-Rottrova-page-001-scaled.jpg
END:VEVENT
BEGIN:VEVENT
DTSTART;TZID=Europe/Prague:20240626T170000
DTEND;TZID=Europe/Prague:20240626T170000
DTSTAMP:20260425T052438
CREATED:20240621T075157Z
LAST-MODIFIED:20240621T075202Z
UID:7467-1719421200-1719421200@visit.chomutov.cz
SUMMARY:Koncert skladatelů
DESCRIPTION:
URL:https://visit.chomutov.cz/kalendar/koncert-skladatelu/
LOCATION:Kostel sv. Kateřiny\, Chelčického 100\, Chomutov
CATEGORIES:koncert
ATTACH;FMTTYPE=image/jpeg:https://visit.chomutov.cz/wp-content/uploads/2024/06/448630886_976106654311117_8657754573413364756_n.jpg
ORGANIZER;CN="Oblastn%C3%AD%20muzeum%20v%20Chomutov%C4%9B":MAILTO:sekretariat@muzeumchomutov.cz
END:VEVENT
BEGIN:VEVENT
DTSTART;TZID=Europe/Prague:20240630T180000
DTEND;TZID=Europe/Prague:20240630T190000
DTSTAMP:20260425T052438
CREATED:20240604T101859Z
LAST-MODIFIED:20240604T101859Z
UID:7280-1719770400-1719774000@visit.chomutov.cz
SUMMARY:Koncert klavírní třídy Lenky Novákové
DESCRIPTION:
URL:https://visit.chomutov.cz/kalendar/koncert-klavirni-tridy-lenky-novakove-2/
LOCATION:ZUŠ T. G. Masaryka\, nám. T. G. Masaryka 1626\, Chomutov
CATEGORIES:koncert
ATTACH;FMTTYPE=image/jpeg:https://visit.chomutov.cz/wp-content/uploads/2023/03/pexels-cottonbro-studio-4033340.jpg
END:VEVENT
BEGIN:VEVENT
DTSTART;VALUE=DATE:20240703
DTEND;VALUE=DATE:20240728
DTSTAMP:20260425T052438
CREATED:20240624T133936Z
LAST-MODIFIED:20240624T133940Z
UID:7511-1719964800-1722124799@visit.chomutov.cz
SUMMARY:Akce Zahradní restaurace divadla - červenec
DESCRIPTION:Každou středu a pátek od 18.00 h ODPOLEDNE S MUZIKOU\nKaždou sobotu od 15.00 h ZÁBAVNÉ ODPOLENDE PRO DĚTI A JEJICH RODIČE \n 
URL:https://visit.chomutov.cz/kalendar/akce-zahradni-restaurace-divadla-cervenec/
LOCATION:Zahradní restaurace u divadla\, Boženy Němcové 552/32\, Chomutov\, 43001
CATEGORIES:koncert,pro děti
ATTACH;FMTTYPE=image/jpeg:https://visit.chomutov.cz/wp-content/uploads/2024/06/Kulisarna.jpeg
END:VEVENT
BEGIN:VEVENT
DTSTART;TZID=Europe/Prague:20240703T190000
DTEND;TZID=Europe/Prague:20240703T190000
DTSTAMP:20260425T052438
CREATED:20240624T123512Z
LAST-MODIFIED:20240625T112237Z
UID:7477-1720033200-1720033200@visit.chomutov.cz
SUMMARY:Evropská letní filharmonie a sbor 2024
DESCRIPTION:CARL ORFF – CARMINA BURANA\,\numělecký vedoucí – Jiří KNOTTE\, sbormistr – Jiří HOLUBEC.\nÚčinkující umělci z České republiky\, Německa\, Polska\, Ukrajiny a Rakouska.
URL:https://visit.chomutov.cz/kalendar/evropska-letni-filharmonie-a-sbor-2024/
LOCATION:Letní kino\, Přemyslova 4752\, Chomutov
CATEGORIES:koncert
ATTACH;FMTTYPE=image/png:https://visit.chomutov.cz/wp-content/uploads/2024/06/filharminie.png
END:VEVENT
BEGIN:VEVENT
DTSTART;TZID=Europe/Prague:20240717T170000
DTEND;TZID=Europe/Prague:20240717T170000
DTSTAMP:20260425T052438
CREATED:20240624T132305Z
LAST-MODIFIED:20240712T083233Z
UID:7502-1721235600-1721235600@visit.chomutov.cz
SUMMARY:A-session
DESCRIPTION:společný dvojkoncert (irské písně v podání Arcus Irish Music a bluegrass kapely Album)
URL:https://visit.chomutov.cz/kalendar/a-session-2/
LOCATION:Atrium\, nám. 1. máje\, Chomutov
CATEGORIES:koncert
ATTACH;FMTTYPE=image/jpeg:https://visit.chomutov.cz/wp-content/uploads/2024/06/a-session-2024-scaled.jpg
END:VEVENT
BEGIN:VEVENT
DTSTART;TZID=Europe/Prague:20240803T183000
DTEND;TZID=Europe/Prague:20240830T000000
DTSTAMP:20260425T052438
CREATED:20240624T122711Z
LAST-MODIFIED:20240801T110507Z
UID:7475-1722709800-1724976000@visit.chomutov.cz
SUMMARY:Hudební večery ve Dřeváku na Kamencovém jezeře
DESCRIPTION:Každou středu a pátek: 3.\, 7.\, 9.\, 14.\, 16.\, 21.\, 23.\, 28. a 30. 8.
URL:https://visit.chomutov.cz/kalendar/hudebni-vecery-ve-drevaku-na-kamencovem-jezere/
LOCATION:Kamencové jezero\, Tomáše ze Štítného 5971\, Chomutov
CATEGORIES:koncert,zábavní pořady
ATTACH;FMTTYPE=image/jpeg:https://visit.chomutov.cz/wp-content/uploads/2023/06/4DB5FAF5-5B47-4BC7-AC35-0961A0AE39E5.jpg
END:VEVENT
BEGIN:VEVENT
DTSTART;TZID=Europe/Prague:20240807T163000
DTEND;TZID=Europe/Prague:20240828T180000
DTSTAMP:20260425T052438
CREATED:20240624T134546Z
LAST-MODIFIED:20240801T125310Z
UID:7519-1723048200-1724868000@visit.chomutov.cz
SUMMARY:Koncerty dechové hudby
DESCRIPTION:Každou středu od 16.30 do 18 hodin v hudebním altánu
URL:https://visit.chomutov.cz/kalendar/koncerty-dechove-hudby-2/
LOCATION:Městský park\, Čelakovského\, Chomutov
CATEGORIES:koncert
ATTACH;FMTTYPE=image/jpeg:https://visit.chomutov.cz/wp-content/uploads/2024/06/plakat-srpen-finale-scaled.jpg
ORGANIZER;CN="Statut%C3%A1rn%C3%AD%20m%C4%9Bsto%20Chomutov":MAILTO:infocentrum@chomutov.cz
END:VEVENT
BEGIN:VEVENT
DTSTART;TZID=Europe/Prague:20240816T190000
DTEND;TZID=Europe/Prague:20240816T190000
DTSTAMP:20260425T052438
CREATED:20240801T110827Z
LAST-MODIFIED:20240801T110935Z
UID:7570-1723834800-1723834800@visit.chomutov.cz
SUMMARY:Trubadúrka Sar
DESCRIPTION:koncert středověké hudby Hany Blochové
URL:https://visit.chomutov.cz/kalendar/trubadurka-sar-2/
LOCATION:Kostel sv. Kateřiny\, Chelčického 100\, Chomutov
CATEGORIES:koncert
ATTACH;FMTTYPE=image/jpeg:https://visit.chomutov.cz/wp-content/uploads/2022/05/DSC09775-HDR.jpg
ORGANIZER;CN="Oblastn%C3%AD%20muzeum%20v%20Chomutov%C4%9B":MAILTO:sekretariat@muzeumchomutov.cz
END:VEVENT
BEGIN:VEVENT
DTSTART;TZID=Europe/Prague:20240820T170000
DTEND;TZID=Europe/Prague:20240820T170000
DTSTAMP:20260425T052438
CREATED:20240801T111359Z
LAST-MODIFIED:20240801T111359Z
UID:7574-1724173200-1724173200@visit.chomutov.cz
SUMMARY:Koncert swingové hudby
DESCRIPTION:Big Band Zdenka Tölga
URL:https://visit.chomutov.cz/kalendar/koncert-swingove-hudby/
LOCATION:Atrium\, nám. 1. máje\, Chomutov
CATEGORIES:koncert
ATTACH;FMTTYPE=image/jpeg:https://visit.chomutov.cz/wp-content/uploads/2024/08/Big-band.jpg
END:VEVENT
BEGIN:VEVENT
DTSTART;TZID=Europe/Prague:20240821T200000
DTEND;TZID=Europe/Prague:20240821T200000
DTSTAMP:20260425T052438
CREATED:20240801T111750Z
LAST-MODIFIED:20240801T111750Z
UID:7577-1724270400-1724270400@visit.chomutov.cz
SUMMARY:Queen Symphonic Tribute Show
DESCRIPTION:koncert s písněmi kapely Queen v doprovodu symfonického orchestru
URL:https://visit.chomutov.cz/kalendar/queen-symphonic-tribute-show/
LOCATION:Letní kino\, Přemyslova 4752\, Chomutov
CATEGORIES:koncert
ATTACH;FMTTYPE=image/jpeg:https://visit.chomutov.cz/wp-content/uploads/2024/08/Queen-Symphonic-Tribute-Show.jpg
END:VEVENT
BEGIN:VEVENT
DTSTART;TZID=Europe/Prague:20240825T100000
DTEND;TZID=Europe/Prague:20240825T100000
DTSTAMP:20260425T052438
CREATED:20240801T111917Z
LAST-MODIFIED:20240801T111917Z
UID:7580-1724580000-1724580000@visit.chomutov.cz
SUMMARY:Country fest
DESCRIPTION:festival country\, bluegrass\, folk a trampské hudby
URL:https://visit.chomutov.cz/kalendar/country-fest-2/
LOCATION:Atrium\, nám. 1. máje\, Chomutov
CATEGORIES:koncert
ATTACH;FMTTYPE=image/jpeg:https://visit.chomutov.cz/wp-content/uploads/2024/08/country-2024-scaled.jpg
END:VEVENT
BEGIN:VEVENT
DTSTART;VALUE=DATE:20240829
DTEND;VALUE=DATE:20240901
DTSTAMP:20260425T052438
CREATED:20240801T112237Z
LAST-MODIFIED:20240801T112237Z
UID:7583-1724889600-1725148799@visit.chomutov.cz
SUMMARY:Moody Moon Noize Festival 5
DESCRIPTION:
URL:https://visit.chomutov.cz/kalendar/moody-moon-noize-festival-5/
CATEGORIES:koncert,zábavní pořady
ATTACH;FMTTYPE=image/jpeg:https://visit.chomutov.cz/wp-content/uploads/2024/08/mmn5-A3-2407-page-001-scaled.jpg
END:VEVENT
BEGIN:VEVENT
DTSTART;TZID=Europe/Prague:20240907T150000
DTEND;TZID=Europe/Prague:20240907T150000
DTSTAMP:20260425T052438
CREATED:20240830T080915Z
LAST-MODIFIED:20240830T080915Z
UID:7627-1725721200-1725721200@visit.chomutov.cz
SUMMARY:Indian Summer Open Air
DESCRIPTION:D o k r u h u\, Van Dam Band\, Yes Yes Good Good\, Bitches From Eden
URL:https://visit.chomutov.cz/kalendar/indian-summer-open-air-2/
LOCATION:Atrium\, nám. 1. máje\, Chomutov
CATEGORIES:koncert
ATTACH;FMTTYPE=image/jpeg:https://visit.chomutov.cz/wp-content/uploads/2024/08/Indian-Summer-scaled.jpg
END:VEVENT
BEGIN:VEVENT
DTSTART;TZID=Europe/Prague:20240910T160000
DTEND;TZID=Europe/Prague:20240910T160000
DTSTAMP:20260425T052438
CREATED:20240903T081542Z
LAST-MODIFIED:20240903T081542Z
UID:7690-1725984000-1725984000@visit.chomutov.cz
SUMMARY:Den horníků
DESCRIPTION:Koncert Dechového orchestru Severočeských dolů\, a.s. pod vedením Antonína Hurníka
URL:https://visit.chomutov.cz/kalendar/den-horniku/
LOCATION:Atrium\, nám. 1. máje\, Chomutov
CATEGORIES:koncert
ATTACH;FMTTYPE=image/jpeg:https://visit.chomutov.cz/wp-content/uploads/2022/09/P0030021.jpg
END:VEVENT
BEGIN:VEVENT
DTSTART;TZID=Europe/Prague:20240910T190000
DTEND;TZID=Europe/Prague:20240910T190000
DTSTAMP:20260425T052438
CREATED:20240903T082920Z
LAST-MODIFIED:20240903T083120Z
UID:7692-1725994800-1725994800@visit.chomutov.cz
SUMMARY:Ludovico Einaudi music
DESCRIPTION:klavírní koncert
URL:https://visit.chomutov.cz/kalendar/ludovico-einaudi-music/
LOCATION:Městské divadlo\, Boženy Němcové 552/32\, Chomutov
CATEGORIES:koncert
ATTACH;FMTTYPE=image/jpeg:https://visit.chomutov.cz/wp-content/uploads/2024/09/Ludovico-Einaudi.jpg
END:VEVENT
BEGIN:VEVENT
DTSTART;TZID=Europe/Prague:20240911T190000
DTEND;TZID=Europe/Prague:20240911T190000
DTSTAMP:20260425T052438
CREATED:20240903T083541Z
LAST-MODIFIED:20240903T083541Z
UID:7695-1726081200-1726081200@visit.chomutov.cz
SUMMARY:The Beatles - přednáška
DESCRIPTION:Dan Kubica nás během dvou hodin seznámí svým osobitě vyprávěným příběhem „slavné čtyřky“ s historií legendární skupiny The Beatles. Nebudou chybět ani ukázky z její tvorby.
URL:https://visit.chomutov.cz/kalendar/the-beatles-prednaska/
LOCATION:Prostor\, 28. října 1113/16\, Chomutov\, 43001
CATEGORIES:koncert,vzdělávání
ATTACH;FMTTYPE=image/jpeg:https://visit.chomutov.cz/wp-content/uploads/2024/09/Beatles.jpg
END:VEVENT
BEGIN:VEVENT
DTSTART;TZID=Europe/Prague:20240920T190000
DTEND;TZID=Europe/Prague:20240920T190000
DTSTAMP:20260425T052438
CREATED:20240910T062915Z
LAST-MODIFIED:20240910T062915Z
UID:7714-1726858800-1726858800@visit.chomutov.cz
SUMMARY:Horkýže Slíže a V3SKA
DESCRIPTION:
URL:https://visit.chomutov.cz/kalendar/horkyze-slize-a-v3ska/
LOCATION:Hřebíkárna\, Bezručova 5877\, Chomutov
CATEGORIES:koncert
ATTACH;FMTTYPE=image/jpeg:https://visit.chomutov.cz/wp-content/uploads/2024/09/Horkyze-slize-Hrebikarna.jpeg
END:VEVENT
BEGIN:VEVENT
DTSTART;TZID=Europe/Prague:20240921T190000
DTEND;TZID=Europe/Prague:20240921T190000
DTSTAMP:20260425T052438
CREATED:20240910T063826Z
LAST-MODIFIED:20240910T063826Z
UID:7727-1726945200-1726945200@visit.chomutov.cz
SUMMARY:Grande Moravia - Tenkrát na Západě
DESCRIPTION:koncert filmových melodií Ennia Morriconeho
URL:https://visit.chomutov.cz/kalendar/grande-moravia-tenkrat-na-zapade/
LOCATION:Městské divadlo\, Boženy Němcové 552/32\, Chomutov
CATEGORIES:koncert
ATTACH;FMTTYPE=image/jpeg:https://visit.chomutov.cz/wp-content/uploads/2024/09/Tenkrat-na-zapade.jpg
END:VEVENT
BEGIN:VEVENT
DTSTART;TZID=Europe/Prague:20240921T200000
DTEND;TZID=Europe/Prague:20240921T200000
DTSTAMP:20260425T052438
CREATED:20240910T064000Z
LAST-MODIFIED:20240910T064000Z
UID:7730-1726948800-1726948800@visit.chomutov.cz
SUMMARY:Green Småtroll
DESCRIPTION:
URL:https://visit.chomutov.cz/kalendar/green-smatroll/
LOCATION:Cafe 44\, Revoluční 44\, Chomutov\, 43001
CATEGORIES:koncert
ATTACH;FMTTYPE=image/png:https://visit.chomutov.cz/wp-content/uploads/2024/09/Green-Smatroll.png
END:VEVENT
BEGIN:VEVENT
DTSTART;TZID=Europe/Prague:20240926T190000
DTEND;TZID=Europe/Prague:20240926T190000
DTSTAMP:20260425T052438
CREATED:20240910T064634Z
LAST-MODIFIED:20240919T061823Z
UID:7739-1727377200-1727377200@visit.chomutov.cz
SUMMARY:Daniel Danko - Vzpomínky
DESCRIPTION:známé písně hudebních velikánů v podání ústeckého rodáka
URL:https://visit.chomutov.cz/kalendar/daniel-danko-vzpominky/
LOCATION:Městské divadlo\, Boženy Němcové 552/32\, Chomutov
CATEGORIES:koncert
ATTACH;FMTTYPE=image/jpeg:https://visit.chomutov.cz/wp-content/uploads/2024/09/Daniel-Danko.jpg
END:VEVENT
BEGIN:VEVENT
DTSTART;TZID=Europe/Prague:20240927T170000
DTEND;TZID=Europe/Prague:20240927T170000
DTSTAMP:20260425T052438
CREATED:20240910T065034Z
LAST-MODIFIED:20240910T065040Z
UID:7742-1727456400-1727456400@visit.chomutov.cz
SUMMARY:Josef Zíma - Bez písniček se žít nedá
DESCRIPTION:pořad plný známých písniček a povídání
URL:https://visit.chomutov.cz/kalendar/josef-zima-bez-pisnicek-se-zit-neda/
LOCATION:Městské divadlo\, Boženy Němcové 552/32\, Chomutov
CATEGORIES:koncert
ATTACH;FMTTYPE=image/jpeg:https://visit.chomutov.cz/wp-content/uploads/2024/09/Joseef-Zima.jpg
END:VEVENT
BEGIN:VEVENT
DTSTART;TZID=Europe/Prague:20240928T200000
DTEND;TZID=Europe/Prague:20240928T200000
DTSTAMP:20260425T052438
CREATED:20240910T063449Z
LAST-MODIFIED:20240910T063449Z
UID:7721-1727553600-1727553600@visit.chomutov.cz
SUMMARY:Kabát turné 35 let
DESCRIPTION:
URL:https://visit.chomutov.cz/kalendar/kabat-turne-35-let/
LOCATION:Rocknet Aréna – zimní stadion\, Mostecká 5773\, Chomutov
CATEGORIES:koncert
ATTACH;FMTTYPE=image/jpeg:https://visit.chomutov.cz/wp-content/uploads/2024/09/KABAT_TURNE_35__LET.jpg
END:VEVENT
BEGIN:VEVENT
DTSTART;TZID=Europe/Prague:20241008T190000
DTEND;TZID=Europe/Prague:20241008T190000
DTSTAMP:20260425T052438
CREATED:20241001T115314Z
LAST-MODIFIED:20241001T115314Z
UID:7828-1728414000-1728414000@visit.chomutov.cz
SUMMARY:Cello republic
DESCRIPTION:soubor složený ze čtyř violoncellistů hrajících populární hudbu
URL:https://visit.chomutov.cz/kalendar/cello-republic/
LOCATION:Městské divadlo\, Boženy Němcové 552/32\, Chomutov
CATEGORIES:koncert
ATTACH;FMTTYPE=image/jpeg:https://visit.chomutov.cz/wp-content/uploads/2024/10/Cello.jpeg
END:VEVENT
BEGIN:VEVENT
DTSTART;TZID=Europe/Prague:20241011T170000
DTEND;TZID=Europe/Prague:20241011T170000
DTSTAMP:20260425T052438
CREATED:20241001T120518Z
LAST-MODIFIED:20241001T120518Z
UID:7835-1728666000-1728666000@visit.chomutov.cz
SUMMARY:Potulní pěvci - koncert
DESCRIPTION:
URL:https://visit.chomutov.cz/kalendar/potulni-pevci-koncert/
LOCATION:Café Atrium\, Palackého 85\, Chomutov
CATEGORIES:koncert
ATTACH;FMTTYPE=image/jpeg:https://visit.chomutov.cz/wp-content/uploads/2024/10/Atrium-rijen.jpg
ORGANIZER;CN="Masopust%2C%20z.s.":MAILTO:info@masopustspolek.cz
END:VEVENT
BEGIN:VEVENT
DTSTART;TZID=Europe/Prague:20241011T190000
DTEND;TZID=Europe/Prague:20241011T190000
DTSTAMP:20260425T052438
CREATED:20241001T120938Z
LAST-MODIFIED:20241001T120938Z
UID:7837-1728673200-1728673200@visit.chomutov.cz
SUMMARY:Olympic - Trilogy Tour
DESCRIPTION:koncert legendární české skupiny
URL:https://visit.chomutov.cz/kalendar/olympic-trilogy-tour/
LOCATION:Městské divadlo\, Boženy Němcové 552/32\, Chomutov
CATEGORIES:koncert
ATTACH;FMTTYPE=image/png:https://visit.chomutov.cz/wp-content/uploads/2024/10/Olympic.png
END:VEVENT
BEGIN:VEVENT
DTSTART;TZID=Europe/Prague:20241015T190000
DTEND;TZID=Europe/Prague:20241015T190000
DTSTAMP:20260425T052438
CREATED:20241003T075722Z
LAST-MODIFIED:20241003T075722Z
UID:7862-1729018800-1729018800@visit.chomutov.cz
SUMMARY:Rok české hudby
DESCRIPTION:zahajovací koncert 34. sezony Festivalového orchestru Petra Macka\, vystoupí známý virtuos Václav Hudeček\, zazpívá Matěj Kotrba
URL:https://visit.chomutov.cz/kalendar/rok-ceske-hudby/
LOCATION:Městské divadlo\, Boženy Němcové 552/32\, Chomutov
CATEGORIES:koncert
ATTACH;FMTTYPE=image/jpeg:https://visit.chomutov.cz/wp-content/uploads/2024/10/Macek-page-001-scaled.jpg
END:VEVENT
END:VCALENDAR