BEGIN:VCALENDAR
VERSION:2.0
PRODID:-//Visit Chomutov - ECPv5.14.2.1//NONSGML v1.0//EN
CALSCALE:GREGORIAN
METHOD:PUBLISH
X-WR-CALNAME:Visit Chomutov
X-ORIGINAL-URL:https://visit.chomutov.cz
X-WR-CALDESC:Akce na Visit Chomutov
REFRESH-INTERVAL;VALUE=DURATION:PT1H
X-Robots-Tag:noindex
X-PUBLISHED-TTL:PT1H
BEGIN:VTIMEZONE
TZID:Europe/Prague
BEGIN:DAYLIGHT
TZOFFSETFROM:+0100
TZOFFSETTO:+0200
TZNAME:CEST
DTSTART:20240331T010000
END:DAYLIGHT
BEGIN:STANDARD
TZOFFSETFROM:+0200
TZOFFSETTO:+0100
TZNAME:CET
DTSTART:20241027T010000
END:STANDARD
END:VTIMEZONE
BEGIN:VEVENT
DTSTART;TZID=Europe/Prague:20240427T150000
DTEND;TZID=Europe/Prague:20240427T170000
DTSTAMP:20260425T011426
CREATED:20240318T152000Z
LAST-MODIFIED:20240422T094830Z
UID:6523-1714230000-1714237200@visit.chomutov.cz
SUMMARY:April open air
DESCRIPTION:Na přehlídku rockových kapel zavítají Noční klid\, D o k r u h u\, Jumpeck\, Bitches from Eden a Naposled Rock.
URL:https://visit.chomutov.cz/kalendar/april-open-air-2/
LOCATION:Atrium\, nám. 1. máje\, Chomutov
CATEGORIES:koncert
ATTACH;FMTTYPE=image/jpeg:https://visit.chomutov.cz/wp-content/uploads/2024/03/April_Open_Air_2024-scaled.jpg
END:VEVENT
BEGIN:VEVENT
DTSTART;TZID=Europe/Prague:20240501T200000
DTEND;TZID=Europe/Prague:20240501T200000
DTSTAMP:20260425T011426
CREATED:20240529T122044Z
LAST-MODIFIED:20240529T122044Z
UID:7160-1714593600-1714593600@visit.chomutov.cz
SUMMARY:Laco Déczi & Celula New York
DESCRIPTION:
URL:https://visit.chomutov.cz/kalendar/laco-deczi-celula-new-york-2/
LOCATION:Cafe 44\, Revoluční 44\, Chomutov\, 43001
CATEGORIES:koncert
ATTACH;FMTTYPE=image/jpeg:https://visit.chomutov.cz/wp-content/uploads/2024/05/Laco-Deczi-Cafe-44.jpg
END:VEVENT
BEGIN:VEVENT
DTSTART;TZID=Europe/Prague:20240503T180000
DTEND;TZID=Europe/Prague:20240503T180000
DTSTAMP:20260425T011426
CREATED:20240429T064538Z
LAST-MODIFIED:20240429T064538Z
UID:6792-1714759200-1714759200@visit.chomutov.cz
SUMMARY:4.CENOVÁ - k poslechu
DESCRIPTION:
URL:https://visit.chomutov.cz/kalendar/4-cenova-k-poslechu/
LOCATION:Zahradní restaurace u divadla\, Boženy Němcové 552/32\, Chomutov\, 43001
CATEGORIES:koncert
ATTACH;FMTTYPE=image/jpeg:https://visit.chomutov.cz/wp-content/uploads/2024/04/Zahradni-restaurace-kveten.jpg
END:VEVENT
BEGIN:VEVENT
DTSTART;TZID=Europe/Prague:20240503T200000
DTEND;TZID=Europe/Prague:20240503T200000
DTSTAMP:20260425T011426
CREATED:20240429T065138Z
LAST-MODIFIED:20240429T065144Z
UID:6794-1714766400-1714766400@visit.chomutov.cz
SUMMARY:The Valentines a Jumpeck - koncert
DESCRIPTION:Zahajujeme letní sezónu! Nová letní scéna před Kaféčkem přivítá pod hlavičkou Večerů jinak indie popové The Valentines a útok bílých županů Jumpeck.
URL:https://visit.chomutov.cz/kalendar/the-valentines-a-jumpeck-koncert/
LOCATION:Cafe 44\, Revoluční 44\, Chomutov\, 43001
CATEGORIES:koncert
ATTACH;FMTTYPE=image/jpeg:https://visit.chomutov.cz/wp-content/uploads/2024/04/The-Valentines.jpg
END:VEVENT
BEGIN:VEVENT
DTSTART;TZID=Europe/Prague:20240506T160000
DTEND;TZID=Europe/Prague:20240506T160000
DTSTAMP:20260425T011426
CREATED:20240429T121732Z
LAST-MODIFIED:20240429T121732Z
UID:6831-1715011200-1715011200@visit.chomutov.cz
SUMMARY:Třídní koncert M. Kubíkové
DESCRIPTION:
URL:https://visit.chomutov.cz/kalendar/tridni-koncert-m-kubikove/
LOCATION:ZUŠ T. G. Masaryka\, nám. T. G. Masaryka 1626\, Chomutov
CATEGORIES:koncert
ATTACH;FMTTYPE=image/jpeg:https://visit.chomutov.cz/wp-content/uploads/2024/04/pexels-kaip-1128440.jpg
END:VEVENT
BEGIN:VEVENT
DTSTART;TZID=Europe/Prague:20240507T180000
DTEND;TZID=Europe/Prague:20240507T180000
DTSTAMP:20260425T011426
CREATED:20230502T101701Z
LAST-MODIFIED:20240429T122431Z
UID:3763-1715104800-1715104800@visit.chomutov.cz
SUMMARY:Saiwala - koncert
DESCRIPTION:
URL:https://visit.chomutov.cz/kalendar/saiwala-koncert-2/
LOCATION:Café Atrium\, Palackého 85\, Chomutov
CATEGORIES:koncert
ATTACH;FMTTYPE=image/jpeg:https://visit.chomutov.cz/wp-content/uploads/2023/01/Siawala-logo.jpg
ORGANIZER;CN="Masopust%2C%20z.s.":MAILTO:info@masopustspolek.cz
END:VEVENT
BEGIN:VEVENT
DTSTART;TZID=Europe/Prague:20240507T180000
DTEND;TZID=Europe/Prague:20240507T190000
DTSTAMP:20260425T011426
CREATED:20240429T122526Z
LAST-MODIFIED:20240429T122526Z
UID:6836-1715104800-1715108400@visit.chomutov.cz
SUMMARY:Klavírní koncert - sestry Gillovy
DESCRIPTION:
URL:https://visit.chomutov.cz/kalendar/klavirni-koncert-sestry-gillovy/
LOCATION:ZUŠ T. G. Masaryka\, nám. T. G. Masaryka 1626\, Chomutov
CATEGORIES:koncert
ATTACH;FMTTYPE=image/jpeg:https://visit.chomutov.cz/wp-content/uploads/2023/03/pexels-cottonbro-studio-4033340.jpg
END:VEVENT
BEGIN:VEVENT
DTSTART;TZID=Europe/Prague:20240507T190000
DTEND;TZID=Europe/Prague:20240507T190000
DTSTAMP:20260425T011426
CREATED:20240429T124717Z
LAST-MODIFIED:20240429T124717Z
UID:6846-1715108400-1715108400@visit.chomutov.cz
SUMMARY:Rok české hudby
DESCRIPTION:Festivalový orchestr Petra Macka\, Festivalový sbor a Clavis Cordium. Dirigent Martin Peschík
URL:https://visit.chomutov.cz/kalendar/rek-ceske-hudby/
LOCATION:Městské divadlo\, Boženy Němcové 552/32\, Chomutov
CATEGORIES:koncert
ATTACH;FMTTYPE=image/jpeg:https://visit.chomutov.cz/wp-content/uploads/2024/04/Rok-ceske-hudby-Macek.jpg
END:VEVENT
BEGIN:VEVENT
DTSTART;TZID=Europe/Prague:20240508T180000
DTEND;TZID=Europe/Prague:20240508T180000
DTSTAMP:20260425T011426
CREATED:20240429T125108Z
LAST-MODIFIED:20240429T125108Z
UID:6849-1715191200-1715191200@visit.chomutov.cz
SUMMARY:KAPELA TWO-EX - k poslechu
DESCRIPTION:
URL:https://visit.chomutov.cz/kalendar/kapela-two-ex-k-poslechu/
LOCATION:Zahradní restaurace u divadla\, Boženy Němcové 552/32\, Chomutov\, 43001
CATEGORIES:koncert
ATTACH;FMTTYPE=image/jpeg:https://visit.chomutov.cz/wp-content/uploads/2024/04/Zahradni-restaurace-kveten.jpg
END:VEVENT
BEGIN:VEVENT
DTSTART;TZID=Europe/Prague:20240510T180000
DTEND;TZID=Europe/Prague:20240510T180000
DTSTAMP:20260425T011426
CREATED:20240429T140518Z
LAST-MODIFIED:20240429T140523Z
UID:6858-1715364000-1715364000@visit.chomutov.cz
SUMMARY:4.CENOVÁ - k poslechu
DESCRIPTION:
URL:https://visit.chomutov.cz/kalendar/4-cenova-k-poslechu-2/
LOCATION:Zahradní restaurace u divadla\, Boženy Němcové 552/32\, Chomutov\, 43001
CATEGORIES:koncert
ATTACH;FMTTYPE=image/jpeg:https://visit.chomutov.cz/wp-content/uploads/2024/04/Zahradni-restaurace-kveten.jpg
END:VEVENT
BEGIN:VEVENT
DTSTART;TZID=Europe/Prague:20240512T160000
DTEND;TZID=Europe/Prague:20240512T160000
DTSTAMP:20260425T011426
CREATED:20240416T082721Z
LAST-MODIFIED:20240416T082721Z
UID:6745-1715529600-1715529600@visit.chomutov.cz
SUMMARY:Jarní koncert
DESCRIPTION:Vystoupí pěvecké sbory pod vedením Aleny Grée. Zazpívají dětský sbor Sluníčko a smíšený sbor NA-HLAS!
URL:https://visit.chomutov.cz/kalendar/jarni-koncert-2/
LOCATION:Galerie Lurago\, Palackého 85\, Chomutov
CATEGORIES:koncert
ATTACH;FMTTYPE=image/png:https://visit.chomutov.cz/wp-content/uploads/2024/04/Nahlas.png
END:VEVENT
BEGIN:VEVENT
DTSTART;TZID=Europe/Prague:20240513T170000
DTEND;TZID=Europe/Prague:20240513T180000
DTSTAMP:20260425T011426
CREATED:20240429T151453Z
LAST-MODIFIED:20240429T151652Z
UID:6905-1715619600-1715623200@visit.chomutov.cz
SUMMARY:Třídní koncert S. Müllerové
DESCRIPTION:
URL:https://visit.chomutov.cz/kalendar/tridni-koncert-s-mullerove/
LOCATION:ZUŠ T. G. Masaryka\, nám. T. G. Masaryka 1626\, Chomutov
CATEGORIES:koncert
ATTACH;FMTTYPE=image/jpeg:https://visit.chomutov.cz/wp-content/uploads/2023/01/pexels-buchkiste-4841308.jpg
END:VEVENT
BEGIN:VEVENT
DTSTART;TZID=Europe/Prague:20240514T180000
DTEND;TZID=Europe/Prague:20240514T190000
DTSTAMP:20260425T011426
CREATED:20240429T151148Z
LAST-MODIFIED:20240429T151148Z
UID:6903-1715709600-1715713200@visit.chomutov.cz
SUMMARY:Koncert klavírních souborů
DESCRIPTION:
URL:https://visit.chomutov.cz/kalendar/koncert-klavirnich-souboru-3/
LOCATION:ZUŠ T. G. Masaryka\, nám. T. G. Masaryka 1626\, Chomutov
CATEGORIES:koncert
ATTACH;FMTTYPE=image/jpeg:https://visit.chomutov.cz/wp-content/uploads/2023/03/pexels-cottonbro-studio-4033340.jpg
END:VEVENT
BEGIN:VEVENT
DTSTART;TZID=Europe/Prague:20240515T180000
DTEND;TZID=Europe/Prague:20240515T190000
DTSTAMP:20260425T011426
CREATED:20240429T151752Z
LAST-MODIFIED:20240429T151752Z
UID:6907-1715796000-1715799600@visit.chomutov.cz
SUMMARY:My jsme malí muzikanti
DESCRIPTION:
URL:https://visit.chomutov.cz/kalendar/my-jsme-mali-muzikanti-3/
LOCATION:ZUŠ T. G. Masaryka\, nám. T. G. Masaryka 1626\, Chomutov
CATEGORIES:koncert
ATTACH;FMTTYPE=image/jpeg:https://visit.chomutov.cz/wp-content/uploads/2023/01/pexels-buchkiste-4841308.jpg
END:VEVENT
BEGIN:VEVENT
DTSTART;TZID=Europe/Prague:20240515T190000
DTEND;TZID=Europe/Prague:20240515T190000
DTSTAMP:20260425T011426
CREATED:20230131T102138Z
LAST-MODIFIED:20240429T142005Z
UID:3198-1715799600-1715799600@visit.chomutov.cz
SUMMARY:4 Tenoři
DESCRIPTION:Účinkují: Marian Vojtko\, Pavel Vítek\, Jan Kříž a Michal Bragagnolo
URL:https://visit.chomutov.cz/kalendar/4-tenori/
LOCATION:Městské divadlo\, Boženy Němcové 552/32\, Chomutov
CATEGORIES:koncert
ATTACH;FMTTYPE=image/jpeg:https://visit.chomutov.cz/wp-content/uploads/2023/01/4-tenori.jpg
END:VEVENT
BEGIN:VEVENT
DTSTART;TZID=Europe/Prague:20240517T170000
DTEND;TZID=Europe/Prague:20240517T170000
DTSTAMP:20260425T011426
CREATED:20240429T142312Z
LAST-MODIFIED:20240429T142312Z
UID:6870-1715965200-1715965200@visit.chomutov.cz
SUMMARY:Mňága & Žďorp
DESCRIPTION:
URL:https://visit.chomutov.cz/kalendar/mnaga-zdorp/
LOCATION:Cafe 44\, Revoluční 44\, Chomutov\, 43001
CATEGORIES:koncert
ATTACH;FMTTYPE=image/jpeg:https://visit.chomutov.cz/wp-content/uploads/2024/04/mnaga-a-zdorp.jpg
END:VEVENT
BEGIN:VEVENT
DTSTART;TZID=Europe/Prague:20240517T170000
DTEND;TZID=Europe/Prague:20240517T190000
DTSTAMP:20260425T011426
CREATED:20240429T151101Z
LAST-MODIFIED:20240429T151101Z
UID:6900-1715965200-1715972400@visit.chomutov.cz
SUMMARY:Paleta fléten a klarinetů
DESCRIPTION:
URL:https://visit.chomutov.cz/kalendar/paleta-fleten-a-klarinetu/
LOCATION:ZUŠ T. G. Masaryka\, nám. T. G. Masaryka 1626\, Chomutov
CATEGORIES:koncert
ATTACH;FMTTYPE=image/jpeg:https://visit.chomutov.cz/wp-content/uploads/2024/04/pexels-shkrabaanthony-7970105.jpg
END:VEVENT
BEGIN:VEVENT
DTSTART;TZID=Europe/Prague:20240517T200000
DTEND;TZID=Europe/Prague:20240517T200000
DTSTAMP:20260425T011426
CREATED:20240311T093426Z
LAST-MODIFIED:20240311T093426Z
UID:6443-1715976000-1715976000@visit.chomutov.cz
SUMMARY:Kultura pod hvězdami - Děti ráje
DESCRIPTION:Výpravná koncertní verze nejúspěšnějšího českého muzikálu Děti ráje v rytmu písní Michala Davida.
URL:https://visit.chomutov.cz/kalendar/kultura-pod-hvezdami-deti-raje/
LOCATION:Letní kino\, Přemyslova 4752\, Chomutov
CATEGORIES:koncert
ATTACH;FMTTYPE=image/jpeg:https://visit.chomutov.cz/wp-content/uploads/2023/05/deti-raje.jpg
END:VEVENT
BEGIN:VEVENT
DTSTART;TZID=Europe/Prague:20240518T200000
DTEND;TZID=Europe/Prague:20240518T200000
DTSTAMP:20260425T011426
CREATED:20240311T093806Z
LAST-MODIFIED:20240311T093806Z
UID:6445-1716062400-1716062400@visit.chomutov.cz
SUMMARY:Kultura pod hvězdami - Muzikál naruby
DESCRIPTION:Koncertní zábavná show naplněná těmi největšími hity z českých i světových muzikálů. Přední čeští zpěváci a muzikáloví herci Josef Vágner\, Jan Kopečný a Petr Ryšavý zpívají hity nejen z tradičních muzikálů jako jsou Bídníci\, Kleopatra\, Angelika\, Tři mušketýři. V programu zní ty největší hity W. Matušky\, V. Neckáře\, kapely Lucie\, J. Ledeckého\, K. Gotta\, M. Davida\, H. Vondráčkové\, L. Bílé a dalších.
URL:https://visit.chomutov.cz/kalendar/kultura-pod-hvezdami-muzikal-naruby/
LOCATION:Letní kino\, Přemyslova 4752\, Chomutov
CATEGORIES:koncert
ATTACH;FMTTYPE=image/png:https://visit.chomutov.cz/wp-content/uploads/2024/03/Muzikal-naruby.png
END:VEVENT
BEGIN:VEVENT
DTSTART;TZID=Europe/Prague:20240519T200000
DTEND;TZID=Europe/Prague:20240519T200000
DTSTAMP:20260425T011426
CREATED:20240311T094345Z
LAST-MODIFIED:20240405T074730Z
UID:6451-1716148800-1716148800@visit.chomutov.cz
SUMMARY:Kultura pod hvězdami - Noc na Karlštejně
DESCRIPTION:Hra plná vtipných dialogů\, známých hitů a romantických zvratů. Příběh nám ukazuje sílu lásky\, která dokáže překonat i nejtvrdší zákazy.
URL:https://visit.chomutov.cz/kalendar/kultura-pod-hvezdami-noc-na-karlstejne/
LOCATION:Letní kino\, Přemyslova 4752\, Chomutov
CATEGORIES:koncert
ATTACH;FMTTYPE=image/jpeg:https://visit.chomutov.cz/wp-content/uploads/2024/03/Noc-na-Karlstejne.jpg
END:VEVENT
BEGIN:VEVENT
DTSTART;TZID=Europe/Prague:20240521T150000
DTEND;TZID=Europe/Prague:20240521T150000
DTSTAMP:20260425T011426
CREATED:20240416T084241Z
LAST-MODIFIED:20240416T084241Z
UID:6754-1716303600-1716303600@visit.chomutov.cz
SUMMARY:Mateřinkové písňobraní
DESCRIPTION:Přehlídka pěveckých sborů mateřských škol.
URL:https://visit.chomutov.cz/kalendar/materinkove-pisnobrani-2/
LOCATION:Atrium\, nám. 1. máje\, Chomutov
CATEGORIES:koncert,pro děti
ATTACH;FMTTYPE=image/jpeg:https://visit.chomutov.cz/wp-content/uploads/2023/06/DSC04620.jpg
END:VEVENT
BEGIN:VEVENT
DTSTART;TZID=Europe/Prague:20240522T180000
DTEND;TZID=Europe/Prague:20240522T190000
DTSTAMP:20260425T011426
CREATED:20240429T151832Z
LAST-MODIFIED:20240429T151832Z
UID:6909-1716400800-1716404400@visit.chomutov.cz
SUMMARY:Koncert klavírní třídy Lenky Novákové
DESCRIPTION:
URL:https://visit.chomutov.cz/kalendar/koncert-klavirni-tridy-lenky-novakove/
LOCATION:ZUŠ T. G. Masaryka\, nám. T. G. Masaryka 1626\, Chomutov
CATEGORIES:koncert
ATTACH;FMTTYPE=image/jpeg:https://visit.chomutov.cz/wp-content/uploads/2023/03/pexels-cottonbro-studio-4033340.jpg
END:VEVENT
BEGIN:VEVENT
DTSTART;TZID=Europe/Prague:20240527T180000
DTEND;TZID=Europe/Prague:20240527T190000
DTSTAMP:20260425T011426
CREATED:20240429T150847Z
LAST-MODIFIED:20240429T150847Z
UID:6898-1716832800-1716836400@visit.chomutov.cz
SUMMARY:Májový koncert "BeTon"
DESCRIPTION:
URL:https://visit.chomutov.cz/kalendar/majovy-koncert-beton/
LOCATION:ZUŠ T. G. Masaryka\, nám. T. G. Masaryka 1626\, Chomutov
CATEGORIES:koncert
ATTACH;FMTTYPE=image/jpeg:https://visit.chomutov.cz/wp-content/uploads/2023/03/pexels-cottonbro-studio-4033340.jpg
END:VEVENT
BEGIN:VEVENT
DTSTART;TZID=Europe/Prague:20240528T190000
DTEND;TZID=Europe/Prague:20240528T190000
DTSTAMP:20260425T011426
CREATED:20240416T084543Z
LAST-MODIFIED:20240416T084543Z
UID:6756-1716922800-1716922800@visit.chomutov.cz
SUMMARY:Hudební festival Ludwiga van Beethovena
DESCRIPTION:Se skladbami Franze Schuberta\, Bedřicha Smetany a Ludwiga van Beethovena se představí Heroldovo kvarteto.
URL:https://visit.chomutov.cz/kalendar/hudebni-festival-ludwiga-van-beethovena-2/
LOCATION:Kostel sv. Ignáce\, nám. 1. máje\, Chomutov
CATEGORIES:koncert
ATTACH;FMTTYPE=image/jpeg:https://visit.chomutov.cz/wp-content/uploads/2024/04/Beethoven-festival.jpg
END:VEVENT
BEGIN:VEVENT
DTSTART;TZID=Europe/Prague:20240530T180000
DTEND;TZID=Europe/Prague:20240530T180000
DTSTAMP:20260425T011426
CREATED:20240429T144107Z
LAST-MODIFIED:20240429T144107Z
UID:6881-1717092000-1717092000@visit.chomutov.cz
SUMMARY:Smetana 200
DESCRIPTION:koncert ZUŠ Klementa Slavického Kadaň k 200. výročí narození Bedřicha Smetany
URL:https://visit.chomutov.cz/kalendar/smetana-200/
LOCATION:Galerie Lurago\, Palackého 85\, Chomutov
CATEGORIES:koncert
ATTACH;FMTTYPE=image/png:https://visit.chomutov.cz/wp-content/uploads/2024/04/Smetana-200.png
END:VEVENT
BEGIN:VEVENT
DTSTART;TZID=Europe/Prague:20240530T190000
DTEND;TZID=Europe/Prague:20240530T190000
DTSTAMP:20260425T011426
CREATED:20240429T144551Z
LAST-MODIFIED:20240429T144551Z
UID:6884-1717095600-1717095600@visit.chomutov.cz
SUMMARY:Gabriela Beňačková se loučí
DESCRIPTION:rozlučkové turné legendární sopranistky. Host Jakub Pustina (tenor)
URL:https://visit.chomutov.cz/kalendar/gabriela-benackova-se-louci/
LOCATION:Městské divadlo\, Boženy Němcové 552/32\, Chomutov
CATEGORIES:koncert
ATTACH;FMTTYPE=image/jpeg:https://visit.chomutov.cz/wp-content/uploads/2024/04/benackova-se-louci.jpg
END:VEVENT
BEGIN:VEVENT
DTSTART;VALUE=DATE:20240605
DTEND;VALUE=DATE:20240701
DTSTAMP:20260425T011426
CREATED:20240604T102543Z
LAST-MODIFIED:20240604T102543Z
UID:7288-1717545600-1719791999@visit.chomutov.cz
SUMMARY:Akce Zahradní restaurace divadla
DESCRIPTION:5.\, 8.\, 12.\, 15.\, 19.\, 22.\, 26. a 29.6. od 18.00 h ODPOLEDNE S MUZIKOU\n9.\, 16.\, 23. a 30.6. od 15.00 h ZÁBAVNÉ ODPOLENDE PRO DĚTI A JEJICH RODIČE \n 
URL:https://visit.chomutov.cz/kalendar/akce-zahradni-restaurace-divadla/
LOCATION:Zahradní restaurace u divadla\, Boženy Němcové 552/32\, Chomutov\, 43001
CATEGORIES:koncert,pro děti
ATTACH;FMTTYPE=image/jpeg:https://visit.chomutov.cz/wp-content/uploads/2024/04/Divadelni-zahradni-restaurace-cerven-e1717496727893.jpg
END:VEVENT
BEGIN:VEVENT
DTSTART;TZID=Europe/Prague:20240605T170000
DTEND;TZID=Europe/Prague:20240605T170000
DTSTAMP:20260425T011426
CREATED:20240529T122436Z
LAST-MODIFIED:20240529T122436Z
UID:7163-1717606800-1717606800@visit.chomutov.cz
SUMMARY:Rebelové
DESCRIPTION:muzikál v nastudování ZUŠ T. G. Masaryka Chomutov
URL:https://visit.chomutov.cz/kalendar/rebelove/
LOCATION:Městské divadlo\, Boženy Němcové 552/32\, Chomutov
CATEGORIES:koncert
ATTACH;FMTTYPE=image/jpeg:https://visit.chomutov.cz/wp-content/uploads/2024/05/Rebelove-plakat-5.6.2024-page-001.jpg
END:VEVENT
BEGIN:VEVENT
DTSTART;VALUE=DATE:20240607
DTEND;VALUE=DATE:20240626
DTSTAMP:20260425T011426
CREATED:20240529T123703Z
LAST-MODIFIED:20240529T123734Z
UID:7170-1717718400-1719359999@visit.chomutov.cz
SUMMARY:Otevřeno 2024
DESCRIPTION:multižánrový festival
URL:https://visit.chomutov.cz/kalendar/otevreno-2024/
CATEGORIES:divadlo,koncert,vzdělávání,zábavní pořady
ATTACH;FMTTYPE=image/jpeg:https://visit.chomutov.cz/wp-content/uploads/2024/05/Otevreno-2024.jpg
END:VEVENT
BEGIN:VEVENT
DTSTART;TZID=Europe/Prague:20240607T170000
DTEND;TZID=Europe/Prague:20240607T170000
DTSTAMP:20260425T011426
CREATED:20240530T083041Z
LAST-MODIFIED:20240530T083046Z
UID:7215-1717779600-1717779600@visit.chomutov.cz
SUMMARY:Hřebejkárna
DESCRIPTION:Další ročník tradičně vyprodaného punk-rock festivalu v areálu Hřebíkárna v Chomutově.
URL:https://visit.chomutov.cz/kalendar/hrebejkarna/
LOCATION:Hřebíkárna\, Bezručova 5877\, Chomutov
CATEGORIES:koncert
ATTACH;FMTTYPE=image/jpeg:https://visit.chomutov.cz/wp-content/uploads/2024/05/Hrebejkarna.jpg
END:VEVENT
END:VCALENDAR