BEGIN:VCALENDAR
VERSION:2.0
PRODID:-//Visit Chomutov - ECPv5.14.2.1//NONSGML v1.0//EN
CALSCALE:GREGORIAN
METHOD:PUBLISH
X-WR-CALNAME:Visit Chomutov
X-ORIGINAL-URL:https://visit.chomutov.cz
X-WR-CALDESC:Akce na Visit Chomutov
REFRESH-INTERVAL;VALUE=DURATION:PT1H
X-Robots-Tag:noindex
X-PUBLISHED-TTL:PT1H
BEGIN:VTIMEZONE
TZID:Europe/Prague
BEGIN:DAYLIGHT
TZOFFSETFROM:+0100
TZOFFSETTO:+0200
TZNAME:CEST
DTSTART:20260329T010000
END:DAYLIGHT
BEGIN:STANDARD
TZOFFSETFROM:+0200
TZOFFSETTO:+0100
TZNAME:CET
DTSTART:20261025T010000
END:STANDARD
END:VTIMEZONE
BEGIN:VEVENT
DTSTART;TZID=Europe/Prague:20260303T190000
DTEND;TZID=Europe/Prague:20260303T190000
DTSTAMP:20260420T190915
CREATED:20260227T131449Z
LAST-MODIFIED:20260227T131449Z
UID:12037-1772564400-1772564400@visit.chomutov.cz
SUMMARY:Pocta Haně Hegerové
DESCRIPTION:koncert s písněmi české šansoniérky
URL:https://visit.chomutov.cz/kalendar/pocta-hane-hegerove/
LOCATION:Městské divadlo\, Boženy Němcové 552/32\, Chomutov
CATEGORIES:koncert
ATTACH;FMTTYPE=image/png:https://visit.chomutov.cz/wp-content/uploads/2026/02/pocta-hane-hegerove.png
END:VEVENT
BEGIN:VEVENT
DTSTART;TZID=Europe/Prague:20260311T190000
DTEND;TZID=Europe/Prague:20260311T190000
DTSTAMP:20260420T190915
CREATED:20260303T080710Z
LAST-MODIFIED:20260303T080710Z
UID:12068-1773255600-1773255600@visit.chomutov.cz
SUMMARY:Hudba Coldplay při svíčkách
DESCRIPTION:koncert smyčcového kvarteta
URL:https://visit.chomutov.cz/kalendar/hudba-coldplay-pri-svickach/
LOCATION:Městské divadlo\, Boženy Němcové 552/32\, Chomutov
CATEGORIES:koncert
ATTACH;FMTTYPE=image/jpeg:https://visit.chomutov.cz/wp-content/uploads/2026/03/Hudba-Coldplay-pri-svickach.jpg
END:VEVENT
BEGIN:VEVENT
DTSTART;TZID=Europe/Prague:20260316T190000
DTEND;TZID=Europe/Prague:20260316T190000
DTSTAMP:20260420T190915
CREATED:20260303T080931Z
LAST-MODIFIED:20260303T080931Z
UID:12071-1773687600-1773687600@visit.chomutov.cz
SUMMARY:Jarní koncert Festivalového orchestru Petra Macka
DESCRIPTION:
URL:https://visit.chomutov.cz/kalendar/jarni-koncert-festivaloveho-orchestru-petra-macka/
LOCATION:Městské divadlo\, Boženy Němcové 552/32\, Chomutov
CATEGORIES:koncert
ATTACH;FMTTYPE=image/jpeg:https://visit.chomutov.cz/wp-content/uploads/2026/03/MMMM-Plakat-3-2026-Chomutov-scaled.jpg
END:VEVENT
BEGIN:VEVENT
DTSTART;TZID=Europe/Prague:20260318T190000
DTEND;TZID=Europe/Prague:20260318T190000
DTSTAMP:20260420T190915
CREATED:20260303T083915Z
LAST-MODIFIED:20260303T083915Z
UID:12092-1773860400-1773860400@visit.chomutov.cz
SUMMARY:Souboj klavírů
DESCRIPTION:Ondřej G. Brzobohatý a Ondřej Brousek v originálním klavírním programu
URL:https://visit.chomutov.cz/kalendar/souboj-klaviru/
LOCATION:Městské divadlo\, Boženy Němcové 552/32\, Chomutov
CATEGORIES:koncert
ATTACH;FMTTYPE=image/jpeg:https://visit.chomutov.cz/wp-content/uploads/2026/03/Souboj-klaviru.jpg
END:VEVENT
BEGIN:VEVENT
DTSTART;TZID=Europe/Prague:20260320T200000
DTEND;TZID=Europe/Prague:20260320T230000
DTSTAMP:20260420T190915
CREATED:20260303T084504Z
LAST-MODIFIED:20260303T084504Z
UID:12098-1774036800-1774047600@visit.chomutov.cz
SUMMARY:Dymytry & Arakain - Best rock tour 2026
DESCRIPTION:Dymytry a Arakain vyrážejí na společnou tour po České republice. 
URL:https://visit.chomutov.cz/kalendar/dymytry-arakain-best-rock-tour-2026/
LOCATION:Městská sportovní hala\, Mánesova 4980\, Chomutov
CATEGORIES:koncert
ATTACH;FMTTYPE=image/png:https://visit.chomutov.cz/wp-content/uploads/2026/03/Dymytry-a-Arakain.png
END:VEVENT
BEGIN:VEVENT
DTSTART;TZID=Europe/Prague:20260328T170000
DTEND;TZID=Europe/Prague:20260328T170000
DTSTAMP:20260420T190915
CREATED:20260303T085027Z
LAST-MODIFIED:20260303T085027Z
UID:12106-1774717200-1774717200@visit.chomutov.cz
SUMMARY:Vítání jara s Madrigalem
DESCRIPTION:koncert vokálně instrumentální skupiny Madrigal
URL:https://visit.chomutov.cz/kalendar/vitani-jara-s-madrigalem-4/
LOCATION:Galerie Lurago\, Palackého 85\, Chomutov
CATEGORIES:koncert
ATTACH;FMTTYPE=image/jpeg:https://visit.chomutov.cz/wp-content/uploads/2026/03/Madrigal-2026-scaled.jpg
END:VEVENT
BEGIN:VEVENT
DTSTART;TZID=Europe/Prague:20260328T200000
DTEND;TZID=Europe/Prague:20260328T200000
DTSTAMP:20260420T190915
CREATED:20260303T085658Z
LAST-MODIFIED:20260303T085713Z
UID:12113-1774728000-1774728000@visit.chomutov.cz
SUMMARY:Konzert 28
DESCRIPTION:vystoupí Hothouse\, Stres a Dokruhu
URL:https://visit.chomutov.cz/kalendar/konzert-28/
LOCATION:Music club Huháč\, 28. října 1068/13\, Chomutov\, 43001\, Česká republika
CATEGORIES:koncert
ATTACH;FMTTYPE=image/jpeg:https://visit.chomutov.cz/wp-content/uploads/2026/03/konzert-28-hothouse-stres-dokruhu.jpg
ORGANIZER;CN="Kuprosp%C4%9Bchu%2C%20z.%20s.":MAILTO:info@kuprospechu.org
END:VEVENT
END:VCALENDAR